BEGIN:VCALENDAR
VERSION:2.0
PRODID:-//Restaurant Fjorden - ECPv6.15.20//NONSGML v1.0//EN
CALSCALE:GREGORIAN
METHOD:PUBLISH
X-WR-CALNAME:Restaurant Fjorden
X-ORIGINAL-URL:https://restaurant-fjorden.dk
X-WR-CALDESC:Begivenheder for Restaurant Fjorden
REFRESH-INTERVAL;VALUE=DURATION:PT1H
X-Robots-Tag:noindex
X-PUBLISHED-TTL:PT1H
BEGIN:VTIMEZONE
TZID:Europe/Copenhagen
BEGIN:DAYLIGHT
TZOFFSETFROM:+0100
TZOFFSETTO:+0200
TZNAME:CEST
DTSTART:20240331T010000
END:DAYLIGHT
BEGIN:STANDARD
TZOFFSETFROM:+0200
TZOFFSETTO:+0100
TZNAME:CET
DTSTART:20241027T010000
END:STANDARD
BEGIN:DAYLIGHT
TZOFFSETFROM:+0100
TZOFFSETTO:+0200
TZNAME:CEST
DTSTART:20250330T010000
END:DAYLIGHT
BEGIN:STANDARD
TZOFFSETFROM:+0200
TZOFFSETTO:+0100
TZNAME:CET
DTSTART:20251026T010000
END:STANDARD
BEGIN:DAYLIGHT
TZOFFSETFROM:+0100
TZOFFSETTO:+0200
TZNAME:CEST
DTSTART:20260329T010000
END:DAYLIGHT
BEGIN:STANDARD
TZOFFSETFROM:+0200
TZOFFSETTO:+0100
TZNAME:CET
DTSTART:20261025T010000
END:STANDARD
END:VTIMEZONE
BEGIN:VEVENT
DTSTART;TZID=Europe/Copenhagen:20251206T120000
DTEND;TZID=Europe/Copenhagen:20251206T160000
DTSTAMP:20260420T200825
CREATED:20251110T104202Z
LAST-MODIFIED:20251218T075901Z
UID:10000575-1765022400-1765036800@restaurant-fjorden.dk
SUMMARY:Juleplatte i huset
DESCRIPTION:Serveres fra 12:00 til 16:00\, alle åbnings dage indtil 18-12 . Minimum 2 personer. \nJuleplatte \n\nMarineret sild\nEt halvt æg med rejer\nFiskefilet med remoulade\nGrønlangkål med medister og skinke\nRis a la mande\n\nPris per person 240\,-\nKan også fås om aftenen mod forudbestilling
URL:https://restaurant-fjorden.dk/event/juleplatte-i-huset-16/2025-12-06/
LOCATION:Restaurant Fjorden\, Hestehovedet 5\, Nakskov\, 4900
ATTACH;FMTTYPE=image/jpeg:https://restaurant-fjorden.dk/wp-content/uploads/tijana-drndarski-1L4q_S1atmc-unsplash-scaled.jpg
END:VEVENT
BEGIN:VEVENT
DTSTART;TZID=Europe/Copenhagen:20251205T120000
DTEND;TZID=Europe/Copenhagen:20251205T160000
DTSTAMP:20260420T200825
CREATED:20251110T104202Z
LAST-MODIFIED:20251218T075901Z
UID:10000574-1764936000-1764950400@restaurant-fjorden.dk
SUMMARY:Juleplatte i huset
DESCRIPTION:Serveres fra 12:00 til 16:00\, alle åbnings dage indtil 18-12 . Minimum 2 personer. \nJuleplatte \n\nMarineret sild\nEt halvt æg med rejer\nFiskefilet med remoulade\nGrønlangkål med medister og skinke\nRis a la mande\n\nPris per person 240\,-\nKan også fås om aftenen mod forudbestilling
URL:https://restaurant-fjorden.dk/event/juleplatte-i-huset-16/2025-12-05/
LOCATION:Restaurant Fjorden\, Hestehovedet 5\, Nakskov\, 4900
ATTACH;FMTTYPE=image/jpeg:https://restaurant-fjorden.dk/wp-content/uploads/tijana-drndarski-1L4q_S1atmc-unsplash-scaled.jpg
END:VEVENT
BEGIN:VEVENT
DTSTART;TZID=Europe/Copenhagen:20251204T120000
DTEND;TZID=Europe/Copenhagen:20251204T160000
DTSTAMP:20260420T200825
CREATED:20251110T104202Z
LAST-MODIFIED:20251218T075901Z
UID:10000573-1764849600-1764864000@restaurant-fjorden.dk
SUMMARY:Juleplatte i huset
DESCRIPTION:Serveres fra 12:00 til 16:00\, alle åbnings dage indtil 18-12 . Minimum 2 personer. \nJuleplatte \n\nMarineret sild\nEt halvt æg med rejer\nFiskefilet med remoulade\nGrønlangkål med medister og skinke\nRis a la mande\n\nPris per person 240\,-\nKan også fås om aftenen mod forudbestilling
URL:https://restaurant-fjorden.dk/event/juleplatte-i-huset-16/2025-12-04/
LOCATION:Restaurant Fjorden\, Hestehovedet 5\, Nakskov\, 4900
ATTACH;FMTTYPE=image/jpeg:https://restaurant-fjorden.dk/wp-content/uploads/tijana-drndarski-1L4q_S1atmc-unsplash-scaled.jpg
END:VEVENT
BEGIN:VEVENT
DTSTART;TZID=Europe/Copenhagen:20251130T120000
DTEND;TZID=Europe/Copenhagen:20251130T160000
DTSTAMP:20260420T200825
CREATED:20251110T104202Z
LAST-MODIFIED:20251218T075901Z
UID:10000572-1764504000-1764518400@restaurant-fjorden.dk
SUMMARY:Juleplatte i huset
DESCRIPTION:Serveres fra 12:00 til 16:00\, alle åbnings dage indtil 18-12 . Minimum 2 personer. \nJuleplatte \n\nMarineret sild\nEt halvt æg med rejer\nFiskefilet med remoulade\nGrønlangkål med medister og skinke\nRis a la mande\n\nPris per person 240\,-\nKan også fås om aftenen mod forudbestilling
URL:https://restaurant-fjorden.dk/event/juleplatte-i-huset-16/2025-11-30/
LOCATION:Restaurant Fjorden\, Hestehovedet 5\, Nakskov\, 4900
ATTACH;FMTTYPE=image/jpeg:https://restaurant-fjorden.dk/wp-content/uploads/tijana-drndarski-1L4q_S1atmc-unsplash-scaled.jpg
END:VEVENT
BEGIN:VEVENT
DTSTART;TZID=Europe/Copenhagen:20251129T120000
DTEND;TZID=Europe/Copenhagen:20251129T160000
DTSTAMP:20260420T200825
CREATED:20251110T104202Z
LAST-MODIFIED:20251218T075901Z
UID:10000571-1764417600-1764432000@restaurant-fjorden.dk
SUMMARY:Juleplatte i huset
DESCRIPTION:Serveres fra 12:00 til 16:00\, alle åbnings dage indtil 18-12 . Minimum 2 personer. \nJuleplatte \n\nMarineret sild\nEt halvt æg med rejer\nFiskefilet med remoulade\nGrønlangkål med medister og skinke\nRis a la mande\n\nPris per person 240\,-\nKan også fås om aftenen mod forudbestilling
URL:https://restaurant-fjorden.dk/event/juleplatte-i-huset-16/2025-11-29/
LOCATION:Restaurant Fjorden\, Hestehovedet 5\, Nakskov\, 4900
ATTACH;FMTTYPE=image/jpeg:https://restaurant-fjorden.dk/wp-content/uploads/tijana-drndarski-1L4q_S1atmc-unsplash-scaled.jpg
END:VEVENT
BEGIN:VEVENT
DTSTART;TZID=Europe/Copenhagen:20251128T120000
DTEND;TZID=Europe/Copenhagen:20251128T160000
DTSTAMP:20260420T200825
CREATED:20251110T104202Z
LAST-MODIFIED:20251218T075901Z
UID:10000570-1764331200-1764345600@restaurant-fjorden.dk
SUMMARY:Juleplatte i huset
DESCRIPTION:Serveres fra 12:00 til 16:00\, alle åbnings dage indtil 18-12 . Minimum 2 personer. \nJuleplatte \n\nMarineret sild\nEt halvt æg med rejer\nFiskefilet med remoulade\nGrønlangkål med medister og skinke\nRis a la mande\n\nPris per person 240\,-\nKan også fås om aftenen mod forudbestilling
URL:https://restaurant-fjorden.dk/event/juleplatte-i-huset-16/2025-11-28/
LOCATION:Restaurant Fjorden\, Hestehovedet 5\, Nakskov\, 4900
ATTACH;FMTTYPE=image/jpeg:https://restaurant-fjorden.dk/wp-content/uploads/tijana-drndarski-1L4q_S1atmc-unsplash-scaled.jpg
END:VEVENT
BEGIN:VEVENT
DTSTART;TZID=Europe/Copenhagen:20251127T120000
DTEND;TZID=Europe/Copenhagen:20251127T160000
DTSTAMP:20260420T200825
CREATED:20251110T104202Z
LAST-MODIFIED:20251218T075901Z
UID:10000569-1764244800-1764259200@restaurant-fjorden.dk
SUMMARY:Juleplatte i huset
DESCRIPTION:Serveres fra 12:00 til 16:00\, alle åbnings dage indtil 18-12 . Minimum 2 personer. \nJuleplatte \n\nMarineret sild\nEt halvt æg med rejer\nFiskefilet med remoulade\nGrønlangkål med medister og skinke\nRis a la mande\n\nPris per person 240\,-\nKan også fås om aftenen mod forudbestilling
URL:https://restaurant-fjorden.dk/event/juleplatte-i-huset-16/2025-11-27/
LOCATION:Restaurant Fjorden\, Hestehovedet 5\, Nakskov\, 4900
ATTACH;FMTTYPE=image/jpeg:https://restaurant-fjorden.dk/wp-content/uploads/tijana-drndarski-1L4q_S1atmc-unsplash-scaled.jpg
END:VEVENT
BEGIN:VEVENT
DTSTART;TZID=Europe/Copenhagen:20251123T120000
DTEND;TZID=Europe/Copenhagen:20251123T160000
DTSTAMP:20260420T200825
CREATED:20251110T104202Z
LAST-MODIFIED:20251218T075901Z
UID:10000568-1763899200-1763913600@restaurant-fjorden.dk
SUMMARY:Juleplatte i huset
DESCRIPTION:Serveres fra 12:00 til 16:00\, alle åbnings dage indtil 18-12 . Minimum 2 personer. \nJuleplatte \n\nMarineret sild\nEt halvt æg med rejer\nFiskefilet med remoulade\nGrønlangkål med medister og skinke\nRis a la mande\n\nPris per person 240\,-\nKan også fås om aftenen mod forudbestilling
URL:https://restaurant-fjorden.dk/event/juleplatte-i-huset-16/2025-11-23/
LOCATION:Restaurant Fjorden\, Hestehovedet 5\, Nakskov\, 4900
ATTACH;FMTTYPE=image/jpeg:https://restaurant-fjorden.dk/wp-content/uploads/tijana-drndarski-1L4q_S1atmc-unsplash-scaled.jpg
END:VEVENT
BEGIN:VEVENT
DTSTART;TZID=Europe/Copenhagen:20251122T120000
DTEND;TZID=Europe/Copenhagen:20251122T160000
DTSTAMP:20260420T200825
CREATED:20251110T104202Z
LAST-MODIFIED:20251218T075901Z
UID:10000567-1763812800-1763827200@restaurant-fjorden.dk
SUMMARY:Juleplatte i huset
DESCRIPTION:Serveres fra 12:00 til 16:00\, alle åbnings dage indtil 18-12 . Minimum 2 personer. \nJuleplatte \n\nMarineret sild\nEt halvt æg med rejer\nFiskefilet med remoulade\nGrønlangkål med medister og skinke\nRis a la mande\n\nPris per person 240\,-\nKan også fås om aftenen mod forudbestilling
URL:https://restaurant-fjorden.dk/event/juleplatte-i-huset-16/2025-11-22/
LOCATION:Restaurant Fjorden\, Hestehovedet 5\, Nakskov\, 4900
ATTACH;FMTTYPE=image/jpeg:https://restaurant-fjorden.dk/wp-content/uploads/tijana-drndarski-1L4q_S1atmc-unsplash-scaled.jpg
END:VEVENT
BEGIN:VEVENT
DTSTART;TZID=Europe/Copenhagen:20251121T120000
DTEND;TZID=Europe/Copenhagen:20251121T160000
DTSTAMP:20260420T200825
CREATED:20251110T104202Z
LAST-MODIFIED:20251218T075901Z
UID:10000566-1763726400-1763740800@restaurant-fjorden.dk
SUMMARY:Juleplatte i huset
DESCRIPTION:Serveres fra 12:00 til 16:00\, alle åbnings dage indtil 18-12 . Minimum 2 personer. \nJuleplatte \n\nMarineret sild\nEt halvt æg med rejer\nFiskefilet med remoulade\nGrønlangkål med medister og skinke\nRis a la mande\n\nPris per person 240\,-\nKan også fås om aftenen mod forudbestilling
URL:https://restaurant-fjorden.dk/event/juleplatte-i-huset-16/2025-11-21/
LOCATION:Restaurant Fjorden\, Hestehovedet 5\, Nakskov\, 4900
ATTACH;FMTTYPE=image/jpeg:https://restaurant-fjorden.dk/wp-content/uploads/tijana-drndarski-1L4q_S1atmc-unsplash-scaled.jpg
END:VEVENT
BEGIN:VEVENT
DTSTART;TZID=Europe/Copenhagen:20251120T120000
DTEND;TZID=Europe/Copenhagen:20251120T160000
DTSTAMP:20260420T200825
CREATED:20251110T104202Z
LAST-MODIFIED:20251218T075901Z
UID:10000565-1763640000-1763654400@restaurant-fjorden.dk
SUMMARY:Juleplatte i huset
DESCRIPTION:Serveres fra 12:00 til 16:00\, alle åbnings dage indtil 18-12 . Minimum 2 personer. \nJuleplatte \n\nMarineret sild\nEt halvt æg med rejer\nFiskefilet med remoulade\nGrønlangkål med medister og skinke\nRis a la mande\n\nPris per person 240\,-\nKan også fås om aftenen mod forudbestilling
URL:https://restaurant-fjorden.dk/event/juleplatte-i-huset-16/2025-11-20/
LOCATION:Restaurant Fjorden\, Hestehovedet 5\, Nakskov\, 4900
ATTACH;FMTTYPE=image/jpeg:https://restaurant-fjorden.dk/wp-content/uploads/tijana-drndarski-1L4q_S1atmc-unsplash-scaled.jpg
END:VEVENT
BEGIN:VEVENT
DTSTART;TZID=Europe/Copenhagen:20251116T120000
DTEND;TZID=Europe/Copenhagen:20251116T160000
DTSTAMP:20260420T200825
CREATED:20250813T112220Z
LAST-MODIFIED:20251013T082818Z
UID:10000554-1763294400-1763308800@restaurant-fjorden.dk
SUMMARY:Senior julefrokost med LIVE musik
DESCRIPTION:Med god traditionel julemad og LIVE musik fra kl. 12:30.\nJulefrokosten starter kl. 12:00.\nSten & Jørgen Petersen står klar kl. 12:30-14:30 med Giro 413 musik.\n\n\n\n\nMarineret sild\nHjemmelavet karrysild\nFiskefile med remoulade\n1/2 æg med rejer\nTarteletter med høns og asparges \nRibbensteg med hjemmelavet rødkål\nGrønlangkål med skinke og medister\nÆbleflæsk\nOsteanretning eller ris a la mande med kirsebærsovs\n\nPris pr. person Kr. 249\,- \nForudbestilling og ex. drikkevarer \nBestil bord hér
URL:https://restaurant-fjorden.dk/event/senior-julefrokost-med-live-musik-2025/
LOCATION:Restaurant Fjorden\, Hestehovedet 5\, Nakskov\, 4900
END:VEVENT
BEGIN:VEVENT
DTSTART;TZID=Europe/Copenhagen:20251110T173000
DTEND;TZID=Europe/Copenhagen:20251110T200000
DTSTAMP:20260420T200825
CREATED:20250814T095452Z
LAST-MODIFIED:20251027T143208Z
UID:10000560-1762795800-1762804800@restaurant-fjorden.dk
SUMMARY:Mortens Aften
DESCRIPTION:Forret: Varmrøget laks med rejer dertil sauce verte \nHovedret: God gammeldags andesteg med garniture \nDessert: God gammeldags æblekage med flødeskum \n2 retter\, vælg mellem Forret & Hovedret\, eller Hovedret & Dessert – 379\,- \n3 retter – 398\,- \nBordbestilling nødvendig – klik hér for at booke
URL:https://restaurant-fjorden.dk/event/mortens-aften-2/
LOCATION:Restaurant Fjorden\, Hestehovedet 5\, Nakskov\, 4900
ATTACH;FMTTYPE=image/png:https://restaurant-fjorden.dk/wp-content/uploads/restaurant-fjorden.png
END:VEVENT
BEGIN:VEVENT
DTSTART;TZID=Europe/Copenhagen:20251023T170000
DTEND;TZID=Europe/Copenhagen:20251023T193000
DTSTAMP:20260420T200825
CREATED:20210302T140205Z
LAST-MODIFIED:20251013T082527Z
UID:10000249-1761238800-1761247800@restaurant-fjorden.dk
SUMMARY:Stegt flæsk ad libitum
DESCRIPTION:AD LIBITUM\nTORSDAGE KL. 17:00\n\n\nSTEGT FLÆSK MED HVIDE KARTOFLER PERSILLESOVS\nOG HJEMMESYLTEDE RØDBEDER. \nDerudover tilbyder vi et mini A La Carte kort\nFRA KL. 17:00.\nKR. 169\,-
URL:https://restaurant-fjorden.dk/event/stegt-flaesk-ad-libitum-2026-01-08/2025-10-23/
LOCATION:Restaurant Fjorden\, Hestehovedet 5\, Nakskov\, 4900
ATTACH;FMTTYPE=image/jpeg:https://restaurant-fjorden.dk/wp-content/uploads/IMG_20161013_182621-scaled.jpg
END:VEVENT
BEGIN:VEVENT
DTSTART;TZID=Europe/Copenhagen:20251019T103000
DTEND;TZID=Europe/Copenhagen:20251019T133000
DTSTAMP:20260420T200825
CREATED:20250813T112637Z
LAST-MODIFIED:20251013T082341Z
UID:10000555-1760869800-1760880600@restaurant-fjorden.dk
SUMMARY:Brunch Buffet
DESCRIPTION:Brunch buffet laves mod forudbestilling. \nTil brunch hører flg. med: \nRøræg\nBrunch pølser\nBacon\nHjemmelavet rullepølse\nHjemmelavet leverpostej\n2 Slags ost\n1 Slags syltetøj\nMelon og skinke\nFrikadeller med salat bowle\nGrøntsags tærte\nAmerikansk pandekage og sirup \nPris kr. 225\,-\n(Inkl. drikkevarer: 2 slags juice\, kaffe/te )
URL:https://restaurant-fjorden.dk/event/brunch-buffet/
LOCATION:Restaurant Fjorden\, Hestehovedet 5\, Nakskov\, 4900
ATTACH;FMTTYPE=image/jpeg:https://restaurant-fjorden.dk/wp-content/uploads/iStock-464943368-scaled.jpg
END:VEVENT
BEGIN:VEVENT
DTSTART;TZID=Europe/Copenhagen:20251016T170000
DTEND;TZID=Europe/Copenhagen:20251016T193000
DTSTAMP:20260420T200825
CREATED:20210302T140205Z
LAST-MODIFIED:20251013T082527Z
UID:10000248-1760634000-1760643000@restaurant-fjorden.dk
SUMMARY:Stegt flæsk ad libitum
DESCRIPTION:AD LIBITUM\nTORSDAGE KL. 17:00\n\n\nSTEGT FLÆSK MED HVIDE KARTOFLER PERSILLESOVS\nOG HJEMMESYLTEDE RØDBEDER. \nDerudover tilbyder vi et mini A La Carte kort\nFRA KL. 17:00.\nKR. 169\,-
URL:https://restaurant-fjorden.dk/event/stegt-flaesk-ad-libitum-2026-01-08/2025-10-16/
LOCATION:Restaurant Fjorden\, Hestehovedet 5\, Nakskov\, 4900
ATTACH;FMTTYPE=image/jpeg:https://restaurant-fjorden.dk/wp-content/uploads/IMG_20161013_182621-scaled.jpg
END:VEVENT
BEGIN:VEVENT
DTSTART;TZID=Europe/Copenhagen:20251012T123000
DTEND;TZID=Europe/Copenhagen:20251012T143000
DTSTAMP:20260420T200825
CREATED:20250813T111823Z
LAST-MODIFIED:20251027T143100Z
UID:10000552-1760272200-1760279400@restaurant-fjorden.dk
SUMMARY:Panic Jazz Duo
DESCRIPTION:Kom og nyd energisk jazzmusik med en tilhørende frokostplatte som serveres ved langborde.\nBook et bord 12/10-2025  i tidsrummet 12:30-14:30\, hvis du vil sikre dig en plads. \n\nDeltagelse inkl. frokostplatte koster 325\,- pr. person. \n\nPanic jazz duo udspringer fra Lolland\, som spiller god mainstreamjazz med afstikkere til højskolesangbogen. Der ligges vægt på energien i musikken og fortolkningen af alle klassikerne fra den amerikanske sangskat. Der spilles både godt svingende jazznumre\, ballader og bossa Nova. \n\nSpilleplan:\nSøndag d. 12/10-2025 i tidsrummet 12:30-14:30\nOle HedenPiano/sang\nChristian Wolff –  kontrabas
URL:https://restaurant-fjorden.dk/event/panic-jazz-duo/
LOCATION:Restaurant Fjorden\, Hestehovedet 5\, Nakskov\, 4900
ATTACH;FMTTYPE=image/jpeg:https://restaurant-fjorden.dk/wp-content/uploads/thumbnail_image2.jpg
END:VEVENT
BEGIN:VEVENT
DTSTART;TZID=Europe/Copenhagen:20251009T170000
DTEND;TZID=Europe/Copenhagen:20251009T193000
DTSTAMP:20260420T200825
CREATED:20210302T140205Z
LAST-MODIFIED:20251013T082527Z
UID:10000247-1760029200-1760038200@restaurant-fjorden.dk
SUMMARY:Stegt flæsk ad libitum
DESCRIPTION:AD LIBITUM\nTORSDAGE KL. 17:00\n\n\nSTEGT FLÆSK MED HVIDE KARTOFLER PERSILLESOVS\nOG HJEMMESYLTEDE RØDBEDER. \nDerudover tilbyder vi et mini A La Carte kort\nFRA KL. 17:00.\nKR. 169\,-
URL:https://restaurant-fjorden.dk/event/stegt-flaesk-ad-libitum-2026-01-08/2025-10-09/
LOCATION:Restaurant Fjorden\, Hestehovedet 5\, Nakskov\, 4900
ATTACH;FMTTYPE=image/jpeg:https://restaurant-fjorden.dk/wp-content/uploads/IMG_20161013_182621-scaled.jpg
END:VEVENT
BEGIN:VEVENT
DTSTART;TZID=Europe/Copenhagen:20251002T170000
DTEND;TZID=Europe/Copenhagen:20251002T193000
DTSTAMP:20260420T200825
CREATED:20210302T140205Z
LAST-MODIFIED:20251013T082527Z
UID:10000246-1759424400-1759433400@restaurant-fjorden.dk
SUMMARY:Stegt flæsk ad libitum
DESCRIPTION:AD LIBITUM\nTORSDAGE KL. 17:00\n\n\nSTEGT FLÆSK MED HVIDE KARTOFLER PERSILLESOVS\nOG HJEMMESYLTEDE RØDBEDER. \nDerudover tilbyder vi et mini A La Carte kort\nFRA KL. 17:00.\nKR. 169\,-
URL:https://restaurant-fjorden.dk/event/stegt-flaesk-ad-libitum-2026-01-08/2025-10-02/
LOCATION:Restaurant Fjorden\, Hestehovedet 5\, Nakskov\, 4900
ATTACH;FMTTYPE=image/jpeg:https://restaurant-fjorden.dk/wp-content/uploads/IMG_20161013_182621-scaled.jpg
END:VEVENT
BEGIN:VEVENT
DTSTART;TZID=Europe/Copenhagen:20250925T170000
DTEND;TZID=Europe/Copenhagen:20250925T193000
DTSTAMP:20260420T200825
CREATED:20210302T140205Z
LAST-MODIFIED:20251013T082527Z
UID:10000245-1758819600-1758828600@restaurant-fjorden.dk
SUMMARY:Stegt flæsk ad libitum
DESCRIPTION:AD LIBITUM\nTORSDAGE KL. 17:00\n\n\nSTEGT FLÆSK MED HVIDE KARTOFLER PERSILLESOVS\nOG HJEMMESYLTEDE RØDBEDER. \nDerudover tilbyder vi et mini A La Carte kort\nFRA KL. 17:00.\nKR. 169\,-
URL:https://restaurant-fjorden.dk/event/stegt-flaesk-ad-libitum-2026-01-08/2025-09-25/
LOCATION:Restaurant Fjorden\, Hestehovedet 5\, Nakskov\, 4900
ATTACH;FMTTYPE=image/jpeg:https://restaurant-fjorden.dk/wp-content/uploads/IMG_20161013_182621-scaled.jpg
END:VEVENT
BEGIN:VEVENT
DTSTART;TZID=Europe/Copenhagen:20250918T170000
DTEND;TZID=Europe/Copenhagen:20250918T193000
DTSTAMP:20260420T200825
CREATED:20210302T140205Z
LAST-MODIFIED:20251013T082527Z
UID:10000244-1758214800-1758223800@restaurant-fjorden.dk
SUMMARY:Stegt flæsk ad libitum
DESCRIPTION:AD LIBITUM\nTORSDAGE KL. 17:00\n\n\nSTEGT FLÆSK MED HVIDE KARTOFLER PERSILLESOVS\nOG HJEMMESYLTEDE RØDBEDER. \nDerudover tilbyder vi et mini A La Carte kort\nFRA KL. 17:00.\nKR. 169\,-
URL:https://restaurant-fjorden.dk/event/stegt-flaesk-ad-libitum-2026-01-08/2025-09-18/
LOCATION:Restaurant Fjorden\, Hestehovedet 5\, Nakskov\, 4900
ATTACH;FMTTYPE=image/jpeg:https://restaurant-fjorden.dk/wp-content/uploads/IMG_20161013_182621-scaled.jpg
END:VEVENT
BEGIN:VEVENT
DTSTART;TZID=Europe/Copenhagen:20250911T170000
DTEND;TZID=Europe/Copenhagen:20250911T193000
DTSTAMP:20260420T200825
CREATED:20210302T140205Z
LAST-MODIFIED:20251013T082527Z
UID:10000243-1757610000-1757619000@restaurant-fjorden.dk
SUMMARY:Stegt flæsk ad libitum
DESCRIPTION:AD LIBITUM\nTORSDAGE KL. 17:00\n\n\nSTEGT FLÆSK MED HVIDE KARTOFLER PERSILLESOVS\nOG HJEMMESYLTEDE RØDBEDER. \nDerudover tilbyder vi et mini A La Carte kort\nFRA KL. 17:00.\nKR. 169\,-
URL:https://restaurant-fjorden.dk/event/stegt-flaesk-ad-libitum-2026-01-08/2025-09-11/
LOCATION:Restaurant Fjorden\, Hestehovedet 5\, Nakskov\, 4900
ATTACH;FMTTYPE=image/jpeg:https://restaurant-fjorden.dk/wp-content/uploads/IMG_20161013_182621-scaled.jpg
END:VEVENT
BEGIN:VEVENT
DTSTART;TZID=Europe/Copenhagen:20250904T170000
DTEND;TZID=Europe/Copenhagen:20250904T193000
DTSTAMP:20260420T200825
CREATED:20210302T140205Z
LAST-MODIFIED:20251013T082527Z
UID:10000242-1757005200-1757014200@restaurant-fjorden.dk
SUMMARY:Stegt flæsk ad libitum
DESCRIPTION:AD LIBITUM\nTORSDAGE KL. 17:00\n\n\nSTEGT FLÆSK MED HVIDE KARTOFLER PERSILLESOVS\nOG HJEMMESYLTEDE RØDBEDER. \nDerudover tilbyder vi et mini A La Carte kort\nFRA KL. 17:00.\nKR. 169\,-
URL:https://restaurant-fjorden.dk/event/stegt-flaesk-ad-libitum-2026-01-08/2025-09-04/
LOCATION:Restaurant Fjorden\, Hestehovedet 5\, Nakskov\, 4900
ATTACH;FMTTYPE=image/jpeg:https://restaurant-fjorden.dk/wp-content/uploads/IMG_20161013_182621-scaled.jpg
END:VEVENT
BEGIN:VEVENT
DTSTART;TZID=Europe/Copenhagen:20250828T170000
DTEND;TZID=Europe/Copenhagen:20250828T193000
DTSTAMP:20260420T200825
CREATED:20210302T140205Z
LAST-MODIFIED:20251013T082527Z
UID:10000241-1756400400-1756409400@restaurant-fjorden.dk
SUMMARY:Stegt flæsk ad libitum
DESCRIPTION:AD LIBITUM\nTORSDAGE KL. 17:00\n\n\nSTEGT FLÆSK MED HVIDE KARTOFLER PERSILLESOVS\nOG HJEMMESYLTEDE RØDBEDER. \nDerudover tilbyder vi et mini A La Carte kort\nFRA KL. 17:00.\nKR. 169\,-
URL:https://restaurant-fjorden.dk/event/stegt-flaesk-ad-libitum-2026-01-08/2025-08-28/
LOCATION:Restaurant Fjorden\, Hestehovedet 5\, Nakskov\, 4900
ATTACH;FMTTYPE=image/jpeg:https://restaurant-fjorden.dk/wp-content/uploads/IMG_20161013_182621-scaled.jpg
END:VEVENT
BEGIN:VEVENT
DTSTART;TZID=Europe/Copenhagen:20250821T170000
DTEND;TZID=Europe/Copenhagen:20250821T193000
DTSTAMP:20260420T200825
CREATED:20210302T140205Z
LAST-MODIFIED:20251013T082527Z
UID:10000240-1755795600-1755804600@restaurant-fjorden.dk
SUMMARY:Stegt flæsk ad libitum
DESCRIPTION:AD LIBITUM\nTORSDAGE KL. 17:00\n\n\nSTEGT FLÆSK MED HVIDE KARTOFLER PERSILLESOVS\nOG HJEMMESYLTEDE RØDBEDER. \nDerudover tilbyder vi et mini A La Carte kort\nFRA KL. 17:00.\nKR. 169\,-
URL:https://restaurant-fjorden.dk/event/stegt-flaesk-ad-libitum-2026-01-08/2025-08-21/
LOCATION:Restaurant Fjorden\, Hestehovedet 5\, Nakskov\, 4900
ATTACH;FMTTYPE=image/jpeg:https://restaurant-fjorden.dk/wp-content/uploads/IMG_20161013_182621-scaled.jpg
END:VEVENT
BEGIN:VEVENT
DTSTART;TZID=Europe/Copenhagen:20250815T170000
DTEND;TZID=Europe/Copenhagen:20250815T170000
DTSTAMP:20260420T200825
CREATED:20250716T074505Z
LAST-MODIFIED:20250730T124822Z
UID:10000551-1755277200-1755277200@restaurant-fjorden.dk
SUMMARY:Grill Arrangement - Lille a la cartekort
DESCRIPTION:Grill Arrangement fra kl. 17:00\, ring allerede i dag og bestil bord \n\n3 slags kød/fisk\n3 slags salat\n2 slags kartofler\nSovs\nBrød\n\nPris pr. person 275\,- \nKun mod forudbestilling \nDessert kan tilkøbes – Banana Split – kun 75kr. pr. person
URL:https://restaurant-fjorden.dk/event/grill-arrangement-lille-a-la-cartekort/2025-08-15/
LOCATION:Restaurant Fjorden\, Hestehovedet 5\, Nakskov\, 4900
ATTACH;FMTTYPE=image/jpeg:https://restaurant-fjorden.dk/wp-content/uploads/518370635_1294069096054605_6504673133954446137_n.jpg
END:VEVENT
BEGIN:VEVENT
DTSTART;TZID=Europe/Copenhagen:20250815T160000
DTEND;TZID=Europe/Copenhagen:20250815T163000
DTSTAMP:20260420T200825
CREATED:20250516T120737Z
LAST-MODIFIED:20250814T085657Z
UID:10000491-1755273600-1755275400@restaurant-fjorden.dk
SUMMARY:Fiske Tapas - Ud af Huset
DESCRIPTION:Restaurant Fjorden tilbyder fiske tapas ud af huset hver fredag. \nMin. 2 pers. – pris pr. person 139\,- \nIndholdet i Fjordens fisketapas kan variere fra uge til uge\, og skal forudbestilles senest torsdag inden kl. 12.00 \nMinimum 2 personer.\nAfhentning fredag mellem kl. 16:00-16.30
URL:https://restaurant-fjorden.dk/event/fiske-tapas-ud-af-huset/2025-08-15/
LOCATION:Restaurant Fjorden\, Hestehovedet 5\, Nakskov\, 4900
ATTACH;FMTTYPE=image/png:https://restaurant-fjorden.dk/wp-content/uploads/restaurant-fjorden.png
END:VEVENT
BEGIN:VEVENT
DTSTART;TZID=Europe/Copenhagen:20250814T170000
DTEND;TZID=Europe/Copenhagen:20250814T193000
DTSTAMP:20260420T200825
CREATED:20210302T140205Z
LAST-MODIFIED:20251013T082527Z
UID:10000239-1755190800-1755199800@restaurant-fjorden.dk
SUMMARY:Stegt flæsk ad libitum
DESCRIPTION:AD LIBITUM\nTORSDAGE KL. 17:00\n\n\nSTEGT FLÆSK MED HVIDE KARTOFLER PERSILLESOVS\nOG HJEMMESYLTEDE RØDBEDER. \nDerudover tilbyder vi et mini A La Carte kort\nFRA KL. 17:00.\nKR. 169\,-
URL:https://restaurant-fjorden.dk/event/stegt-flaesk-ad-libitum-2026-01-08/2025-08-14/
LOCATION:Restaurant Fjorden\, Hestehovedet 5\, Nakskov\, 4900
ATTACH;FMTTYPE=image/jpeg:https://restaurant-fjorden.dk/wp-content/uploads/IMG_20161013_182621-scaled.jpg
END:VEVENT
BEGIN:VEVENT
DTSTART;TZID=Europe/Copenhagen:20250808T170000
DTEND;TZID=Europe/Copenhagen:20250808T170000
DTSTAMP:20260420T200825
CREATED:20250716T074505Z
LAST-MODIFIED:20250730T124822Z
UID:10000550-1754672400-1754672400@restaurant-fjorden.dk
SUMMARY:Grill Arrangement - Lille a la cartekort
DESCRIPTION:Grill Arrangement fra kl. 17:00\, ring allerede i dag og bestil bord \n\n3 slags kød/fisk\n3 slags salat\n2 slags kartofler\nSovs\nBrød\n\nPris pr. person 275\,- \nKun mod forudbestilling \nDessert kan tilkøbes – Banana Split – kun 75kr. pr. person
URL:https://restaurant-fjorden.dk/event/grill-arrangement-lille-a-la-cartekort/2025-08-08/
LOCATION:Restaurant Fjorden\, Hestehovedet 5\, Nakskov\, 4900
ATTACH;FMTTYPE=image/jpeg:https://restaurant-fjorden.dk/wp-content/uploads/518370635_1294069096054605_6504673133954446137_n.jpg
END:VEVENT
BEGIN:VEVENT
DTSTART;TZID=Europe/Copenhagen:20250808T160000
DTEND;TZID=Europe/Copenhagen:20250808T163000
DTSTAMP:20260420T200825
CREATED:20250516T120737Z
LAST-MODIFIED:20250814T085657Z
UID:10000490-1754668800-1754670600@restaurant-fjorden.dk
SUMMARY:Fiske Tapas - Ud af Huset
DESCRIPTION:Restaurant Fjorden tilbyder fiske tapas ud af huset hver fredag. \nMin. 2 pers. – pris pr. person 139\,- \nIndholdet i Fjordens fisketapas kan variere fra uge til uge\, og skal forudbestilles senest torsdag inden kl. 12.00 \nMinimum 2 personer.\nAfhentning fredag mellem kl. 16:00-16.30
URL:https://restaurant-fjorden.dk/event/fiske-tapas-ud-af-huset/2025-08-08/
LOCATION:Restaurant Fjorden\, Hestehovedet 5\, Nakskov\, 4900
ATTACH;FMTTYPE=image/png:https://restaurant-fjorden.dk/wp-content/uploads/restaurant-fjorden.png
END:VEVENT
END:VCALENDAR