BEGIN:VCALENDAR
VERSION:2.0
PRODID:-//Restaurant Fjorden - ECPv6.15.20//NONSGML v1.0//EN
CALSCALE:GREGORIAN
METHOD:PUBLISH
X-ORIGINAL-URL:https://restaurant-fjorden.dk
X-WR-CALDESC:Begivenheder for Restaurant Fjorden
REFRESH-INTERVAL;VALUE=DURATION:PT1H
X-Robots-Tag:noindex
X-PUBLISHED-TTL:PT1H
BEGIN:VTIMEZONE
TZID:Europe/Copenhagen
BEGIN:DAYLIGHT
TZOFFSETFROM:+0100
TZOFFSETTO:+0200
TZNAME:CEST
DTSTART:20210328T010000
END:DAYLIGHT
BEGIN:STANDARD
TZOFFSETFROM:+0200
TZOFFSETTO:+0100
TZNAME:CET
DTSTART:20211031T010000
END:STANDARD
BEGIN:DAYLIGHT
TZOFFSETFROM:+0100
TZOFFSETTO:+0200
TZNAME:CEST
DTSTART:20220327T010000
END:DAYLIGHT
BEGIN:STANDARD
TZOFFSETFROM:+0200
TZOFFSETTO:+0100
TZNAME:CET
DTSTART:20221030T010000
END:STANDARD
BEGIN:DAYLIGHT
TZOFFSETFROM:+0100
TZOFFSETTO:+0200
TZNAME:CEST
DTSTART:20230326T010000
END:DAYLIGHT
BEGIN:STANDARD
TZOFFSETFROM:+0200
TZOFFSETTO:+0100
TZNAME:CET
DTSTART:20231029T010000
END:STANDARD
BEGIN:DAYLIGHT
TZOFFSETFROM:+0100
TZOFFSETTO:+0200
TZNAME:CEST
DTSTART:20240331T010000
END:DAYLIGHT
BEGIN:STANDARD
TZOFFSETFROM:+0200
TZOFFSETTO:+0100
TZNAME:CET
DTSTART:20241027T010000
END:STANDARD
END:VTIMEZONE
BEGIN:VEVENT
DTSTART;TZID=Europe/Copenhagen:20230211T170000
DTEND;TZID=Europe/Copenhagen:20230211T190000
DTSTAMP:20260420T200841
CREATED:20230109T124449Z
LAST-MODIFIED:20230120T143719Z
UID:10000310-1676134800-1676142000@restaurant-fjorden.dk
SUMMARY:Vinter Menu
DESCRIPTION:Forret: Kartoffel/Porre suppe. \nHovedret: Carapulka med kartoffelmos eller ris. \nDessert: Hvid chokolade panna cotta. \n2 Retter 225\,- \n3 Retter 258\,-
URL:https://restaurant-fjorden.dk/event/vinter-menu/2023-02-11/
LOCATION:Restaurant Fjorden\, Hestehovedet 5\, Nakskov\, 4900
END:VEVENT
BEGIN:VEVENT
DTSTART;TZID=Europe/Copenhagen:20230210T170000
DTEND;TZID=Europe/Copenhagen:20230210T190000
DTSTAMP:20260420T200841
CREATED:20230109T124449Z
LAST-MODIFIED:20230120T143719Z
UID:10000309-1676048400-1676055600@restaurant-fjorden.dk
SUMMARY:Vinter Menu
DESCRIPTION:Forret: Kartoffel/Porre suppe. \nHovedret: Carapulka med kartoffelmos eller ris. \nDessert: Hvid chokolade panna cotta. \n2 Retter 225\,- \n3 Retter 258\,-
URL:https://restaurant-fjorden.dk/event/vinter-menu/2023-02-10/
LOCATION:Restaurant Fjorden\, Hestehovedet 5\, Nakskov\, 4900
END:VEVENT
BEGIN:VEVENT
DTSTART;TZID=Europe/Copenhagen:20230208T170000
DTEND;TZID=Europe/Copenhagen:20230208T190000
DTSTAMP:20260420T200841
CREATED:20230109T124449Z
LAST-MODIFIED:20230120T143719Z
UID:10000308-1675875600-1675882800@restaurant-fjorden.dk
SUMMARY:Vinter Menu
DESCRIPTION:Forret: Kartoffel/Porre suppe. \nHovedret: Carapulka med kartoffelmos eller ris. \nDessert: Hvid chokolade panna cotta. \n2 Retter 225\,- \n3 Retter 258\,-
URL:https://restaurant-fjorden.dk/event/vinter-menu/2023-02-08/
LOCATION:Restaurant Fjorden\, Hestehovedet 5\, Nakskov\, 4900
END:VEVENT
BEGIN:VEVENT
DTSTART;TZID=Europe/Copenhagen:20230204T170000
DTEND;TZID=Europe/Copenhagen:20230204T190000
DTSTAMP:20260420T200841
CREATED:20230109T124449Z
LAST-MODIFIED:20230120T143719Z
UID:10000307-1675530000-1675537200@restaurant-fjorden.dk
SUMMARY:Vinter Menu
DESCRIPTION:Forret: Kartoffel/Porre suppe. \nHovedret: Carapulka med kartoffelmos eller ris. \nDessert: Hvid chokolade panna cotta. \n2 Retter 225\,- \n3 Retter 258\,-
URL:https://restaurant-fjorden.dk/event/vinter-menu/2023-02-04/
LOCATION:Restaurant Fjorden\, Hestehovedet 5\, Nakskov\, 4900
END:VEVENT
BEGIN:VEVENT
DTSTART;TZID=Europe/Copenhagen:20230203T170000
DTEND;TZID=Europe/Copenhagen:20230203T190000
DTSTAMP:20260420T200841
CREATED:20230109T124449Z
LAST-MODIFIED:20230120T143719Z
UID:10000306-1675443600-1675450800@restaurant-fjorden.dk
SUMMARY:Vinter Menu
DESCRIPTION:Forret: Kartoffel/Porre suppe. \nHovedret: Carapulka med kartoffelmos eller ris. \nDessert: Hvid chokolade panna cotta. \n2 Retter 225\,- \n3 Retter 258\,-
URL:https://restaurant-fjorden.dk/event/vinter-menu/2023-02-03/
LOCATION:Restaurant Fjorden\, Hestehovedet 5\, Nakskov\, 4900
END:VEVENT
BEGIN:VEVENT
DTSTART;TZID=Europe/Copenhagen:20230201T170000
DTEND;TZID=Europe/Copenhagen:20230201T190000
DTSTAMP:20260420T200841
CREATED:20230109T124449Z
LAST-MODIFIED:20230120T143719Z
UID:10000305-1675270800-1675278000@restaurant-fjorden.dk
SUMMARY:Vinter Menu
DESCRIPTION:Forret: Kartoffel/Porre suppe. \nHovedret: Carapulka med kartoffelmos eller ris. \nDessert: Hvid chokolade panna cotta. \n2 Retter 225\,- \n3 Retter 258\,-
URL:https://restaurant-fjorden.dk/event/vinter-menu/2023-02-01/
LOCATION:Restaurant Fjorden\, Hestehovedet 5\, Nakskov\, 4900
END:VEVENT
BEGIN:VEVENT
DTSTART;TZID=Europe/Copenhagen:20230128T170000
DTEND;TZID=Europe/Copenhagen:20230128T190000
DTSTAMP:20260420T200841
CREATED:20230109T124449Z
LAST-MODIFIED:20230120T143719Z
UID:10000304-1674925200-1674932400@restaurant-fjorden.dk
SUMMARY:Vinter Menu
DESCRIPTION:Forret: Kartoffel/Porre suppe. \nHovedret: Carapulka med kartoffelmos eller ris. \nDessert: Hvid chokolade panna cotta. \n2 Retter 225\,- \n3 Retter 258\,-
URL:https://restaurant-fjorden.dk/event/vinter-menu/2023-01-28/
LOCATION:Restaurant Fjorden\, Hestehovedet 5\, Nakskov\, 4900
END:VEVENT
BEGIN:VEVENT
DTSTART;TZID=Europe/Copenhagen:20230127T170000
DTEND;TZID=Europe/Copenhagen:20230127T190000
DTSTAMP:20260420T200841
CREATED:20230109T124449Z
LAST-MODIFIED:20230120T143719Z
UID:10000303-1674838800-1674846000@restaurant-fjorden.dk
SUMMARY:Vinter Menu
DESCRIPTION:Forret: Kartoffel/Porre suppe. \nHovedret: Carapulka med kartoffelmos eller ris. \nDessert: Hvid chokolade panna cotta. \n2 Retter 225\,- \n3 Retter 258\,-
URL:https://restaurant-fjorden.dk/event/vinter-menu/2023-01-27/
LOCATION:Restaurant Fjorden\, Hestehovedet 5\, Nakskov\, 4900
END:VEVENT
BEGIN:VEVENT
DTSTART;TZID=Europe/Copenhagen:20230125T170000
DTEND;TZID=Europe/Copenhagen:20230125T190000
DTSTAMP:20260420T200841
CREATED:20230109T124449Z
LAST-MODIFIED:20230120T143719Z
UID:10000302-1674666000-1674673200@restaurant-fjorden.dk
SUMMARY:Vinter Menu
DESCRIPTION:Forret: Kartoffel/Porre suppe. \nHovedret: Carapulka med kartoffelmos eller ris. \nDessert: Hvid chokolade panna cotta. \n2 Retter 225\,- \n3 Retter 258\,-
URL:https://restaurant-fjorden.dk/event/vinter-menu/2023-01-25/
LOCATION:Restaurant Fjorden\, Hestehovedet 5\, Nakskov\, 4900
END:VEVENT
BEGIN:VEVENT
DTSTART;TZID=Europe/Copenhagen:20230121T170000
DTEND;TZID=Europe/Copenhagen:20230121T190000
DTSTAMP:20260420T200841
CREATED:20230109T124449Z
LAST-MODIFIED:20230120T143719Z
UID:10000301-1674320400-1674327600@restaurant-fjorden.dk
SUMMARY:Vinter Menu
DESCRIPTION:Forret: Kartoffel/Porre suppe. \nHovedret: Carapulka med kartoffelmos eller ris. \nDessert: Hvid chokolade panna cotta. \n2 Retter 225\,- \n3 Retter 258\,-
URL:https://restaurant-fjorden.dk/event/vinter-menu/2023-01-21/
LOCATION:Restaurant Fjorden\, Hestehovedet 5\, Nakskov\, 4900
END:VEVENT
BEGIN:VEVENT
DTSTART;TZID=Europe/Copenhagen:20230120T170000
DTEND;TZID=Europe/Copenhagen:20230120T190000
DTSTAMP:20260420T200841
CREATED:20230109T124449Z
LAST-MODIFIED:20230120T143719Z
UID:10000300-1674234000-1674241200@restaurant-fjorden.dk
SUMMARY:Vinter Menu
DESCRIPTION:Forret: Kartoffel/Porre suppe. \nHovedret: Carapulka med kartoffelmos eller ris. \nDessert: Hvid chokolade panna cotta. \n2 Retter 225\,- \n3 Retter 258\,-
URL:https://restaurant-fjorden.dk/event/vinter-menu/2023-01-20/
LOCATION:Restaurant Fjorden\, Hestehovedet 5\, Nakskov\, 4900
END:VEVENT
BEGIN:VEVENT
DTSTART;TZID=Europe/Copenhagen:20221231T110000
DTEND;TZID=Europe/Copenhagen:20221231T130000
DTSTAMP:20260420T200841
CREATED:20221107T150615Z
LAST-MODIFIED:20221123T124535Z
UID:10000297-1672484400-1672491600@restaurant-fjorden.dk
SUMMARY:Nytårs aften
DESCRIPTION:Nytårsaften er kun ud af huset til afhentning. \n  \nNytårs aften menu: \nForretter vælg mellem \n\n½ Hummer Thermidor med brød\nEller\n2 Slags Bruchetta m/serano \,tomat og agurk\nOg roustbeef\, svampe ragout og trøffel mayonaise\n\nHovedret \n\nOksefilet\nConfiterede kartofler\nFarinbagte rødløg\nGrillede græskar\nTimian gulerødder\nhertil sauce bordelaise\n\n  \nDessert \nChokoladekage m/saltet karamel og frosting chokolade \n  \n3 Retter 349\,- \n2 Retter 298\,- \n  \nHvis der vælges Hummer er der et tillæg på 50\,- per person
URL:https://restaurant-fjorden.dk/event/nytaars-aften/
LOCATION:Restaurant Fjorden\, Hestehovedet 5\, Nakskov\, 4900
ATTACH;FMTTYPE=image/jpeg:https://restaurant-fjorden.dk/wp-content/uploads/iStock-1298329918.jpg
END:VEVENT
BEGIN:VEVENT
DTSTART;TZID=Europe/Copenhagen:20221225T110000
DTEND;TZID=Europe/Copenhagen:20221225T130000
DTSTAMP:20260420T200841
CREATED:20221107T151704Z
LAST-MODIFIED:20221123T124455Z
UID:10000298-1671966000-1671973200@restaurant-fjorden.dk
SUMMARY:Julemad ud af huset til afhentning 1. juledag
DESCRIPTION:Julefrokost til afhentning 1. juledage (min. 10 kuverter)\n\n\n\n\nMarineret sild\nHjemmelavet karrysild\nFiskefile med remoulade\n1/2 æg med rejer\nFlæskesteg med hjemmelavet rødkål\nGrønlangkål med skinke og medister\nÆbleflæsk\nOsteanretning eller ris a la mande med kirsebærsovs\nEx. brød og smør\n\nPris pr. kuvert – Kr. 250\,- \n\n\n\n\n\nTilkøb\n\n\n\n\n\n\n\nHjemmelavet karrysalat – Kr. 18\,-\n\n\n\n\nHjemmelavet hønsesalat – Kr. 25\,-
URL:https://restaurant-fjorden.dk/event/julemad-ud-af-huset-til-afhentning-1-juledag/
LOCATION:Restaurant Fjorden\, Hestehovedet 5\, Nakskov\, 4900
ATTACH;FMTTYPE=image/jpeg:https://restaurant-fjorden.dk/wp-content/uploads/iStock-1179711547-scaled.jpg
END:VEVENT
BEGIN:VEVENT
DTSTART;TZID=Europe/Copenhagen:20221223T110000
DTEND;TZID=Europe/Copenhagen:20221223T130000
DTSTAMP:20260420T200841
CREATED:20221103T142705Z
LAST-MODIFIED:20221123T124505Z
UID:10000295-1671793200-1671800400@restaurant-fjorden.dk
SUMMARY:Julemad ud af huset til afhentning
DESCRIPTION:Julemad ud af huset – kan afhentes d. 23-12 2022 mellem kl. 11:00 og 13:00 \n  \nForret \nHjemmerøget laks med rejer og krydderurtecreme og brød \n  \nHovedret \nGod gammeldags andesteg med det hele \n  \nDessert \nRis a la mande med kirsebærsauce \n  \n2 retter 245\,- \n3 retter 275\,- \n  \n 
URL:https://restaurant-fjorden.dk/event/julemad-ud-af-huset-til-afhentning/
LOCATION:Restaurant Fjorden\, Hestehovedet 5\, Nakskov\, 4900
ATTACH;FMTTYPE=image/jpeg:https://restaurant-fjorden.dk/wp-content/uploads/iStock-1179711547-scaled.jpg
END:VEVENT
BEGIN:VEVENT
DTSTART;TZID=Europe/Copenhagen:20221218T120000
DTEND;TZID=Europe/Copenhagen:20221218T153000
DTSTAMP:20260420T200841
CREATED:20221003T102226Z
LAST-MODIFIED:20231026T090657Z
UID:10000291-1671364800-1671377400@restaurant-fjorden.dk
SUMMARY:Jule platte i huset
DESCRIPTION:Serveres fra 12:00 til 15:30\, alle dage indtil juleaften. Minimum 2 personer. \nForret \n\nMarineret sild\nHjemmelavet karrysild\nFiskefilet med hjemmerørt remoulade\n\n  \nHovedret \n\nGrønlangkål med tilbehør\nMørbradbøf med hjemmelavet surt\n\n  \nDessert \n\nRis a la mande med kirsebær sauce\nEller Brie med druer\n\n  \nPris per person: kr. 245\,- \n  \nForegår følgende datoer:  \n25.-27. November \nd. 30. november – 4. december \nd. 7. december – 11. december \nd. 14. december – 18. december
URL:https://restaurant-fjorden.dk/event/jule-platte-i-huset-2022-12-18/
LOCATION:Restaurant Fjorden\, Hestehovedet 5\, Nakskov\, 4900
ATTACH;FMTTYPE=image/jpeg:https://restaurant-fjorden.dk/wp-content/uploads/iStock-1179711547-scaled.jpg
END:VEVENT
BEGIN:VEVENT
DTSTART;TZID=Europe/Copenhagen:20221217T120000
DTEND;TZID=Europe/Copenhagen:20221217T153000
DTSTAMP:20260420T200841
CREATED:20221003T102226Z
LAST-MODIFIED:20231026T090706Z
UID:10000290-1671278400-1671291000@restaurant-fjorden.dk
SUMMARY:Jule platte i huset
DESCRIPTION:Serveres fra 12:00 til 15:30\, alle dage indtil juleaften. Minimum 2 personer. \nForret \n\nMarineret sild\nHjemmelavet karrysild\nFiskefilet med hjemmerørt remoulade\n\n  \nHovedret \n\nGrønlangkål med tilbehør\nMørbradbøf med hjemmelavet surt\n\n  \nDessert \n\nRis a la mande med kirsebær sauce\nEller Brie med druer\n\n  \nPris per person: kr. 245\,- \n  \nForegår følgende datoer:  \n25.-27. November \nd. 30. november – 4. december \nd. 7. december – 11. december \nd. 14. december – 18. december
URL:https://restaurant-fjorden.dk/event/jule-platte-i-huset-2022-12-17/
LOCATION:Restaurant Fjorden\, Hestehovedet 5\, Nakskov\, 4900
ATTACH;FMTTYPE=image/jpeg:https://restaurant-fjorden.dk/wp-content/uploads/iStock-1179711547-scaled.jpg
END:VEVENT
BEGIN:VEVENT
DTSTART;TZID=Europe/Copenhagen:20221216T120000
DTEND;TZID=Europe/Copenhagen:20221216T153000
DTSTAMP:20260420T200842
CREATED:20221003T102226Z
LAST-MODIFIED:20221123T124111Z
UID:10000285-1671192000-1671204600@restaurant-fjorden.dk
SUMMARY:Jule platte i huset
DESCRIPTION:Serveres fra 12:00 til 15:30\, alle dage indtil juleaften. Minimum 2 personer. \nForret \n\nMarineret sild\nHjemmelavet karrysild\nFiskefilet med hjemmerørt remoulade\n\n  \nHovedret \n\nGrønlangkål med tilbehør\nMørbradbøf med hjemmelavet surt\n\n  \nDessert \n\nRis a la mande med kirsebær sauce\nEller Brie med druer\n\n  \nPris per person: kr. 245\,- \n  \nForegår følgende datoer:  \n25.-27. November \nd. 30. november – 4. december \nd. 7. december – 11. december \nd. 14. december – 18. december
URL:https://restaurant-fjorden.dk/event/jule-platte-i-huset/2022-12-16/
LOCATION:Restaurant Fjorden\, Hestehovedet 5\, Nakskov\, 4900
ATTACH;FMTTYPE=image/jpeg:https://restaurant-fjorden.dk/wp-content/uploads/iStock-1179711547-scaled.jpg
END:VEVENT
BEGIN:VEVENT
DTSTART;TZID=Europe/Copenhagen:20221216T120000
DTEND;TZID=Europe/Copenhagen:20221216T153000
DTSTAMP:20260420T200842
CREATED:20221003T102226Z
LAST-MODIFIED:20231026T090708Z
UID:10000293-1671192000-1671204600@restaurant-fjorden.dk
SUMMARY:Jule platte i huset
DESCRIPTION:Serveres fra 12:00 til 15:30\, alle dage indtil juleaften. Minimum 2 personer. \nForret \n\nMarineret sild\nHjemmelavet karrysild\nFiskefilet med hjemmerørt remoulade\n\n  \nHovedret \n\nGrønlangkål med tilbehør\nMørbradbøf med hjemmelavet surt\n\n  \nDessert \n\nRis a la mande med kirsebær sauce\nEller Brie med druer\n\n  \nPris per person: kr. 245\,- \n  \nForegår følgende datoer:  \n25.-27. November \nd. 30. november – 4. december \nd. 7. december – 11. december \nd. 14. december – 18. december
URL:https://restaurant-fjorden.dk/event/jule-platte-i-huset-2022-12-16/
LOCATION:Restaurant Fjorden\, Hestehovedet 5\, Nakskov\, 4900
ATTACH;FMTTYPE=image/jpeg:https://restaurant-fjorden.dk/wp-content/uploads/iStock-1179711547-scaled.jpg
END:VEVENT
BEGIN:VEVENT
DTSTART;TZID=Europe/Copenhagen:20221215T120000
DTEND;TZID=Europe/Copenhagen:20221215T153000
DTSTAMP:20260420T200842
CREATED:20221003T102226Z
LAST-MODIFIED:20231026T090710Z
UID:10000289-1671105600-1671118200@restaurant-fjorden.dk
SUMMARY:Jule platte i huset
DESCRIPTION:Serveres fra 12:00 til 15:30\, alle dage indtil juleaften. Minimum 2 personer. \nForret \n\nMarineret sild\nHjemmelavet karrysild\nFiskefilet med hjemmerørt remoulade\n\n  \nHovedret \n\nGrønlangkål med tilbehør\nMørbradbøf med hjemmelavet surt\n\n  \nDessert \n\nRis a la mande med kirsebær sauce\nEller Brie med druer\n\n  \nPris per person: kr. 245\,- \n  \nForegår følgende datoer:  \n25.-27. November \nd. 30. november – 4. december \nd. 7. december – 11. december \nd. 14. december – 18. december
URL:https://restaurant-fjorden.dk/event/jule-platte-i-huset-2022-12-15/
LOCATION:Restaurant Fjorden\, Hestehovedet 5\, Nakskov\, 4900
ATTACH;FMTTYPE=image/jpeg:https://restaurant-fjorden.dk/wp-content/uploads/iStock-1179711547-scaled.jpg
END:VEVENT
BEGIN:VEVENT
DTSTART;TZID=Europe/Copenhagen:20221214T120000
DTEND;TZID=Europe/Copenhagen:20221214T153000
DTSTAMP:20260420T200842
CREATED:20221003T102226Z
LAST-MODIFIED:20231026T090712Z
UID:10000288-1671019200-1671031800@restaurant-fjorden.dk
SUMMARY:Jule platte i huset
DESCRIPTION:Serveres fra 12:00 til 15:30\, alle dage indtil juleaften. Minimum 2 personer. \nForret \n\nMarineret sild\nHjemmelavet karrysild\nFiskefilet med hjemmerørt remoulade\n\n  \nHovedret \n\nGrønlangkål med tilbehør\nMørbradbøf med hjemmelavet surt\n\n  \nDessert \n\nRis a la mande med kirsebær sauce\nEller Brie med druer\n\n  \nPris per person: kr. 245\,- \n  \nForegår følgende datoer:  \n25.-27. November \nd. 30. november – 4. december \nd. 7. december – 11. december \nd. 14. december – 18. december
URL:https://restaurant-fjorden.dk/event/jule-platte-i-huset-2022-12-14/
LOCATION:Restaurant Fjorden\, Hestehovedet 5\, Nakskov\, 4900
ATTACH;FMTTYPE=image/jpeg:https://restaurant-fjorden.dk/wp-content/uploads/iStock-1179711547-scaled.jpg
END:VEVENT
BEGIN:VEVENT
DTSTART;TZID=Europe/Copenhagen:20221211T120000
DTEND;TZID=Europe/Copenhagen:20221211T153000
DTSTAMP:20260420T200842
CREATED:20221003T102226Z
LAST-MODIFIED:20231026T090741Z
UID:10000287-1670760000-1670772600@restaurant-fjorden.dk
SUMMARY:Jule platte i huset
DESCRIPTION:Serveres fra 12:00 til 15:30\, alle dage indtil juleaften. Minimum 2 personer. \nForret \n\nMarineret sild\nHjemmelavet karrysild\nFiskefilet med hjemmerørt remoulade\n\n  \nHovedret \n\nGrønlangkål med tilbehør\nMørbradbøf med hjemmelavet surt\n\n  \nDessert \n\nRis a la mande med kirsebær sauce\nEller Brie med druer\n\n  \nPris per person: kr. 245\,- \n  \nForegår følgende datoer:  \n25.-27. November \nd. 30. november – 4. december \nd. 7. december – 11. december \nd. 14. december – 18. december
URL:https://restaurant-fjorden.dk/event/jule-platte-i-huset-2022-12-11/
LOCATION:Restaurant Fjorden\, Hestehovedet 5\, Nakskov\, 4900
ATTACH;FMTTYPE=image/jpeg:https://restaurant-fjorden.dk/wp-content/uploads/iStock-1179711547-scaled.jpg
END:VEVENT
BEGIN:VEVENT
DTSTART;TZID=Europe/Copenhagen:20221210T120000
DTEND;TZID=Europe/Copenhagen:20221210T153000
DTSTAMP:20260420T200842
CREATED:20221003T102226Z
LAST-MODIFIED:20231026T090742Z
UID:10000286-1670673600-1670686200@restaurant-fjorden.dk
SUMMARY:Jule platte i huset
DESCRIPTION:Serveres fra 12:00 til 15:30\, alle dage indtil juleaften. Minimum 2 personer. \nForret \n\nMarineret sild\nHjemmelavet karrysild\nFiskefilet med hjemmerørt remoulade\n\n  \nHovedret \n\nGrønlangkål med tilbehør\nMørbradbøf med hjemmelavet surt\n\n  \nDessert \n\nRis a la mande med kirsebær sauce\nEller Brie med druer\n\n  \nPris per person: kr. 245\,- \n  \nForegår følgende datoer:  \n25.-27. November \nd. 30. november – 4. december \nd. 7. december – 11. december \nd. 14. december – 18. december
URL:https://restaurant-fjorden.dk/event/jule-platte-i-huset-2022-12-10/
LOCATION:Restaurant Fjorden\, Hestehovedet 5\, Nakskov\, 4900
ATTACH;FMTTYPE=image/jpeg:https://restaurant-fjorden.dk/wp-content/uploads/iStock-1179711547-scaled.jpg
END:VEVENT
BEGIN:VEVENT
DTSTART;TZID=Europe/Copenhagen:20221209T120000
DTEND;TZID=Europe/Copenhagen:20221209T153000
DTSTAMP:20260420T200842
CREATED:20221003T102226Z
LAST-MODIFIED:20231026T090743Z
UID:10000292-1670587200-1670599800@restaurant-fjorden.dk
SUMMARY:Jule platte i huset
DESCRIPTION:Serveres fra 12:00 til 15:30\, alle dage indtil juleaften. Minimum 2 personer. \nForret \n\nMarineret sild\nHjemmelavet karrysild\nFiskefilet med hjemmerørt remoulade\n\n  \nHovedret \n\nGrønlangkål med tilbehør\nMørbradbøf med hjemmelavet surt\n\n  \nDessert \n\nRis a la mande med kirsebær sauce\nEller Brie med druer\n\n  \nPris per person: kr. 245\,- \n  \nForegår følgende datoer:  \n25.-27. November \nd. 30. november – 4. december \nd. 7. december – 11. december \nd. 14. december – 18. december
URL:https://restaurant-fjorden.dk/event/jule-platte-i-huset-2022-12-09/
LOCATION:Restaurant Fjorden\, Hestehovedet 5\, Nakskov\, 4900
ATTACH;FMTTYPE=image/jpeg:https://restaurant-fjorden.dk/wp-content/uploads/iStock-1179711547-scaled.jpg
END:VEVENT
BEGIN:VEVENT
DTSTART;TZID=Europe/Copenhagen:20221208T120000
DTEND;TZID=Europe/Copenhagen:20221208T153000
DTSTAMP:20260420T200842
CREATED:20221003T102226Z
LAST-MODIFIED:20221123T124111Z
UID:10000284-1670500800-1670513400@restaurant-fjorden.dk
SUMMARY:Jule platte i huset
DESCRIPTION:Serveres fra 12:00 til 15:30\, alle dage indtil juleaften. Minimum 2 personer. \nForret \n\nMarineret sild\nHjemmelavet karrysild\nFiskefilet med hjemmerørt remoulade\n\n  \nHovedret \n\nGrønlangkål med tilbehør\nMørbradbøf med hjemmelavet surt\n\n  \nDessert \n\nRis a la mande med kirsebær sauce\nEller Brie med druer\n\n  \nPris per person: kr. 245\,- \n  \nForegår følgende datoer:  \n25.-27. November \nd. 30. november – 4. december \nd. 7. december – 11. december \nd. 14. december – 18. december
URL:https://restaurant-fjorden.dk/event/jule-platte-i-huset/2022-12-08/
LOCATION:Restaurant Fjorden\, Hestehovedet 5\, Nakskov\, 4900
ATTACH;FMTTYPE=image/jpeg:https://restaurant-fjorden.dk/wp-content/uploads/iStock-1179711547-scaled.jpg
END:VEVENT
BEGIN:VEVENT
DTSTART;TZID=Europe/Copenhagen:20221207T120000
DTEND;TZID=Europe/Copenhagen:20221207T153000
DTSTAMP:20260420T200842
CREATED:20221003T102226Z
LAST-MODIFIED:20221123T124111Z
UID:10000283-1670414400-1670427000@restaurant-fjorden.dk
SUMMARY:Jule platte i huset
DESCRIPTION:Serveres fra 12:00 til 15:30\, alle dage indtil juleaften. Minimum 2 personer. \nForret \n\nMarineret sild\nHjemmelavet karrysild\nFiskefilet med hjemmerørt remoulade\n\n  \nHovedret \n\nGrønlangkål med tilbehør\nMørbradbøf med hjemmelavet surt\n\n  \nDessert \n\nRis a la mande med kirsebær sauce\nEller Brie med druer\n\n  \nPris per person: kr. 245\,- \n  \nForegår følgende datoer:  \n25.-27. November \nd. 30. november – 4. december \nd. 7. december – 11. december \nd. 14. december – 18. december
URL:https://restaurant-fjorden.dk/event/jule-platte-i-huset/2022-12-07/
LOCATION:Restaurant Fjorden\, Hestehovedet 5\, Nakskov\, 4900
ATTACH;FMTTYPE=image/jpeg:https://restaurant-fjorden.dk/wp-content/uploads/iStock-1179711547-scaled.jpg
END:VEVENT
BEGIN:VEVENT
DTSTART;TZID=Europe/Copenhagen:20221204T120000
DTEND;TZID=Europe/Copenhagen:20221204T153000
DTSTAMP:20260420T200842
CREATED:20221003T102226Z
LAST-MODIFIED:20221123T124111Z
UID:10000282-1670155200-1670167800@restaurant-fjorden.dk
SUMMARY:Jule platte i huset
DESCRIPTION:Serveres fra 12:00 til 15:30\, alle dage indtil juleaften. Minimum 2 personer. \nForret \n\nMarineret sild\nHjemmelavet karrysild\nFiskefilet med hjemmerørt remoulade\n\n  \nHovedret \n\nGrønlangkål med tilbehør\nMørbradbøf med hjemmelavet surt\n\n  \nDessert \n\nRis a la mande med kirsebær sauce\nEller Brie med druer\n\n  \nPris per person: kr. 245\,- \n  \nForegår følgende datoer:  \n25.-27. November \nd. 30. november – 4. december \nd. 7. december – 11. december \nd. 14. december – 18. december
URL:https://restaurant-fjorden.dk/event/jule-platte-i-huset/2022-12-04/
LOCATION:Restaurant Fjorden\, Hestehovedet 5\, Nakskov\, 4900
ATTACH;FMTTYPE=image/jpeg:https://restaurant-fjorden.dk/wp-content/uploads/iStock-1179711547-scaled.jpg
END:VEVENT
BEGIN:VEVENT
DTSTART;TZID=Europe/Copenhagen:20221203T120000
DTEND;TZID=Europe/Copenhagen:20221203T153000
DTSTAMP:20260420T200842
CREATED:20221003T102226Z
LAST-MODIFIED:20221123T124111Z
UID:10000281-1670068800-1670081400@restaurant-fjorden.dk
SUMMARY:Jule platte i huset
DESCRIPTION:Serveres fra 12:00 til 15:30\, alle dage indtil juleaften. Minimum 2 personer. \nForret \n\nMarineret sild\nHjemmelavet karrysild\nFiskefilet med hjemmerørt remoulade\n\n  \nHovedret \n\nGrønlangkål med tilbehør\nMørbradbøf med hjemmelavet surt\n\n  \nDessert \n\nRis a la mande med kirsebær sauce\nEller Brie med druer\n\n  \nPris per person: kr. 245\,- \n  \nForegår følgende datoer:  \n25.-27. November \nd. 30. november – 4. december \nd. 7. december – 11. december \nd. 14. december – 18. december
URL:https://restaurant-fjorden.dk/event/jule-platte-i-huset/2022-12-03/
LOCATION:Restaurant Fjorden\, Hestehovedet 5\, Nakskov\, 4900
ATTACH;FMTTYPE=image/jpeg:https://restaurant-fjorden.dk/wp-content/uploads/iStock-1179711547-scaled.jpg
END:VEVENT
BEGIN:VEVENT
DTSTART;TZID=Europe/Copenhagen:20221202T120000
DTEND;TZID=Europe/Copenhagen:20221202T153000
DTSTAMP:20260420T200842
CREATED:20221003T102226Z
LAST-MODIFIED:20221123T124111Z
UID:10000280-1669982400-1669995000@restaurant-fjorden.dk
SUMMARY:Jule platte i huset
DESCRIPTION:Serveres fra 12:00 til 15:30\, alle dage indtil juleaften. Minimum 2 personer. \nForret \n\nMarineret sild\nHjemmelavet karrysild\nFiskefilet med hjemmerørt remoulade\n\n  \nHovedret \n\nGrønlangkål med tilbehør\nMørbradbøf med hjemmelavet surt\n\n  \nDessert \n\nRis a la mande med kirsebær sauce\nEller Brie med druer\n\n  \nPris per person: kr. 245\,- \n  \nForegår følgende datoer:  \n25.-27. November \nd. 30. november – 4. december \nd. 7. december – 11. december \nd. 14. december – 18. december
URL:https://restaurant-fjorden.dk/event/jule-platte-i-huset/2022-12-02/
LOCATION:Restaurant Fjorden\, Hestehovedet 5\, Nakskov\, 4900
ATTACH;FMTTYPE=image/jpeg:https://restaurant-fjorden.dk/wp-content/uploads/iStock-1179711547-scaled.jpg
END:VEVENT
BEGIN:VEVENT
DTSTART;TZID=Europe/Copenhagen:20221201T120000
DTEND;TZID=Europe/Copenhagen:20221201T153000
DTSTAMP:20260420T200842
CREATED:20221003T102226Z
LAST-MODIFIED:20221123T124111Z
UID:10000279-1669896000-1669908600@restaurant-fjorden.dk
SUMMARY:Jule platte i huset
DESCRIPTION:Serveres fra 12:00 til 15:30\, alle dage indtil juleaften. Minimum 2 personer. \nForret \n\nMarineret sild\nHjemmelavet karrysild\nFiskefilet med hjemmerørt remoulade\n\n  \nHovedret \n\nGrønlangkål med tilbehør\nMørbradbøf med hjemmelavet surt\n\n  \nDessert \n\nRis a la mande med kirsebær sauce\nEller Brie med druer\n\n  \nPris per person: kr. 245\,- \n  \nForegår følgende datoer:  \n25.-27. November \nd. 30. november – 4. december \nd. 7. december – 11. december \nd. 14. december – 18. december
URL:https://restaurant-fjorden.dk/event/jule-platte-i-huset/2022-12-01/
LOCATION:Restaurant Fjorden\, Hestehovedet 5\, Nakskov\, 4900
ATTACH;FMTTYPE=image/jpeg:https://restaurant-fjorden.dk/wp-content/uploads/iStock-1179711547-scaled.jpg
END:VEVENT
BEGIN:VEVENT
DTSTART;TZID=Europe/Copenhagen:20221130T120000
DTEND;TZID=Europe/Copenhagen:20221130T153000
DTSTAMP:20260420T200842
CREATED:20221003T102226Z
LAST-MODIFIED:20221123T124111Z
UID:10000278-1669809600-1669822200@restaurant-fjorden.dk
SUMMARY:Jule platte i huset
DESCRIPTION:Serveres fra 12:00 til 15:30\, alle dage indtil juleaften. Minimum 2 personer. \nForret \n\nMarineret sild\nHjemmelavet karrysild\nFiskefilet med hjemmerørt remoulade\n\n  \nHovedret \n\nGrønlangkål med tilbehør\nMørbradbøf med hjemmelavet surt\n\n  \nDessert \n\nRis a la mande med kirsebær sauce\nEller Brie med druer\n\n  \nPris per person: kr. 245\,- \n  \nForegår følgende datoer:  \n25.-27. November \nd. 30. november – 4. december \nd. 7. december – 11. december \nd. 14. december – 18. december
URL:https://restaurant-fjorden.dk/event/jule-platte-i-huset/2022-11-30/
LOCATION:Restaurant Fjorden\, Hestehovedet 5\, Nakskov\, 4900
ATTACH;FMTTYPE=image/jpeg:https://restaurant-fjorden.dk/wp-content/uploads/iStock-1179711547-scaled.jpg
END:VEVENT
END:VCALENDAR