BEGIN:VCALENDAR
VERSION:2.0
PRODID:-//Restaurant Fjorden - ECPv6.15.20//NONSGML v1.0//EN
CALSCALE:GREGORIAN
METHOD:PUBLISH
X-ORIGINAL-URL:https://restaurant-fjorden.dk
X-WR-CALDESC:Begivenheder for Restaurant Fjorden
REFRESH-INTERVAL;VALUE=DURATION:PT1H
X-Robots-Tag:noindex
X-PUBLISHED-TTL:PT1H
BEGIN:VTIMEZONE
TZID:Europe/Copenhagen
BEGIN:DAYLIGHT
TZOFFSETFROM:+0100
TZOFFSETTO:+0200
TZNAME:CEST
DTSTART:20220327T010000
END:DAYLIGHT
BEGIN:STANDARD
TZOFFSETFROM:+0200
TZOFFSETTO:+0100
TZNAME:CET
DTSTART:20221030T010000
END:STANDARD
BEGIN:DAYLIGHT
TZOFFSETFROM:+0100
TZOFFSETTO:+0200
TZNAME:CEST
DTSTART:20230326T010000
END:DAYLIGHT
BEGIN:STANDARD
TZOFFSETFROM:+0200
TZOFFSETTO:+0100
TZNAME:CET
DTSTART:20231029T010000
END:STANDARD
BEGIN:DAYLIGHT
TZOFFSETFROM:+0100
TZOFFSETTO:+0200
TZNAME:CEST
DTSTART:20240331T010000
END:DAYLIGHT
BEGIN:STANDARD
TZOFFSETFROM:+0200
TZOFFSETTO:+0100
TZNAME:CET
DTSTART:20241027T010000
END:STANDARD
END:VTIMEZONE
BEGIN:VEVENT
DTSTART;TZID=Europe/Copenhagen:20231125T180000
DTEND;TZID=Europe/Copenhagen:20231125T230000
DTSTAMP:20260420T182216
CREATED:20231025T075742Z
LAST-MODIFIED:20231025T075742Z
UID:10000344-1700935200-1700953200@restaurant-fjorden.dk
SUMMARY:Julebuffet med live musik
DESCRIPTION:D. 25/11 spiller DJ. Daniel Blak \nD. 2/12 spiller Thomas Hoby \nJulebuffeten er med mad\, fri øl\, vand\, vin\, kaffe\, spiritus og natmad. \nPris pr. person ……………………………………………………………………………………………………..Kr. 849\,-
URL:https://restaurant-fjorden.dk/event/julebuffet-med-live-musik/2023-11-25/
LOCATION:Restaurant Fjorden\, Hestehovedet 5\, Nakskov\, 4900
END:VEVENT
BEGIN:VEVENT
DTSTART;TZID=Europe/Copenhagen:20231124T170000
DTEND;TZID=Europe/Copenhagen:20231124T200000
DTSTAMP:20260420T182216
CREATED:20231025T074454Z
LAST-MODIFIED:20231025T075411Z
UID:10000343-1700845200-1700856000@restaurant-fjorden.dk
SUMMARY:Family Day
DESCRIPTION:Forret : Lakseterrin m/rejer\, asparges\, kaviar\, ristet spinat\, lime samt sauce vert. \nHovedret : Helstegt oksefilet\, serveres m/årstidens grønt\, pommes frites\, hjemmelavet bearnaisesauce. (Spis hvad du kan) \nØnskes dessert\, vælges der fra menukortet \n2 Retter……………………………………………………………………………………………………..Kr. 298\,- \nSamt Børnebuffet og legehjørne \n 
URL:https://restaurant-fjorden.dk/event/family-day/2023-11-24/
LOCATION:Restaurant Fjorden\, Hestehovedet 5\, Nakskov\, 4900
END:VEVENT
BEGIN:VEVENT
DTSTART;TZID=Europe/Copenhagen:20231117T170000
DTEND;TZID=Europe/Copenhagen:20231117T200000
DTSTAMP:20260420T182216
CREATED:20231025T074454Z
LAST-MODIFIED:20231025T075411Z
UID:10000342-1700240400-1700251200@restaurant-fjorden.dk
SUMMARY:Family Day
DESCRIPTION:Forret : Lakseterrin m/rejer\, asparges\, kaviar\, ristet spinat\, lime samt sauce vert. \nHovedret : Helstegt oksefilet\, serveres m/årstidens grønt\, pommes frites\, hjemmelavet bearnaisesauce. (Spis hvad du kan) \nØnskes dessert\, vælges der fra menukortet \n2 Retter……………………………………………………………………………………………………..Kr. 298\,- \nSamt Børnebuffet og legehjørne \n 
URL:https://restaurant-fjorden.dk/event/family-day/2023-11-17/
LOCATION:Restaurant Fjorden\, Hestehovedet 5\, Nakskov\, 4900
END:VEVENT
BEGIN:VEVENT
DTSTART;TZID=Europe/Copenhagen:20231110T170000
DTEND;TZID=Europe/Copenhagen:20231110T200000
DTSTAMP:20260420T182216
CREATED:20211004T102023Z
LAST-MODIFIED:20231026T082202Z
UID:10000254-1699635600-1699646400@restaurant-fjorden.dk
SUMMARY:Mortens Aften
DESCRIPTION:Forret : Lakseterrin m/rejer\, asparges\, kaviar\, ristet spinat\, lime samt sauce vert. \nHovedret : God gammeldags andesteg med hjemmelavet rødkål\, brunede kartofler o.s.v \nDessert : God gammeldags æblekage med flødeskum el. panna cotta \n2 Retter……………………………………………………………………………………………………..Kr. 319\,- \n3 Retter……………………………………………………………………………………………………..Kr. 349\,- \nBordbestilling nødvendig – book her \n 
URL:https://restaurant-fjorden.dk/event/mortens-aften/
LOCATION:Restaurant Fjorden\, Hestehovedet 5\, Nakskov\, 4900
END:VEVENT
BEGIN:VEVENT
DTSTART;TZID=Europe/Copenhagen:20231103T170000
DTEND;TZID=Europe/Copenhagen:20231103T200000
DTSTAMP:20260420T182216
CREATED:20231025T074454Z
LAST-MODIFIED:20231025T075411Z
UID:10000341-1699030800-1699041600@restaurant-fjorden.dk
SUMMARY:Family Day
DESCRIPTION:Forret : Lakseterrin m/rejer\, asparges\, kaviar\, ristet spinat\, lime samt sauce vert. \nHovedret : Helstegt oksefilet\, serveres m/årstidens grønt\, pommes frites\, hjemmelavet bearnaisesauce. (Spis hvad du kan) \nØnskes dessert\, vælges der fra menukortet \n2 Retter……………………………………………………………………………………………………..Kr. 298\,- \nSamt Børnebuffet og legehjørne \n 
URL:https://restaurant-fjorden.dk/event/family-day/2023-11-03/
LOCATION:Restaurant Fjorden\, Hestehovedet 5\, Nakskov\, 4900
END:VEVENT
BEGIN:VEVENT
DTSTART;TZID=Europe/Copenhagen:20231028T170000
DTEND;TZID=Europe/Copenhagen:20231028T200000
DTSTAMP:20260420T182216
CREATED:20231026T092349Z
LAST-MODIFIED:20231026T092349Z
UID:10000349-1698512400-1698523200@restaurant-fjorden.dk
SUMMARY:HALLOWEEN PÅ FJORDEN
DESCRIPTION:Fredag d. 27/10 og Lørdag d. 28/10 fra kl. 17:00\n\n\n\nMenu:\n\n\nHjemmelavet Lakseterrin\n\n\nAnrettes m/rejer\, asparges\, kaviar\, ristet spinat\, lime samt sauce vert.\nHertil hjemmebagt brød.\n\n\n\n\n\nShare Food af Kalvefilet \n\n\nServeret m/ristede svampe og urter\, ovnbagte græskar og rødbeder\, grov fritter\, chili mayo og hjemmelavet sauce bearnaise.\n\n\n\n\n\nPassions og Mango Panna Cotta \n\n\nToppet m/glaseret marengs.\n\n\n\n\n\n2 Retter: Kr. 309\,-\n3 Retter: Kr. 349\,-\n\n\nKun mod forudbestilling.
URL:https://restaurant-fjorden.dk/event/halloween-paa-fjorden-2/
LOCATION:Restaurant Fjorden\, Hestehovedet 5\, Nakskov\, 4900
END:VEVENT
BEGIN:VEVENT
DTSTART;TZID=Europe/Copenhagen:20231027T170000
DTEND;TZID=Europe/Copenhagen:20231027T200000
DTSTAMP:20260420T182216
CREATED:20231026T092316Z
LAST-MODIFIED:20231026T092316Z
UID:10000348-1698426000-1698436800@restaurant-fjorden.dk
SUMMARY:HALLOWEEN PÅ FJORDEN
DESCRIPTION:Fredag d. 27/10 og Lørdag d. 28/10 fra kl. 17:00\n\n\n\nMenu:\n\n\nHjemmelavet Lakseterrin\n\n\nAnrettes m/rejer\, asparges\, kaviar\, ristet spinat\, lime samt sauce vert.\nHertil hjemmebagt brød.\n\n\n\n\n\nShare Food af Kalvefilet \n\n\nServeret m/ristede svampe og urter\, ovnbagte græskar og rødbeder\, grov fritter\, chili mayo og hjemmelavet sauce bearnaise.\n\n\n\n\n\nPassions og Mango Panna Cotta \n\n\nToppet m/glaseret marengs.\n\n\n\n\n\n2 Retter: Kr. 309\,-\n3 Retter: Kr. 349\,-\n\n\nKun mod forudbestilling.
URL:https://restaurant-fjorden.dk/event/halloween-paa-fjorden/
LOCATION:Restaurant Fjorden\, Hestehovedet 5\, Nakskov\, 4900
END:VEVENT
BEGIN:VEVENT
DTSTART;TZID=Europe/Copenhagen:20230623T170000
DTEND;TZID=Europe/Copenhagen:20230623T220000
DTSTAMP:20260420T182216
CREATED:20230615T132139Z
LAST-MODIFIED:20230616T070909Z
UID:10000340-1687539600-1687557600@restaurant-fjorden.dk
SUMMARY:Sankt Hans Aften 2023
DESCRIPTION:Kom til Sankt Hans Aften fredag d. 23 fra kl. 17:00\nStor lækker grill buffet fra kl. 17:00\n3 Slags kød \n2 slags kartofler \n3 slags salater \nBrød o.s.v. \n  \nBuffet kr. 249\,- per person
URL:https://restaurant-fjorden.dk/event/sankt-hans-grill-buffet-2023/
LOCATION:Restaurant Fjorden\, Hestehovedet 5\, Nakskov\, 4900
ATTACH;FMTTYPE=image/jpeg:https://restaurant-fjorden.dk/wp-content/uploads/matt-palmer-_A__BvXp67Y-unsplash-scaled-e1686836207647.jpg
END:VEVENT
BEGIN:VEVENT
DTSTART;TZID=Europe/Copenhagen:20230514T170000
DTEND;TZID=Europe/Copenhagen:20230514T190000
DTSTAMP:20260420T182216
CREATED:20230315T125104Z
LAST-MODIFIED:20230501T103039Z
UID:10000339-1684083600-1684090800@restaurant-fjorden.dk
SUMMARY:Mors dag
DESCRIPTION:Kom og vær med til at fejre mors dag hos Restaurant Fjorden d. 14 Maj. \nPå dagen tilbydes vores Maj menu som ses her: \nForret: Asparges m. sauce musselin. Hvide asparges med rejer \nHoved: Helstegt kalvefilet m. sauce Choron. Årstidens garniture\nDessert: Saltet karamel Chokoladekage \nPris per person \n2 retter kr. 328\,-\n3 retter kr. 365\,- \nKun mod forudbestilling fra kl. 17:00
URL:https://restaurant-fjorden.dk/event/mors-dag-2023/
LOCATION:Restaurant Fjorden\, Hestehovedet 5\, Nakskov\, 4900
END:VEVENT
BEGIN:VEVENT
DTSTART;TZID=Europe/Copenhagen:20230409T120000
DTEND;TZID=Europe/Copenhagen:20230409T190000
DTSTAMP:20260420T182216
CREATED:20230227T082033Z
LAST-MODIFIED:20230227T082033Z
UID:10000336-1681041600-1681066800@restaurant-fjorden.dk
SUMMARY:Påske buffet
DESCRIPTION:Påskebuffet skærtorsdag\, langfredag og påskedag fra kl. 12:00 \n\nMarineret sild med karry salat\nStegte rugmelssild\nFiskefilet med remoulade\n1/2 æg med rejer\nVarmrøget kalkunbryst\nMarineret nakkefilet\nTarteletter med høns i asparges\nLammeculotte med timian og hvidløg\n3 slags ost\nRabarber trifli\nOreo crunch\nForskelligt brød og pesto\n\n\nMod forudbestilling \nPris pr. person 218\,- \nBørn under 11 år 98\,- \nEkskl. Drikkevarer
URL:https://restaurant-fjorden.dk/event/paaske-buffet/2023-04-09/
LOCATION:Restaurant Fjorden\, Hestehovedet 5\, Nakskov\, 4900
END:VEVENT
BEGIN:VEVENT
DTSTART;TZID=Europe/Copenhagen:20230407T120000
DTEND;TZID=Europe/Copenhagen:20230407T190000
DTSTAMP:20260420T182216
CREATED:20230227T082033Z
LAST-MODIFIED:20230227T082033Z
UID:10000335-1680868800-1680894000@restaurant-fjorden.dk
SUMMARY:Påske buffet
DESCRIPTION:Påskebuffet skærtorsdag\, langfredag og påskedag fra kl. 12:00 \n\nMarineret sild med karry salat\nStegte rugmelssild\nFiskefilet med remoulade\n1/2 æg med rejer\nVarmrøget kalkunbryst\nMarineret nakkefilet\nTarteletter med høns i asparges\nLammeculotte med timian og hvidløg\n3 slags ost\nRabarber trifli\nOreo crunch\nForskelligt brød og pesto\n\n\nMod forudbestilling \nPris pr. person 218\,- \nBørn under 11 år 98\,- \nEkskl. Drikkevarer
URL:https://restaurant-fjorden.dk/event/paaske-buffet/2023-04-07/
LOCATION:Restaurant Fjorden\, Hestehovedet 5\, Nakskov\, 4900
END:VEVENT
BEGIN:VEVENT
DTSTART;TZID=Europe/Copenhagen:20230406T120000
DTEND;TZID=Europe/Copenhagen:20230406T190000
DTSTAMP:20260420T182216
CREATED:20230227T082033Z
LAST-MODIFIED:20230227T082033Z
UID:10000334-1680782400-1680807600@restaurant-fjorden.dk
SUMMARY:Påske buffet
DESCRIPTION:Påskebuffet skærtorsdag\, langfredag og påskedag fra kl. 12:00 \n\nMarineret sild med karry salat\nStegte rugmelssild\nFiskefilet med remoulade\n1/2 æg med rejer\nVarmrøget kalkunbryst\nMarineret nakkefilet\nTarteletter med høns i asparges\nLammeculotte med timian og hvidløg\n3 slags ost\nRabarber trifli\nOreo crunch\nForskelligt brød og pesto\n\n\nMod forudbestilling \nPris pr. person 218\,- \nBørn under 11 år 98\,- \nEkskl. Drikkevarer
URL:https://restaurant-fjorden.dk/event/paaske-buffet/2023-04-06/
LOCATION:Restaurant Fjorden\, Hestehovedet 5\, Nakskov\, 4900
END:VEVENT
BEGIN:VEVENT
DTSTART;TZID=Europe/Copenhagen:20230331T170000
DTEND;TZID=Europe/Copenhagen:20230331T190000
DTSTAMP:20260420T182216
CREATED:20230109T124449Z
LAST-MODIFIED:20230120T143719Z
UID:10000330-1680282000-1680289200@restaurant-fjorden.dk
SUMMARY:Vinter Menu
DESCRIPTION:Forret: Kartoffel/Porre suppe. \nHovedret: Carapulka med kartoffelmos eller ris. \nDessert: Hvid chokolade panna cotta. \n2 Retter 225\,- \n3 Retter 258\,-
URL:https://restaurant-fjorden.dk/event/vinter-menu/2023-03-31/
LOCATION:Restaurant Fjorden\, Hestehovedet 5\, Nakskov\, 4900
END:VEVENT
BEGIN:VEVENT
DTSTART;TZID=Europe/Copenhagen:20230329T170000
DTEND;TZID=Europe/Copenhagen:20230329T190000
DTSTAMP:20260420T182216
CREATED:20230109T124449Z
LAST-MODIFIED:20230120T143719Z
UID:10000329-1680109200-1680116400@restaurant-fjorden.dk
SUMMARY:Vinter Menu
DESCRIPTION:Forret: Kartoffel/Porre suppe. \nHovedret: Carapulka med kartoffelmos eller ris. \nDessert: Hvid chokolade panna cotta. \n2 Retter 225\,- \n3 Retter 258\,-
URL:https://restaurant-fjorden.dk/event/vinter-menu/2023-03-29/
LOCATION:Restaurant Fjorden\, Hestehovedet 5\, Nakskov\, 4900
END:VEVENT
BEGIN:VEVENT
DTSTART;TZID=Europe/Copenhagen:20230325T170000
DTEND;TZID=Europe/Copenhagen:20230325T190000
DTSTAMP:20260420T182216
CREATED:20230109T124449Z
LAST-MODIFIED:20230120T143719Z
UID:10000328-1679763600-1679770800@restaurant-fjorden.dk
SUMMARY:Vinter Menu
DESCRIPTION:Forret: Kartoffel/Porre suppe. \nHovedret: Carapulka med kartoffelmos eller ris. \nDessert: Hvid chokolade panna cotta. \n2 Retter 225\,- \n3 Retter 258\,-
URL:https://restaurant-fjorden.dk/event/vinter-menu/2023-03-25/
LOCATION:Restaurant Fjorden\, Hestehovedet 5\, Nakskov\, 4900
END:VEVENT
BEGIN:VEVENT
DTSTART;TZID=Europe/Copenhagen:20230324T180000
DTEND;TZID=Europe/Copenhagen:20230324T210000
DTSTAMP:20260420T182216
CREATED:20230224T150726Z
LAST-MODIFIED:20230224T150819Z
UID:10000333-1679680800-1679691600@restaurant-fjorden.dk
SUMMARY:Romsmagning på Restaurant Fjorden
DESCRIPTION:Kom og oplev en fantastisk romsmagning på Restaurant Fjorden! Vi inviterer dig til at tilbringe en hyggelig aften sammen med Michael Gullits fra 2010\, som vil guide dig gennem en smagsoplevelse af 7 forskellige søde rom fra det anerkendte mærke A.H.Riise\, herunder flagskibet Non Plus Ultra. A.H.Riise er opkaldt efter Albert Heinrich Riise\, der var apoteker på Skt. Thomas i perioden 1838-1878\, da Danmark havde herredømmet over de Vestindiske Øer. \nVi har også sammensat en lækker charcuterie\, som inkluderer et udvalg af specialpølser og oste\, der vil supplere din romoplevelse. Arrangementet finder sted fredag d. 24 Marts kl. 18\, og prisen er 398\,- pr. person\, som skal betales ved bestilling af billetter. Vi har et begrænset antal pladser\, så skynd dig at bestille dine billetter nu! \nBemærk\, hvis du ønsker at bestille fra vores a la carte-menu\, bedes du komme kl. 17. Vi ser frem til at byde dig velkommen på Restaurant Fjorden til en uforglemmelig aften med fantastisk rom og lækker charcuterie! \nPrisen for arrangementet er 398\,- pr. person og arrangementet starter kl. 18 d. 24 marts.
URL:https://restaurant-fjorden.dk/event/romsmagning-paa-restaurant-fjorden/
LOCATION:Restaurant Fjorden\, Hestehovedet 5\, Nakskov\, 4900
END:VEVENT
BEGIN:VEVENT
DTSTART;TZID=Europe/Copenhagen:20230324T170000
DTEND;TZID=Europe/Copenhagen:20230324T190000
DTSTAMP:20260420T182216
CREATED:20230109T124449Z
LAST-MODIFIED:20230120T143719Z
UID:10000327-1679677200-1679684400@restaurant-fjorden.dk
SUMMARY:Vinter Menu
DESCRIPTION:Forret: Kartoffel/Porre suppe. \nHovedret: Carapulka med kartoffelmos eller ris. \nDessert: Hvid chokolade panna cotta. \n2 Retter 225\,- \n3 Retter 258\,-
URL:https://restaurant-fjorden.dk/event/vinter-menu/2023-03-24/
LOCATION:Restaurant Fjorden\, Hestehovedet 5\, Nakskov\, 4900
END:VEVENT
BEGIN:VEVENT
DTSTART;TZID=Europe/Copenhagen:20230322T170000
DTEND;TZID=Europe/Copenhagen:20230322T190000
DTSTAMP:20260420T182216
CREATED:20230109T124449Z
LAST-MODIFIED:20230120T143719Z
UID:10000326-1679504400-1679511600@restaurant-fjorden.dk
SUMMARY:Vinter Menu
DESCRIPTION:Forret: Kartoffel/Porre suppe. \nHovedret: Carapulka med kartoffelmos eller ris. \nDessert: Hvid chokolade panna cotta. \n2 Retter 225\,- \n3 Retter 258\,-
URL:https://restaurant-fjorden.dk/event/vinter-menu/2023-03-22/
LOCATION:Restaurant Fjorden\, Hestehovedet 5\, Nakskov\, 4900
END:VEVENT
BEGIN:VEVENT
DTSTART;TZID=Europe/Copenhagen:20230318T170000
DTEND;TZID=Europe/Copenhagen:20230318T190000
DTSTAMP:20260420T182216
CREATED:20230109T124449Z
LAST-MODIFIED:20230120T143719Z
UID:10000325-1679158800-1679166000@restaurant-fjorden.dk
SUMMARY:Vinter Menu
DESCRIPTION:Forret: Kartoffel/Porre suppe. \nHovedret: Carapulka med kartoffelmos eller ris. \nDessert: Hvid chokolade panna cotta. \n2 Retter 225\,- \n3 Retter 258\,-
URL:https://restaurant-fjorden.dk/event/vinter-menu/2023-03-18/
LOCATION:Restaurant Fjorden\, Hestehovedet 5\, Nakskov\, 4900
END:VEVENT
BEGIN:VEVENT
DTSTART;TZID=Europe/Copenhagen:20230317T170000
DTEND;TZID=Europe/Copenhagen:20230317T190000
DTSTAMP:20260420T182216
CREATED:20230306T144026Z
LAST-MODIFIED:20230306T144056Z
UID:10000338-1679072400-1679079600@restaurant-fjorden.dk
SUMMARY:Flambering v. bordene
DESCRIPTION:Mod forudbestilling\nFlamberet peberbøf med\ngarniture kr. 285\,-\nCrepe Suzette kr. 125\,-
URL:https://restaurant-fjorden.dk/event/flambering-v-bordene/2023-03-17/
LOCATION:Restaurant Fjorden\, Hestehovedet 5\, Nakskov\, 4900
END:VEVENT
BEGIN:VEVENT
DTSTART;TZID=Europe/Copenhagen:20230317T170000
DTEND;TZID=Europe/Copenhagen:20230317T190000
DTSTAMP:20260420T182216
CREATED:20230109T124449Z
LAST-MODIFIED:20230120T143719Z
UID:10000324-1679072400-1679079600@restaurant-fjorden.dk
SUMMARY:Vinter Menu
DESCRIPTION:Forret: Kartoffel/Porre suppe. \nHovedret: Carapulka med kartoffelmos eller ris. \nDessert: Hvid chokolade panna cotta. \n2 Retter 225\,- \n3 Retter 258\,-
URL:https://restaurant-fjorden.dk/event/vinter-menu/2023-03-17/
LOCATION:Restaurant Fjorden\, Hestehovedet 5\, Nakskov\, 4900
END:VEVENT
BEGIN:VEVENT
DTSTART;TZID=Europe/Copenhagen:20230315T170000
DTEND;TZID=Europe/Copenhagen:20230315T190000
DTSTAMP:20260420T182216
CREATED:20230109T124449Z
LAST-MODIFIED:20230120T143719Z
UID:10000323-1678899600-1678906800@restaurant-fjorden.dk
SUMMARY:Vinter Menu
DESCRIPTION:Forret: Kartoffel/Porre suppe. \nHovedret: Carapulka med kartoffelmos eller ris. \nDessert: Hvid chokolade panna cotta. \n2 Retter 225\,- \n3 Retter 258\,-
URL:https://restaurant-fjorden.dk/event/vinter-menu/2023-03-15/
LOCATION:Restaurant Fjorden\, Hestehovedet 5\, Nakskov\, 4900
END:VEVENT
BEGIN:VEVENT
DTSTART;TZID=Europe/Copenhagen:20230311T170000
DTEND;TZID=Europe/Copenhagen:20230311T190000
DTSTAMP:20260420T182216
CREATED:20230109T124449Z
LAST-MODIFIED:20230120T143719Z
UID:10000322-1678554000-1678561200@restaurant-fjorden.dk
SUMMARY:Vinter Menu
DESCRIPTION:Forret: Kartoffel/Porre suppe. \nHovedret: Carapulka med kartoffelmos eller ris. \nDessert: Hvid chokolade panna cotta. \n2 Retter 225\,- \n3 Retter 258\,-
URL:https://restaurant-fjorden.dk/event/vinter-menu/2023-03-11/
LOCATION:Restaurant Fjorden\, Hestehovedet 5\, Nakskov\, 4900
END:VEVENT
BEGIN:VEVENT
DTSTART;TZID=Europe/Copenhagen:20230310T170000
DTEND;TZID=Europe/Copenhagen:20230310T190000
DTSTAMP:20260420T182216
CREATED:20230306T144026Z
LAST-MODIFIED:20230306T144056Z
UID:10000337-1678467600-1678474800@restaurant-fjorden.dk
SUMMARY:Flambering v. bordene
DESCRIPTION:Mod forudbestilling\nFlamberet peberbøf med\ngarniture kr. 285\,-\nCrepe Suzette kr. 125\,-
URL:https://restaurant-fjorden.dk/event/flambering-v-bordene/2023-03-10/
LOCATION:Restaurant Fjorden\, Hestehovedet 5\, Nakskov\, 4900
END:VEVENT
BEGIN:VEVENT
DTSTART;TZID=Europe/Copenhagen:20230310T170000
DTEND;TZID=Europe/Copenhagen:20230310T190000
DTSTAMP:20260420T182216
CREATED:20230109T124449Z
LAST-MODIFIED:20230120T143719Z
UID:10000321-1678467600-1678474800@restaurant-fjorden.dk
SUMMARY:Vinter Menu
DESCRIPTION:Forret: Kartoffel/Porre suppe. \nHovedret: Carapulka med kartoffelmos eller ris. \nDessert: Hvid chokolade panna cotta. \n2 Retter 225\,- \n3 Retter 258\,-
URL:https://restaurant-fjorden.dk/event/vinter-menu/2023-03-10/
LOCATION:Restaurant Fjorden\, Hestehovedet 5\, Nakskov\, 4900
END:VEVENT
BEGIN:VEVENT
DTSTART;TZID=Europe/Copenhagen:20230308T170000
DTEND;TZID=Europe/Copenhagen:20230308T190000
DTSTAMP:20260420T182216
CREATED:20230109T124449Z
LAST-MODIFIED:20230120T143719Z
UID:10000320-1678294800-1678302000@restaurant-fjorden.dk
SUMMARY:Vinter Menu
DESCRIPTION:Forret: Kartoffel/Porre suppe. \nHovedret: Carapulka med kartoffelmos eller ris. \nDessert: Hvid chokolade panna cotta. \n2 Retter 225\,- \n3 Retter 258\,-
URL:https://restaurant-fjorden.dk/event/vinter-menu/2023-03-08/
LOCATION:Restaurant Fjorden\, Hestehovedet 5\, Nakskov\, 4900
END:VEVENT
BEGIN:VEVENT
DTSTART;TZID=Europe/Copenhagen:20230304T170000
DTEND;TZID=Europe/Copenhagen:20230304T190000
DTSTAMP:20260420T182216
CREATED:20230109T124449Z
LAST-MODIFIED:20230120T143719Z
UID:10000319-1677949200-1677956400@restaurant-fjorden.dk
SUMMARY:Vinter Menu
DESCRIPTION:Forret: Kartoffel/Porre suppe. \nHovedret: Carapulka med kartoffelmos eller ris. \nDessert: Hvid chokolade panna cotta. \n2 Retter 225\,- \n3 Retter 258\,-
URL:https://restaurant-fjorden.dk/event/vinter-menu/2023-03-04/
LOCATION:Restaurant Fjorden\, Hestehovedet 5\, Nakskov\, 4900
END:VEVENT
BEGIN:VEVENT
DTSTART;TZID=Europe/Copenhagen:20230303T170000
DTEND;TZID=Europe/Copenhagen:20230303T190000
DTSTAMP:20260420T182216
CREATED:20230109T124449Z
LAST-MODIFIED:20230120T143719Z
UID:10000318-1677862800-1677870000@restaurant-fjorden.dk
SUMMARY:Vinter Menu
DESCRIPTION:Forret: Kartoffel/Porre suppe. \nHovedret: Carapulka med kartoffelmos eller ris. \nDessert: Hvid chokolade panna cotta. \n2 Retter 225\,- \n3 Retter 258\,-
URL:https://restaurant-fjorden.dk/event/vinter-menu/2023-03-03/
LOCATION:Restaurant Fjorden\, Hestehovedet 5\, Nakskov\, 4900
END:VEVENT
BEGIN:VEVENT
DTSTART;TZID=Europe/Copenhagen:20230301T170000
DTEND;TZID=Europe/Copenhagen:20230301T190000
DTSTAMP:20260420T182216
CREATED:20230109T124449Z
LAST-MODIFIED:20230120T143719Z
UID:10000317-1677690000-1677697200@restaurant-fjorden.dk
SUMMARY:Vinter Menu
DESCRIPTION:Forret: Kartoffel/Porre suppe. \nHovedret: Carapulka med kartoffelmos eller ris. \nDessert: Hvid chokolade panna cotta. \n2 Retter 225\,- \n3 Retter 258\,-
URL:https://restaurant-fjorden.dk/event/vinter-menu/2023-03-01/
LOCATION:Restaurant Fjorden\, Hestehovedet 5\, Nakskov\, 4900
END:VEVENT
BEGIN:VEVENT
DTSTART;TZID=Europe/Copenhagen:20230225T170000
DTEND;TZID=Europe/Copenhagen:20230225T190000
DTSTAMP:20260420T182216
CREATED:20230109T124449Z
LAST-MODIFIED:20230120T143719Z
UID:10000316-1677344400-1677351600@restaurant-fjorden.dk
SUMMARY:Vinter Menu
DESCRIPTION:Forret: Kartoffel/Porre suppe. \nHovedret: Carapulka med kartoffelmos eller ris. \nDessert: Hvid chokolade panna cotta. \n2 Retter 225\,- \n3 Retter 258\,-
URL:https://restaurant-fjorden.dk/event/vinter-menu/2023-02-25/
LOCATION:Restaurant Fjorden\, Hestehovedet 5\, Nakskov\, 4900
END:VEVENT
END:VCALENDAR