BEGIN:VCALENDAR
VERSION:2.0
PRODID:-//Restaurant Fjorden - ECPv6.15.20//NONSGML v1.0//EN
CALSCALE:GREGORIAN
METHOD:PUBLISH
X-ORIGINAL-URL:https://restaurant-fjorden.dk
X-WR-CALDESC:Begivenheder for Restaurant Fjorden
REFRESH-INTERVAL;VALUE=DURATION:PT1H
X-Robots-Tag:noindex
X-PUBLISHED-TTL:PT1H
BEGIN:VTIMEZONE
TZID:Europe/Copenhagen
BEGIN:DAYLIGHT
TZOFFSETFROM:+0100
TZOFFSETTO:+0200
TZNAME:CEST
DTSTART:20230326T010000
END:DAYLIGHT
BEGIN:STANDARD
TZOFFSETFROM:+0200
TZOFFSETTO:+0100
TZNAME:CET
DTSTART:20231029T010000
END:STANDARD
BEGIN:DAYLIGHT
TZOFFSETFROM:+0100
TZOFFSETTO:+0200
TZNAME:CEST
DTSTART:20240331T010000
END:DAYLIGHT
BEGIN:STANDARD
TZOFFSETFROM:+0200
TZOFFSETTO:+0100
TZNAME:CET
DTSTART:20241027T010000
END:STANDARD
BEGIN:DAYLIGHT
TZOFFSETFROM:+0100
TZOFFSETTO:+0200
TZNAME:CEST
DTSTART:20250330T010000
END:DAYLIGHT
BEGIN:STANDARD
TZOFFSETFROM:+0200
TZOFFSETTO:+0100
TZNAME:CET
DTSTART:20251026T010000
END:STANDARD
BEGIN:DAYLIGHT
TZOFFSETFROM:+0100
TZOFFSETTO:+0200
TZNAME:CEST
DTSTART:20260329T010000
END:DAYLIGHT
BEGIN:STANDARD
TZOFFSETFROM:+0200
TZOFFSETTO:+0100
TZNAME:CET
DTSTART:20261025T010000
END:STANDARD
END:VTIMEZONE
BEGIN:VEVENT
DTSTART;TZID=Europe/Copenhagen:20250209T103000
DTEND;TZID=Europe/Copenhagen:20250209T130000
DTSTAMP:20260421T010245
CREATED:20221108T090159Z
LAST-MODIFIED:20250127T115213Z
UID:10000299-1739097000-1739106000@restaurant-fjorden.dk
SUMMARY:Weekend Brunch
DESCRIPTION:Weekend Brunch tallerken laves mod forudbestilling. \nTil brunch hører flg. med: \nRøræg\nBrunch pølser\nBacon\nHjemmelavet rullepølse\nHjemmelavet leverpostej\n2 Slags ost\n1 Slags syltetøj\nMelon og skinke\nFrikadeller med salat bowle\nGrøntsags tærte\nAmerikansk pandekage og sirup\nOg meget mere. \nDertil rugbrød og lyst brød. \nPris kr. 198\,-\n(Inkl. drikkevarer: 2 slags juice\, kaffe/te samt alm. vand ad libitum)
URL:https://restaurant-fjorden.dk/event/weekend-brunch/
LOCATION:Restaurant Fjorden\, Hestehovedet 5\, Nakskov\, 4900
ATTACH;FMTTYPE=image/jpeg:https://restaurant-fjorden.dk/wp-content/uploads/iStock-464943368-scaled.jpg
END:VEVENT
BEGIN:VEVENT
DTSTART;TZID=Europe/Copenhagen:20250206T170000
DTEND;TZID=Europe/Copenhagen:20250206T193000
DTSTAMP:20260421T010245
CREATED:20210302T140205Z
LAST-MODIFIED:20251013T082527Z
UID:10000212-1738861200-1738870200@restaurant-fjorden.dk
SUMMARY:Stegt flæsk ad libitum
DESCRIPTION:AD LIBITUM\nTORSDAGE KL. 17:00\n\n\nSTEGT FLÆSK MED HVIDE KARTOFLER PERSILLESOVS\nOG HJEMMESYLTEDE RØDBEDER. \nDerudover tilbyder vi et mini A La Carte kort\nFRA KL. 17:00.\nKR. 169\,-
URL:https://restaurant-fjorden.dk/event/stegt-flaesk-ad-libitum-2026-01-08/2025-02-06/
LOCATION:Restaurant Fjorden\, Hestehovedet 5\, Nakskov\, 4900
ATTACH;FMTTYPE=image/jpeg:https://restaurant-fjorden.dk/wp-content/uploads/IMG_20161013_182621-scaled.jpg
END:VEVENT
BEGIN:VEVENT
DTSTART;TZID=Europe/Copenhagen:20250130T170000
DTEND;TZID=Europe/Copenhagen:20250130T193000
DTSTAMP:20260421T010245
CREATED:20210302T140205Z
LAST-MODIFIED:20251013T082527Z
UID:10000211-1738256400-1738265400@restaurant-fjorden.dk
SUMMARY:Stegt flæsk ad libitum
DESCRIPTION:AD LIBITUM\nTORSDAGE KL. 17:00\n\n\nSTEGT FLÆSK MED HVIDE KARTOFLER PERSILLESOVS\nOG HJEMMESYLTEDE RØDBEDER. \nDerudover tilbyder vi et mini A La Carte kort\nFRA KL. 17:00.\nKR. 169\,-
URL:https://restaurant-fjorden.dk/event/stegt-flaesk-ad-libitum-2026-01-08/2025-01-30/
LOCATION:Restaurant Fjorden\, Hestehovedet 5\, Nakskov\, 4900
ATTACH;FMTTYPE=image/jpeg:https://restaurant-fjorden.dk/wp-content/uploads/IMG_20161013_182621-scaled.jpg
END:VEVENT
BEGIN:VEVENT
DTSTART;TZID=Europe/Copenhagen:20241231T110000
DTEND;TZID=Europe/Copenhagen:20241231T130000
DTSTAMP:20260421T010245
CREATED:20241122T114324Z
LAST-MODIFIED:20241122T114324Z
UID:10000376-1735642800-1735650000@restaurant-fjorden.dk
SUMMARY:Nytårs Aften - til afhentning
DESCRIPTION:Nytårsaften er kun ud af huset til afhentning. \nNytårs aften menu: \nForretter vælg mellem \n\nHjemmerøget laks med rejer og krebs anrettet lige til at sætte på tallerken – dertil sauce verte og maltbrød\nSpinatroulade med kylling og bacon\n\nHovedret \n\nHelstegt Oksemørbrad med farinbagte rødløg\, bagte rodfrugter\, kartoffel rissole m/italienske krydder urter og svampesauce\n\nDessert \n\nTallerken med havtorn cheesecake\, mandelkage og syltede bær\n\n  \n2 Retter 375\,- (pr. person) \n3 Retter 398\,- (pr. person) \n  \nVegetarisk nytårs menu \nBruchetta med cherrytomat og rødløg \nJordskokke suppe med linser \nSvampebøf med stegte kartofler\, bagte rodfrugter\, vintersalat \nVegansk chokoladekage \n  \nPr. person kr. 398\,-
URL:https://restaurant-fjorden.dk/event/nytaars-aften-2024/
LOCATION:Restaurant Fjorden\, Hestehovedet 5\, Nakskov\, 4900
ATTACH;FMTTYPE=image/jpeg:https://restaurant-fjorden.dk/wp-content/uploads/roven-images-HxeBUWUiA1A-unsplash-scaled.jpg
END:VEVENT
BEGIN:VEVENT
DTSTART;TZID=Europe/Copenhagen:20241226T120000
DTEND;TZID=Europe/Copenhagen:20241226T160000
DTSTAMP:20260421T010245
CREATED:20241031T131314Z
LAST-MODIFIED:20241031T131314Z
UID:10000374-1735214400-1735228800@restaurant-fjorden.dk
SUMMARY:Julefrokost 2. juledag
DESCRIPTION:Julefrokost i huset 2. juledag\n\n\n\n\nMarineret sild\nHjemmelavet karrysild\nFiskefile med remoulade\n1/2 æg med rejer\nFlæskesteg med hjemmelavet rødkål\nGrønlangkål med skinke og medister\nÆbleflæsk\nOsteanretning eller ris a la mande med kirsebærsovs\nEx. brød og smør\n\nPris pr. kuvert – Kr. 249\,- \n  \n\n\n\n\n\nTilkøb\n\n\n\n\n\n\n\nHjemmelavet karrysalat – Kr. 18\,-\n\n\n\n\nHjemmelavet hønsesalat – Kr. 25\,-
URL:https://restaurant-fjorden.dk/event/julefrokost-2-juledag/
LOCATION:Restaurant Fjorden\, Hestehovedet 5\, Nakskov\, 4900
ATTACH;FMTTYPE=image/jpeg:https://restaurant-fjorden.dk/wp-content/uploads/iStock-1179711547-scaled.jpg
END:VEVENT
BEGIN:VEVENT
DTSTART;TZID=Europe/Copenhagen:20241223T110000
DTEND;TZID=Europe/Copenhagen:20241223T130000
DTSTAMP:20260421T010245
CREATED:20231026T091532Z
LAST-MODIFIED:20240930T133203Z
UID:10000346-1734951600-1734958800@restaurant-fjorden.dk
SUMMARY:Julemiddagen til afhentning
DESCRIPTION:(Mulighed for afhentning af julemiddagen den 23/12) mellem 11.00 og 13.00\n\n\n\n\n\nHjemmerøget laks med rejer og sauce verte\nGod gammeldags andesteg med garniture\nRis a la mande med kirsebærsauce\n2 Retter 238\,-\n3 Retter 265\,-\nKun mod forudbestilling\n\nKræver ikke minimumsbestilling
URL:https://restaurant-fjorden.dk/event/julefrokost-ud-af-huset-til-afhentning/
LOCATION:Restaurant Fjorden\, Hestehovedet 5\, Nakskov\, 4900
END:VEVENT
BEGIN:VEVENT
DTSTART;TZID=Europe/Copenhagen:20241220T120000
DTEND;TZID=Europe/Copenhagen:20241220T153000
DTSTAMP:20260421T010245
CREATED:20241122T174411Z
LAST-MODIFIED:20241122T174411Z
UID:10000391-1734696000-1734708600@restaurant-fjorden.dk
SUMMARY:Juleplatte i huset
DESCRIPTION:Serveres fra 12:00 til 15:30\, alle åbnings dage indtil 21-12 . Minimum 2 personer. \nJuleplatte \n\n1 slags sild\nFiskefilet med remoulade\nRøget laks med sauce verte\nGrønlangkål med medister og skinke\nÆbleflæsk\nConfiteret and med rødkål\nRis a la mande med kirsebær sauce\nEller brie med druer\n\nPris per person 298\,-\nKan også fås om aftenen mod forudbestilling
URL:https://restaurant-fjorden.dk/event/juleplatte-i-huset-15/
LOCATION:Restaurant Fjorden\, Hestehovedet 5\, Nakskov\, 4900
ATTACH;FMTTYPE=image/jpeg:https://restaurant-fjorden.dk/wp-content/uploads/Juleplatte-Fjorden-2024.jpg
END:VEVENT
BEGIN:VEVENT
DTSTART;TZID=Europe/Copenhagen:20241219T120000
DTEND;TZID=Europe/Copenhagen:20241219T153000
DTSTAMP:20260421T010245
CREATED:20241122T174331Z
LAST-MODIFIED:20241122T174334Z
UID:10000390-1734609600-1734622200@restaurant-fjorden.dk
SUMMARY:Juleplatte i huset
DESCRIPTION:Serveres fra 12:00 til 15:30\, alle åbnings dage indtil 21-12 . Minimum 2 personer. \nJuleplatte \n\n1 slags sild\nFiskefilet med remoulade\nRøget laks med sauce verte\nGrønlangkål med medister og skinke\nÆbleflæsk\nConfiteret and med rødkål\nRis a la mande med kirsebær sauce\nEller brie med druer\n\nPris per person 298\,-\nKan også fås om aftenen mod forudbestilling
URL:https://restaurant-fjorden.dk/event/juleplatte-i-huset-14/
LOCATION:Restaurant Fjorden\, Hestehovedet 5\, Nakskov\, 4900
ATTACH;FMTTYPE=image/jpeg:https://restaurant-fjorden.dk/wp-content/uploads/Juleplatte-Fjorden-2024.jpg
END:VEVENT
BEGIN:VEVENT
DTSTART;TZID=Europe/Copenhagen:20241215T120000
DTEND;TZID=Europe/Copenhagen:20241215T153000
DTSTAMP:20260421T010245
CREATED:20241122T174252Z
LAST-MODIFIED:20241122T174252Z
UID:10000389-1734264000-1734276600@restaurant-fjorden.dk
SUMMARY:Juleplatte i huset
DESCRIPTION:Serveres fra 12:00 til 15:30\, alle åbnings dage indtil 21-12 . Minimum 2 personer. \nJuleplatte \n\n1 slags sild\nFiskefilet med remoulade\nRøget laks med sauce verte\nGrønlangkål med medister og skinke\nÆbleflæsk\nConfiteret and med rødkål\nRis a la mande med kirsebær sauce\nEller brie med druer\n\nPris per person 298\,-\nKan også fås om aftenen mod forudbestilling
URL:https://restaurant-fjorden.dk/event/juleplatte-i-huset-13/
LOCATION:Restaurant Fjorden\, Hestehovedet 5\, Nakskov\, 4900
ATTACH;FMTTYPE=image/jpeg:https://restaurant-fjorden.dk/wp-content/uploads/Juleplatte-Fjorden-2024.jpg
END:VEVENT
BEGIN:VEVENT
DTSTART;TZID=Europe/Copenhagen:20241214T120000
DTEND;TZID=Europe/Copenhagen:20241214T153000
DTSTAMP:20260421T010245
CREATED:20241122T174210Z
LAST-MODIFIED:20241122T174210Z
UID:10000388-1734177600-1734190200@restaurant-fjorden.dk
SUMMARY:Juleplatte i huset
DESCRIPTION:Serveres fra 12:00 til 15:30\, alle åbnings dage indtil 21-12 . Minimum 2 personer. \nJuleplatte \n\n1 slags sild\nFiskefilet med remoulade\nRøget laks med sauce verte\nGrønlangkål med medister og skinke\nÆbleflæsk\nConfiteret and med rødkål\nRis a la mande med kirsebær sauce\nEller brie med druer\n\nPris per person 298\,-\nKan også fås om aftenen mod forudbestilling
URL:https://restaurant-fjorden.dk/event/juleplatte-i-huset-12/
LOCATION:Restaurant Fjorden\, Hestehovedet 5\, Nakskov\, 4900
ATTACH;FMTTYPE=image/jpeg:https://restaurant-fjorden.dk/wp-content/uploads/Juleplatte-Fjorden-2024.jpg
END:VEVENT
BEGIN:VEVENT
DTSTART;TZID=Europe/Copenhagen:20241213T120000
DTEND;TZID=Europe/Copenhagen:20241213T153000
DTSTAMP:20260421T010245
CREATED:20241122T174132Z
LAST-MODIFIED:20241122T174132Z
UID:10000387-1734091200-1734103800@restaurant-fjorden.dk
SUMMARY:Juleplatte i huset
DESCRIPTION:Serveres fra 12:00 til 15:30\, alle åbnings dage indtil 21-12 . Minimum 2 personer. \nJuleplatte \n\n1 slags sild\nFiskefilet med remoulade\nRøget laks med sauce verte\nGrønlangkål med medister og skinke\nÆbleflæsk\nConfiteret and med rødkål\nRis a la mande med kirsebær sauce\nEller brie med druer\n\nPris per person 298\,-\nKan også fås om aftenen mod forudbestilling
URL:https://restaurant-fjorden.dk/event/juleplatte-i-huset-11/
LOCATION:Restaurant Fjorden\, Hestehovedet 5\, Nakskov\, 4900
ATTACH;FMTTYPE=image/jpeg:https://restaurant-fjorden.dk/wp-content/uploads/Juleplatte-Fjorden-2024.jpg
END:VEVENT
BEGIN:VEVENT
DTSTART;TZID=Europe/Copenhagen:20241212T120000
DTEND;TZID=Europe/Copenhagen:20241212T153000
DTSTAMP:20260421T010245
CREATED:20241122T174045Z
LAST-MODIFIED:20241122T174045Z
UID:10000386-1734004800-1734017400@restaurant-fjorden.dk
SUMMARY:Juleplatte i huset
DESCRIPTION:Serveres fra 12:00 til 15:30\, alle åbnings dage indtil 21-12 . Minimum 2 personer. \nJuleplatte \n\n1 slags sild\nFiskefilet med remoulade\nRøget laks med sauce verte\nGrønlangkål med medister og skinke\nÆbleflæsk\nConfiteret and med rødkål\nRis a la mande med kirsebær sauce\nEller brie med druer\n\nPris per person 298\,-\nKan også fås om aftenen mod forudbestilling
URL:https://restaurant-fjorden.dk/event/juleplatte-i-huset-10/
LOCATION:Restaurant Fjorden\, Hestehovedet 5\, Nakskov\, 4900
ATTACH;FMTTYPE=image/jpeg:https://restaurant-fjorden.dk/wp-content/uploads/Juleplatte-Fjorden-2024.jpg
END:VEVENT
BEGIN:VEVENT
DTSTART;TZID=Europe/Copenhagen:20241208T120000
DTEND;TZID=Europe/Copenhagen:20241208T153000
DTSTAMP:20260421T010245
CREATED:20241122T173952Z
LAST-MODIFIED:20241122T173952Z
UID:10000385-1733659200-1733671800@restaurant-fjorden.dk
SUMMARY:Juleplatte i huset
DESCRIPTION:Serveres fra 12:00 til 15:30\, alle åbnings dage indtil 21-12 . Minimum 2 personer. \nJuleplatte \n\n1 slags sild\nFiskefilet med remoulade\nRøget laks med sauce verte\nGrønlangkål med medister og skinke\nÆbleflæsk\nConfiteret and med rødkål\nRis a la mande med kirsebær sauce\nEller brie med druer\n\nPris per person 298\,-\nKan også fås om aftenen mod forudbestilling
URL:https://restaurant-fjorden.dk/event/juleplatte-i-huset-9/
LOCATION:Restaurant Fjorden\, Hestehovedet 5\, Nakskov\, 4900
ATTACH;FMTTYPE=image/jpeg:https://restaurant-fjorden.dk/wp-content/uploads/Juleplatte-Fjorden-2024.jpg
END:VEVENT
BEGIN:VEVENT
DTSTART;TZID=Europe/Copenhagen:20241207T120000
DTEND;TZID=Europe/Copenhagen:20241207T153000
DTSTAMP:20260421T010245
CREATED:20241122T173651Z
LAST-MODIFIED:20241122T173651Z
UID:10000384-1733572800-1733585400@restaurant-fjorden.dk
SUMMARY:Juleplatte i huset
DESCRIPTION:Serveres fra 12:00 til 15:30\, alle åbnings dage indtil 21-12 . Minimum 2 personer. \nJuleplatte \n\n1 slags sild\nFiskefilet med remoulade\nRøget laks med sauce verte\nGrønlangkål med medister og skinke\nÆbleflæsk\nConfiteret and med rødkål\nRis a la mande med kirsebær sauce\nEller brie med druer\n\nPris per person 298\,-\nKan også fås om aftenen mod forudbestilling
URL:https://restaurant-fjorden.dk/event/juleplatte-i-huset-8/
LOCATION:Restaurant Fjorden\, Hestehovedet 5\, Nakskov\, 4900
ATTACH;FMTTYPE=image/jpeg:https://restaurant-fjorden.dk/wp-content/uploads/Juleplatte-Fjorden-2024.jpg
END:VEVENT
BEGIN:VEVENT
DTSTART;TZID=Europe/Copenhagen:20241206T180000
DTEND;TZID=Europe/Copenhagen:20241206T180000
DTSTAMP:20260421T010245
CREATED:20241015T112500Z
LAST-MODIFIED:20241122T113856Z
UID:10000373-1733508000-1733508000@restaurant-fjorden.dk
SUMMARY:Julefrokost buffet
DESCRIPTION:Julefrokost buffet i huset 6. december fra kl. 18:00\nKan også laves andre dage kontakt os \nDen 6 December er med levende musik – Thomas Hoby spiller op \n\n\n\n\nMarineret sild\nKarrysild\nStegte sild\nÆg og tomat\nLun Fiskefilet\nRejer\nRøget laks\nTarteletter med høns i asparges\nGrønlangkål med tilbehør\nÆbleflæsk\nRibbensteg \nVinter salat\nLun leverpostej\nOsteanretning\nRis a la mande med Kirsebær sauce\n\nPris pr. person – Kr. 398\,-\nForudbestilling og ex. drikkevarer
URL:https://restaurant-fjorden.dk/event/julefrokost-buffet/
LOCATION:Restaurant Fjorden\, Hestehovedet 5\, Nakskov\, 4900
ATTACH;FMTTYPE=image/jpeg:https://restaurant-fjorden.dk/wp-content/uploads/iStock-1179711547-scaled.jpg
END:VEVENT
BEGIN:VEVENT
DTSTART;TZID=Europe/Copenhagen:20241206T120000
DTEND;TZID=Europe/Copenhagen:20241206T153000
DTSTAMP:20260421T010245
CREATED:20241122T173606Z
LAST-MODIFIED:20241122T173606Z
UID:10000383-1733486400-1733499000@restaurant-fjorden.dk
SUMMARY:Juleplatte i huset
DESCRIPTION:Serveres fra 12:00 til 15:30\, alle åbnings dage indtil 21-12 . Minimum 2 personer. \nJuleplatte \n\n1 slags sild\nFiskefilet med remoulade\nRøget laks med sauce verte\nGrønlangkål med medister og skinke\nÆbleflæsk\nConfiteret and med rødkål\nRis a la mande med kirsebær sauce\nEller brie med druer\n\nPris per person 298\,-\nKan også fås om aftenen mod forudbestilling
URL:https://restaurant-fjorden.dk/event/juleplatte-i-huset-7/
LOCATION:Restaurant Fjorden\, Hestehovedet 5\, Nakskov\, 4900
ATTACH;FMTTYPE=image/jpeg:https://restaurant-fjorden.dk/wp-content/uploads/Juleplatte-Fjorden-2024.jpg
END:VEVENT
BEGIN:VEVENT
DTSTART;TZID=Europe/Copenhagen:20241205T120000
DTEND;TZID=Europe/Copenhagen:20241205T153000
DTSTAMP:20260421T010245
CREATED:20241122T173519Z
LAST-MODIFIED:20241122T173519Z
UID:10000382-1733400000-1733412600@restaurant-fjorden.dk
SUMMARY:Juleplatte i huset
DESCRIPTION:Serveres fra 12:00 til 15:30\, alle åbnings dage indtil 21-12 . Minimum 2 personer. \nJuleplatte \n\n1 slags sild\nFiskefilet med remoulade\nRøget laks med sauce verte\nGrønlangkål med medister og skinke\nÆbleflæsk\nConfiteret and med rødkål\nRis a la mande med kirsebær sauce\nEller brie med druer\n\nPris per person 298\,-\nKan også fås om aftenen mod forudbestilling
URL:https://restaurant-fjorden.dk/event/juleplatte-i-huset-6/
LOCATION:Restaurant Fjorden\, Hestehovedet 5\, Nakskov\, 4900
ATTACH;FMTTYPE=image/jpeg:https://restaurant-fjorden.dk/wp-content/uploads/Juleplatte-Fjorden-2024.jpg
END:VEVENT
BEGIN:VEVENT
DTSTART;TZID=Europe/Copenhagen:20241201T120000
DTEND;TZID=Europe/Copenhagen:20241201T153000
DTSTAMP:20260421T010245
CREATED:20241122T173432Z
LAST-MODIFIED:20241122T173432Z
UID:10000381-1733054400-1733067000@restaurant-fjorden.dk
SUMMARY:Juleplatte i huset
DESCRIPTION:Serveres fra 12:00 til 15:30\, alle åbnings dage indtil 21-12 . Minimum 2 personer. \nJuleplatte \n\n1 slags sild\nFiskefilet med remoulade\nRøget laks med sauce verte\nGrønlangkål med medister og skinke\nÆbleflæsk\nConfiteret and med rødkål\nRis a la mande med kirsebær sauce\nEller brie med druer\n\nPris per person 298\,-\nKan også fås om aftenen mod forudbestilling
URL:https://restaurant-fjorden.dk/event/juleplatte-i-huset-5/
LOCATION:Restaurant Fjorden\, Hestehovedet 5\, Nakskov\, 4900
ATTACH;FMTTYPE=image/jpeg:https://restaurant-fjorden.dk/wp-content/uploads/Juleplatte-Fjorden-2024.jpg
END:VEVENT
BEGIN:VEVENT
DTSTART;TZID=Europe/Copenhagen:20241130T120000
DTEND;TZID=Europe/Copenhagen:20241130T153000
DTSTAMP:20260421T010245
CREATED:20241122T173347Z
LAST-MODIFIED:20241122T173347Z
UID:10000380-1732968000-1732980600@restaurant-fjorden.dk
SUMMARY:juleplatte i huset
DESCRIPTION:Serveres fra 12:00 til 15:30\, alle åbnings dage indtil 21-12 . Minimum 2 personer. \nJuleplatte \n\n1 slags sild\nFiskefilet med remoulade\nRøget laks med sauce verte\nGrønlangkål med medister og skinke\nÆbleflæsk\nConfiteret and med rødkål\nRis a la mande med kirsebær sauce\nEller brie med druer\n\nPris per person 298\,-\nKan også fås om aftenen mod forudbestilling
URL:https://restaurant-fjorden.dk/event/juleplatte-i-huset-4/
LOCATION:Restaurant Fjorden\, Hestehovedet 5\, Nakskov\, 4900
ATTACH;FMTTYPE=image/jpeg:https://restaurant-fjorden.dk/wp-content/uploads/Juleplatte-Fjorden-2024.jpg
END:VEVENT
BEGIN:VEVENT
DTSTART;TZID=Europe/Copenhagen:20241130T120000
DTEND;TZID=Europe/Copenhagen:20241130T153000
DTSTAMP:20260421T010245
CREATED:20231026T104303Z
LAST-MODIFIED:20241122T170924Z
UID:10000357-1732968000-1732980600@restaurant-fjorden.dk
SUMMARY:Jule platte i huset
DESCRIPTION:Serveres fra 12:00 til 15:30\, alle åbnings dage indtil 21-12 . Minimum 2 personer. \nJuleplatte \n\n1 slags sild\nFiskefilet med remoulade\nRøget laks med sauce verte\nGrønlangkål med medister og skinke\nÆbleflæsk\nConfiteret and med rødkål\nRis a la mande med kirsebær sauce\nEller brie med druer\n\nPris per person 298\,-\nKan også fås om aftenen mod forudbestilling \n  \n  \n 
URL:https://restaurant-fjorden.dk/event/jule-platte-i-huset-2024-2024-11-30/
LOCATION:Restaurant Fjorden\, Hestehovedet 5\, Nakskov\, 4900
ATTACH;FMTTYPE=image/jpeg:https://restaurant-fjorden.dk/wp-content/uploads/Juleplatte-Fjorden-2024.jpg
END:VEVENT
BEGIN:VEVENT
DTSTART;TZID=Europe/Copenhagen:20241129T120000
DTEND;TZID=Europe/Copenhagen:20241129T153000
DTSTAMP:20260421T010245
CREATED:20241122T173301Z
LAST-MODIFIED:20241122T173301Z
UID:10000379-1732881600-1732894200@restaurant-fjorden.dk
SUMMARY:Juleplatte i huset
DESCRIPTION:Serveres fra 12:00 til 15:30\, alle åbnings dage indtil 21-12 . Minimum 2 personer. \nJuleplatte \n\n1 slags sild\nFiskefilet med remoulade\nRøget laks med sauce verte\nGrønlangkål med medister og skinke\nÆbleflæsk\nConfiteret and med rødkål\nRis a la mande med kirsebær sauce\nEller brie med druer\n\nPris per person 298\,-\nKan også fås om aftenen mod forudbestilling
URL:https://restaurant-fjorden.dk/event/juleplatte-i-huset-3/
LOCATION:Restaurant Fjorden\, Hestehovedet 5\, Nakskov\, 4900
ATTACH;FMTTYPE=image/jpeg:https://restaurant-fjorden.dk/wp-content/uploads/Juleplatte-Fjorden-2024.jpg
END:VEVENT
BEGIN:VEVENT
DTSTART;TZID=Europe/Copenhagen:20241128T120000
DTEND;TZID=Europe/Copenhagen:20241128T120000
DTSTAMP:20260421T010245
CREATED:20241122T173216Z
LAST-MODIFIED:20241122T173216Z
UID:10000378-1732795200-1732795200@restaurant-fjorden.dk
SUMMARY:Juleplatte i huset
DESCRIPTION:Serveres fra 12:00 til 15:30\, alle åbnings dage indtil 21-12 . Minimum 2 personer. \nJuleplatte \n\n1 slags sild\nFiskefilet med remoulade\nRøget laks med sauce verte\nGrønlangkål med medister og skinke\nÆbleflæsk\nConfiteret and med rødkål\nRis a la mande med kirsebær sauce\nEller brie med druer\n\nPris per person 298\,-\nKan også fås om aftenen mod forudbestilling
URL:https://restaurant-fjorden.dk/event/juleplatte-i-huset-2/
LOCATION:Restaurant Fjorden\, Hestehovedet 5\, Nakskov\, 4900
ATTACH;FMTTYPE=image/jpeg:https://restaurant-fjorden.dk/wp-content/uploads/Juleplatte-Fjorden-2024.jpg
END:VEVENT
BEGIN:VEVENT
DTSTART;TZID=Europe/Copenhagen:20241124T120000
DTEND;TZID=Europe/Copenhagen:20241124T160000
DTSTAMP:20260421T010245
CREATED:20241015T112032Z
LAST-MODIFIED:20241122T113058Z
UID:10000372-1732449600-1732464000@restaurant-fjorden.dk
SUMMARY:Senior julefrokost med LIVE musik
DESCRIPTION:Med god traditionel julemad og LIVE musik fra kl. 13:00.\nJulefrokosten starter kl. 12:00.\nSten & Jørgen Petersen står klar fra kl. 13:00 med Giro 413 musik.\n\n\n\n\nMarineret sild\nHjemmelavet karrysild\nFiskefile med remoulade\n1/2 æg med rejer\nTarteletter med høns og asparges \nRibbensteg med hjemmelavet rødkål\nGrønlangkål med skinke og medister\nÆbleflæsk\nOsteanretning eller ris a la mande med kirsebærsovs\n\nPris pr. person Kr. 249\,- \nForudbestilling og ex. drikkevarer \nBestil bord hér
URL:https://restaurant-fjorden.dk/event/senior-julefrokost-med-live-musik-2024/
LOCATION:Restaurant Fjorden\, Hestehovedet 5\, Nakskov\, 4900
END:VEVENT
BEGIN:VEVENT
DTSTART;TZID=Europe/Copenhagen:20241124T120000
DTEND;TZID=Europe/Copenhagen:20241124T153000
DTSTAMP:20260421T010245
CREATED:20231026T104303Z
LAST-MODIFIED:20241122T170523Z
UID:10000356-1732449600-1732462200@restaurant-fjorden.dk
SUMMARY:Jule platte i huset
DESCRIPTION:Serveres fra 12:00 til 15:30\, alle åbnings dage indtil 21-12 . Minimum 2 personer. \nJuleplatte \n\n1 slags sild\nFiskefilet med remoulade\nRøget laks med sauce verte\nGrønlangkål med medister og skinke\nÆbleflæsk\nConfiteret and med rødkål\nRis a la mande med kirsebær sauce\nEller brie med druer\n\nPris per person 298\,-\nKan også fås om aftenen mod forudbestilling \n  \n  \n 
URL:https://restaurant-fjorden.dk/event/jule-platte-i-huset-2024-2024-11-21-2024-11-24/
LOCATION:Restaurant Fjorden\, Hestehovedet 5\, Nakskov\, 4900
ATTACH;FMTTYPE=image/jpeg:https://restaurant-fjorden.dk/wp-content/uploads/Juleplatte-Fjorden-2024.jpg
END:VEVENT
BEGIN:VEVENT
DTSTART;TZID=Europe/Copenhagen:20241123T120000
DTEND;TZID=Europe/Copenhagen:20241123T153000
DTSTAMP:20260421T010245
CREATED:20231026T104303Z
LAST-MODIFIED:20241122T170654Z
UID:10000358-1732363200-1732375800@restaurant-fjorden.dk
SUMMARY:Jule platte i huset
DESCRIPTION:Serveres fra 12:00 til 15:30\, alle åbnings dage indtil 21-12 . Minimum 2 personer. \nJuleplatte \n\n1 slags sild\nFiskefilet med remoulade\nRøget laks med sauce verte\nGrønlangkål med medister og skinke\nÆbleflæsk\nConfiteret and med rødkål\nRis a la mande med kirsebær sauce\nEller brie med druer\n\nPris per person 298\,-\nKan også fås om aftenen mod forudbestilling \n  \n  \n 
URL:https://restaurant-fjorden.dk/event/jule-platte-i-huset-2024-2024-11-21-2024-11-22-2024-11-23/
LOCATION:Restaurant Fjorden\, Hestehovedet 5\, Nakskov\, 4900
ATTACH;FMTTYPE=image/jpeg:https://restaurant-fjorden.dk/wp-content/uploads/Juleplatte-Fjorden-2024.jpg
END:VEVENT
BEGIN:VEVENT
DTSTART;TZID=Europe/Copenhagen:20241122T120000
DTEND;TZID=Europe/Copenhagen:20241122T153000
DTSTAMP:20260421T010245
CREATED:20231026T104303Z
LAST-MODIFIED:20241122T170623Z
UID:10000355-1732276800-1732289400@restaurant-fjorden.dk
SUMMARY:Jule platte i huset
DESCRIPTION:Serveres fra 12:00 til 15:30\, alle åbnings dage indtil 21-12 . Minimum 2 personer. \nJuleplatte \n\n1 slags sild\nFiskefilet med remoulade\nRøget laks med sauce verte\nGrønlangkål med medister og skinke\nÆbleflæsk\nConfiteret and med rødkål\nRis a la mande med kirsebær sauce\nEller brie med druer\n\nPris per person 298\,-\nKan også fås om aftenen mod forudbestilling \n  \n  \n 
URL:https://restaurant-fjorden.dk/event/jule-platte-i-huset-2024-2024-11-21-2024-11-22/
LOCATION:Restaurant Fjorden\, Hestehovedet 5\, Nakskov\, 4900
ATTACH;FMTTYPE=image/jpeg:https://restaurant-fjorden.dk/wp-content/uploads/Juleplatte-Fjorden-2024.jpg
END:VEVENT
BEGIN:VEVENT
DTSTART;TZID=Europe/Copenhagen:20241122T080000
DTEND;TZID=Europe/Copenhagen:20241122T170000
DTSTAMP:20260421T010245
CREATED:20241122T172319Z
LAST-MODIFIED:20241122T173007Z
UID:10000377-1732262400-1732294800@restaurant-fjorden.dk
SUMMARY:Juleplatte i huset
DESCRIPTION:Serveres fra 12:00 til 15:30\, alle åbnings dage indtil 21-12 . Minimum 2 personer. \nJuleplatte \n\n1 slags sild\nFiskefilet med remoulade\nRøget laks med sauce verte\nGrønlangkål med medister og skinke\nÆbleflæsk\nConfiteret and med rødkål\nRis a la mande med kirsebær sauce\nEller brie med druer\n\nPris per person 298\,-\nKan også fås om aftenen mod forudbestilling
URL:https://restaurant-fjorden.dk/event/juleplatte-i-huset/
LOCATION:Restaurant Fjorden\, Hestehovedet 5\, Nakskov\, 4900
ATTACH;FMTTYPE=image/jpeg:https://restaurant-fjorden.dk/wp-content/uploads/Juleplatte-Fjorden-2024.jpg
ORGANIZER;CN="Restaurant Fjorden":MAILTO:info@restaurant-fjorden.dk
END:VEVENT
BEGIN:VEVENT
DTSTART;TZID=Europe/Copenhagen:20241121T120000
DTEND;TZID=Europe/Copenhagen:20241121T153000
DTSTAMP:20260421T010245
CREATED:20231026T104303Z
LAST-MODIFIED:20241122T113913Z
UID:10000353-1732190400-1732203000@restaurant-fjorden.dk
SUMMARY:Jule platte i huset
DESCRIPTION:Serveres fra 12:00 til 15:30\, alle åbnings dage indtil 21-12 . Minimum 2 personer. \nJuleplatte \n\n1 slags sild\nFiskefilet med remoulade\nRøget laks med sauce verte\nGrønlangkål med medister og skinke\nÆbleflæsk\nConfiteret and med rødkål\nRis a la mande med kirsebær sauce\nEller brie med druer\n\nPris per person 298\,-\nKan også fås om aftenen mod forudbestilling \n  \n  \n 
URL:https://restaurant-fjorden.dk/event/jule-platte-i-huset-2024/2024-11-21/
LOCATION:Restaurant Fjorden\, Hestehovedet 5\, Nakskov\, 4900
ATTACH;FMTTYPE=image/jpeg:https://restaurant-fjorden.dk/wp-content/uploads/iStock-1179711547-scaled.jpg
END:VEVENT
BEGIN:VEVENT
DTSTART;TZID=Europe/Copenhagen:20241121T120000
DTEND;TZID=Europe/Copenhagen:20241121T153000
DTSTAMP:20260421T010245
CREATED:20231026T104303Z
LAST-MODIFIED:20241122T165911Z
UID:10000354-1732190400-1732203000@restaurant-fjorden.dk
SUMMARY:Jule platte i huset
DESCRIPTION:Serveres fra 12:00 til 15:30\, alle åbnings dage indtil 21-12 . Minimum 2 personer. \nJuleplatte \n\n1 slags sild\nFiskefilet med remoulade\nRøget laks med sauce verte\nGrønlangkål med medister og skinke\nÆbleflæsk\nConfiteret and med rødkål\nRis a la mande med kirsebær sauce\nEller brie med druer\n\nPris per person 298\,-\nKan også fås om aftenen mod forudbestilling \n  \n  \n 
URL:https://restaurant-fjorden.dk/event/jule-platte-i-huset-2024-2024-11-21/
LOCATION:Restaurant Fjorden\, Hestehovedet 5\, Nakskov\, 4900
ATTACH;FMTTYPE=image/jpeg:https://restaurant-fjorden.dk/wp-content/uploads/Juleplatte-Fjorden-2024.jpg
END:VEVENT
BEGIN:VEVENT
DTSTART;TZID=Europe/Copenhagen:20241117T120000
DTEND;TZID=Europe/Copenhagen:20241117T153000
DTSTAMP:20260421T010245
CREATED:20231026T104303Z
LAST-MODIFIED:20241122T113913Z
UID:10000352-1731844800-1731857400@restaurant-fjorden.dk
SUMMARY:Jule platte i huset
DESCRIPTION:Serveres fra 12:00 til 15:30\, alle åbnings dage indtil 21-12 . Minimum 2 personer. \nJuleplatte \n\n1 slags sild\nFiskefilet med remoulade\nRøget laks med sauce verte\nGrønlangkål med medister og skinke\nÆbleflæsk\nConfiteret and med rødkål\nRis a la mande med kirsebær sauce\nEller brie med druer\n\nPris per person 298\,-\nKan også fås om aftenen mod forudbestilling \n  \n  \n 
URL:https://restaurant-fjorden.dk/event/jule-platte-i-huset-2024/2024-11-17/
LOCATION:Restaurant Fjorden\, Hestehovedet 5\, Nakskov\, 4900
ATTACH;FMTTYPE=image/jpeg:https://restaurant-fjorden.dk/wp-content/uploads/iStock-1179711547-scaled.jpg
END:VEVENT
END:VCALENDAR