BEGIN:VCALENDAR
VERSION:2.0
PRODID:-//Restaurant Fjorden - ECPv6.15.20//NONSGML v1.0//EN
CALSCALE:GREGORIAN
METHOD:PUBLISH
X-ORIGINAL-URL:https://restaurant-fjorden.dk
X-WR-CALDESC:Begivenheder for Restaurant Fjorden
REFRESH-INTERVAL;VALUE=DURATION:PT1H
X-Robots-Tag:noindex
X-PUBLISHED-TTL:PT1H
BEGIN:VTIMEZONE
TZID:Europe/Copenhagen
BEGIN:DAYLIGHT
TZOFFSETFROM:+0100
TZOFFSETTO:+0200
TZNAME:CEST
DTSTART:20240331T010000
END:DAYLIGHT
BEGIN:STANDARD
TZOFFSETFROM:+0200
TZOFFSETTO:+0100
TZNAME:CET
DTSTART:20241027T010000
END:STANDARD
BEGIN:DAYLIGHT
TZOFFSETFROM:+0100
TZOFFSETTO:+0200
TZNAME:CEST
DTSTART:20250330T010000
END:DAYLIGHT
BEGIN:STANDARD
TZOFFSETFROM:+0200
TZOFFSETTO:+0100
TZNAME:CET
DTSTART:20251026T010000
END:STANDARD
BEGIN:DAYLIGHT
TZOFFSETFROM:+0100
TZOFFSETTO:+0200
TZNAME:CEST
DTSTART:20260329T010000
END:DAYLIGHT
BEGIN:STANDARD
TZOFFSETFROM:+0200
TZOFFSETTO:+0100
TZNAME:CET
DTSTART:20261025T010000
END:STANDARD
END:VTIMEZONE
BEGIN:VEVENT
DTSTART;TZID=Europe/Copenhagen:20250724T170000
DTEND;TZID=Europe/Copenhagen:20250724T193000
DTSTAMP:20260420T182216
CREATED:20210302T140205Z
LAST-MODIFIED:20251013T082527Z
UID:10000236-1753376400-1753385400@restaurant-fjorden.dk
SUMMARY:Stegt flæsk ad libitum
DESCRIPTION:AD LIBITUM\nTORSDAGE KL. 17:00\n\n\nSTEGT FLÆSK MED HVIDE KARTOFLER PERSILLESOVS\nOG HJEMMESYLTEDE RØDBEDER. \nDerudover tilbyder vi et mini A La Carte kort\nFRA KL. 17:00.\nKR. 169\,-
URL:https://restaurant-fjorden.dk/event/stegt-flaesk-ad-libitum-2026-01-08/2025-07-24/
LOCATION:Restaurant Fjorden\, Hestehovedet 5\, Nakskov\, 4900
ATTACH;FMTTYPE=image/jpeg:https://restaurant-fjorden.dk/wp-content/uploads/IMG_20161013_182621-scaled.jpg
END:VEVENT
BEGIN:VEVENT
DTSTART;TZID=Europe/Copenhagen:20250718T170000
DTEND;TZID=Europe/Copenhagen:20250719T090000
DTSTAMP:20260420T182216
CREATED:20250716T074505Z
LAST-MODIFIED:20250730T124822Z
UID:10000476-1752858000-1752915600@restaurant-fjorden.dk
SUMMARY:Grill Arrangement - Lille a la cartekort
DESCRIPTION:Grill Arrangement fra kl. 17:00\, ring allerede i dag og bestil bord \n\n3 slags kød/fisk\n3 slags salat\n2 slags kartofler\nSovs\nBrød\n\nPris pr. person 275\,- \nKun mod forudbestilling \nDessert kan tilkøbes – Banana Split – kun 75kr. pr. person
URL:https://restaurant-fjorden.dk/event/grill-arrangement-lille-a-la-cartekort/2025-07-18/
LOCATION:Restaurant Fjorden\, Hestehovedet 5\, Nakskov\, 4900
ATTACH;FMTTYPE=image/jpeg:https://restaurant-fjorden.dk/wp-content/uploads/518370635_1294069096054605_6504673133954446137_n.jpg
END:VEVENT
BEGIN:VEVENT
DTSTART;TZID=Europe/Copenhagen:20250718T160000
DTEND;TZID=Europe/Copenhagen:20250718T163000
DTSTAMP:20260420T182216
CREATED:20250516T120737Z
LAST-MODIFIED:20250814T085657Z
UID:10000487-1752854400-1752856200@restaurant-fjorden.dk
SUMMARY:Fiske Tapas - Ud af Huset
DESCRIPTION:Restaurant Fjorden tilbyder fiske tapas ud af huset hver fredag. \nMin. 2 pers. – pris pr. person 139\,- \nIndholdet i Fjordens fisketapas kan variere fra uge til uge\, og skal forudbestilles senest torsdag inden kl. 12.00 \nMinimum 2 personer.\nAfhentning fredag mellem kl. 16:00-16.30
URL:https://restaurant-fjorden.dk/event/fiske-tapas-ud-af-huset/2025-07-18/
LOCATION:Restaurant Fjorden\, Hestehovedet 5\, Nakskov\, 4900
ATTACH;FMTTYPE=image/png:https://restaurant-fjorden.dk/wp-content/uploads/restaurant-fjorden.png
END:VEVENT
BEGIN:VEVENT
DTSTART;TZID=Europe/Copenhagen:20250717T170000
DTEND;TZID=Europe/Copenhagen:20250717T193000
DTSTAMP:20260420T182216
CREATED:20210302T140205Z
LAST-MODIFIED:20251013T082527Z
UID:10000235-1752771600-1752780600@restaurant-fjorden.dk
SUMMARY:Stegt flæsk ad libitum
DESCRIPTION:AD LIBITUM\nTORSDAGE KL. 17:00\n\n\nSTEGT FLÆSK MED HVIDE KARTOFLER PERSILLESOVS\nOG HJEMMESYLTEDE RØDBEDER. \nDerudover tilbyder vi et mini A La Carte kort\nFRA KL. 17:00.\nKR. 169\,-
URL:https://restaurant-fjorden.dk/event/stegt-flaesk-ad-libitum-2026-01-08/2025-07-17/
LOCATION:Restaurant Fjorden\, Hestehovedet 5\, Nakskov\, 4900
ATTACH;FMTTYPE=image/jpeg:https://restaurant-fjorden.dk/wp-content/uploads/IMG_20161013_182621-scaled.jpg
END:VEVENT
BEGIN:VEVENT
DTSTART;TZID=Europe/Copenhagen:20250711T160000
DTEND;TZID=Europe/Copenhagen:20250711T163000
DTSTAMP:20260420T182216
CREATED:20250516T120737Z
LAST-MODIFIED:20250814T085657Z
UID:10000486-1752249600-1752251400@restaurant-fjorden.dk
SUMMARY:Fiske Tapas - Ud af Huset
DESCRIPTION:Restaurant Fjorden tilbyder fiske tapas ud af huset hver fredag. \nMin. 2 pers. – pris pr. person 139\,- \nIndholdet i Fjordens fisketapas kan variere fra uge til uge\, og skal forudbestilles senest torsdag inden kl. 12.00 \nMinimum 2 personer.\nAfhentning fredag mellem kl. 16:00-16.30
URL:https://restaurant-fjorden.dk/event/fiske-tapas-ud-af-huset/2025-07-11/
LOCATION:Restaurant Fjorden\, Hestehovedet 5\, Nakskov\, 4900
ATTACH;FMTTYPE=image/png:https://restaurant-fjorden.dk/wp-content/uploads/restaurant-fjorden.png
END:VEVENT
BEGIN:VEVENT
DTSTART;TZID=Europe/Copenhagen:20250710T170000
DTEND;TZID=Europe/Copenhagen:20250710T193000
DTSTAMP:20260420T182216
CREATED:20210302T140205Z
LAST-MODIFIED:20251013T082527Z
UID:10000234-1752166800-1752175800@restaurant-fjorden.dk
SUMMARY:Stegt flæsk ad libitum
DESCRIPTION:AD LIBITUM\nTORSDAGE KL. 17:00\n\n\nSTEGT FLÆSK MED HVIDE KARTOFLER PERSILLESOVS\nOG HJEMMESYLTEDE RØDBEDER. \nDerudover tilbyder vi et mini A La Carte kort\nFRA KL. 17:00.\nKR. 169\,-
URL:https://restaurant-fjorden.dk/event/stegt-flaesk-ad-libitum-2026-01-08/2025-07-10/
LOCATION:Restaurant Fjorden\, Hestehovedet 5\, Nakskov\, 4900
ATTACH;FMTTYPE=image/jpeg:https://restaurant-fjorden.dk/wp-content/uploads/IMG_20161013_182621-scaled.jpg
END:VEVENT
BEGIN:VEVENT
DTSTART;TZID=Europe/Copenhagen:20250704T160000
DTEND;TZID=Europe/Copenhagen:20250704T163000
DTSTAMP:20260420T182216
CREATED:20250516T120737Z
LAST-MODIFIED:20250814T085657Z
UID:10000485-1751644800-1751646600@restaurant-fjorden.dk
SUMMARY:Fiske Tapas - Ud af Huset
DESCRIPTION:Restaurant Fjorden tilbyder fiske tapas ud af huset hver fredag. \nMin. 2 pers. – pris pr. person 139\,- \nIndholdet i Fjordens fisketapas kan variere fra uge til uge\, og skal forudbestilles senest torsdag inden kl. 12.00 \nMinimum 2 personer.\nAfhentning fredag mellem kl. 16:00-16.30
URL:https://restaurant-fjorden.dk/event/fiske-tapas-ud-af-huset/2025-07-04/
LOCATION:Restaurant Fjorden\, Hestehovedet 5\, Nakskov\, 4900
ATTACH;FMTTYPE=image/png:https://restaurant-fjorden.dk/wp-content/uploads/restaurant-fjorden.png
END:VEVENT
BEGIN:VEVENT
DTSTART;TZID=Europe/Copenhagen:20250703T170000
DTEND;TZID=Europe/Copenhagen:20250703T193000
DTSTAMP:20260420T182216
CREATED:20210302T140205Z
LAST-MODIFIED:20251013T082527Z
UID:10000233-1751562000-1751571000@restaurant-fjorden.dk
SUMMARY:Stegt flæsk ad libitum
DESCRIPTION:AD LIBITUM\nTORSDAGE KL. 17:00\n\n\nSTEGT FLÆSK MED HVIDE KARTOFLER PERSILLESOVS\nOG HJEMMESYLTEDE RØDBEDER. \nDerudover tilbyder vi et mini A La Carte kort\nFRA KL. 17:00.\nKR. 169\,-
URL:https://restaurant-fjorden.dk/event/stegt-flaesk-ad-libitum-2026-01-08/2025-07-03/
LOCATION:Restaurant Fjorden\, Hestehovedet 5\, Nakskov\, 4900
ATTACH;FMTTYPE=image/jpeg:https://restaurant-fjorden.dk/wp-content/uploads/IMG_20161013_182621-scaled.jpg
END:VEVENT
BEGIN:VEVENT
DTSTART;TZID=Europe/Copenhagen:20250627T160000
DTEND;TZID=Europe/Copenhagen:20250627T163000
DTSTAMP:20260420T182216
CREATED:20250516T120737Z
LAST-MODIFIED:20250814T085657Z
UID:10000484-1751040000-1751041800@restaurant-fjorden.dk
SUMMARY:Fiske Tapas - Ud af Huset
DESCRIPTION:Restaurant Fjorden tilbyder fiske tapas ud af huset hver fredag. \nMin. 2 pers. – pris pr. person 139\,- \nIndholdet i Fjordens fisketapas kan variere fra uge til uge\, og skal forudbestilles senest torsdag inden kl. 12.00 \nMinimum 2 personer.\nAfhentning fredag mellem kl. 16:00-16.30
URL:https://restaurant-fjorden.dk/event/fiske-tapas-ud-af-huset/2025-06-27/
LOCATION:Restaurant Fjorden\, Hestehovedet 5\, Nakskov\, 4900
ATTACH;FMTTYPE=image/png:https://restaurant-fjorden.dk/wp-content/uploads/restaurant-fjorden.png
END:VEVENT
BEGIN:VEVENT
DTSTART;TZID=Europe/Copenhagen:20250626T170000
DTEND;TZID=Europe/Copenhagen:20250626T193000
DTSTAMP:20260420T182216
CREATED:20210302T140205Z
LAST-MODIFIED:20251013T082527Z
UID:10000232-1750957200-1750966200@restaurant-fjorden.dk
SUMMARY:Stegt flæsk ad libitum
DESCRIPTION:AD LIBITUM\nTORSDAGE KL. 17:00\n\n\nSTEGT FLÆSK MED HVIDE KARTOFLER PERSILLESOVS\nOG HJEMMESYLTEDE RØDBEDER. \nDerudover tilbyder vi et mini A La Carte kort\nFRA KL. 17:00.\nKR. 169\,-
URL:https://restaurant-fjorden.dk/event/stegt-flaesk-ad-libitum-2026-01-08/2025-06-26/
LOCATION:Restaurant Fjorden\, Hestehovedet 5\, Nakskov\, 4900
ATTACH;FMTTYPE=image/jpeg:https://restaurant-fjorden.dk/wp-content/uploads/IMG_20161013_182621-scaled.jpg
END:VEVENT
BEGIN:VEVENT
DTSTART;TZID=Europe/Copenhagen:20250620T160000
DTEND;TZID=Europe/Copenhagen:20250620T163000
DTSTAMP:20260420T182216
CREATED:20250516T120737Z
LAST-MODIFIED:20250814T085657Z
UID:10000483-1750435200-1750437000@restaurant-fjorden.dk
SUMMARY:Fiske Tapas - Ud af Huset
DESCRIPTION:Restaurant Fjorden tilbyder fiske tapas ud af huset hver fredag. \nMin. 2 pers. – pris pr. person 139\,- \nIndholdet i Fjordens fisketapas kan variere fra uge til uge\, og skal forudbestilles senest torsdag inden kl. 12.00 \nMinimum 2 personer.\nAfhentning fredag mellem kl. 16:00-16.30
URL:https://restaurant-fjorden.dk/event/fiske-tapas-ud-af-huset/2025-06-20/
LOCATION:Restaurant Fjorden\, Hestehovedet 5\, Nakskov\, 4900
ATTACH;FMTTYPE=image/png:https://restaurant-fjorden.dk/wp-content/uploads/restaurant-fjorden.png
END:VEVENT
BEGIN:VEVENT
DTSTART;TZID=Europe/Copenhagen:20250619T170000
DTEND;TZID=Europe/Copenhagen:20250619T193000
DTSTAMP:20260420T182216
CREATED:20210302T140205Z
LAST-MODIFIED:20251013T082527Z
UID:10000231-1750352400-1750361400@restaurant-fjorden.dk
SUMMARY:Stegt flæsk ad libitum
DESCRIPTION:AD LIBITUM\nTORSDAGE KL. 17:00\n\n\nSTEGT FLÆSK MED HVIDE KARTOFLER PERSILLESOVS\nOG HJEMMESYLTEDE RØDBEDER. \nDerudover tilbyder vi et mini A La Carte kort\nFRA KL. 17:00.\nKR. 169\,-
URL:https://restaurant-fjorden.dk/event/stegt-flaesk-ad-libitum-2026-01-08/2025-06-19/
LOCATION:Restaurant Fjorden\, Hestehovedet 5\, Nakskov\, 4900
ATTACH;FMTTYPE=image/jpeg:https://restaurant-fjorden.dk/wp-content/uploads/IMG_20161013_182621-scaled.jpg
END:VEVENT
BEGIN:VEVENT
DTSTART;TZID=Europe/Copenhagen:20250613T160000
DTEND;TZID=Europe/Copenhagen:20250613T163000
DTSTAMP:20260420T182216
CREATED:20250516T120737Z
LAST-MODIFIED:20250814T085657Z
UID:10000482-1749830400-1749832200@restaurant-fjorden.dk
SUMMARY:Fiske Tapas - Ud af Huset
DESCRIPTION:Restaurant Fjorden tilbyder fiske tapas ud af huset hver fredag. \nMin. 2 pers. – pris pr. person 139\,- \nIndholdet i Fjordens fisketapas kan variere fra uge til uge\, og skal forudbestilles senest torsdag inden kl. 12.00 \nMinimum 2 personer.\nAfhentning fredag mellem kl. 16:00-16.30
URL:https://restaurant-fjorden.dk/event/fiske-tapas-ud-af-huset/2025-06-13/
LOCATION:Restaurant Fjorden\, Hestehovedet 5\, Nakskov\, 4900
ATTACH;FMTTYPE=image/png:https://restaurant-fjorden.dk/wp-content/uploads/restaurant-fjorden.png
END:VEVENT
BEGIN:VEVENT
DTSTART;TZID=Europe/Copenhagen:20250612T170000
DTEND;TZID=Europe/Copenhagen:20250612T193000
DTSTAMP:20260420T182216
CREATED:20210302T140205Z
LAST-MODIFIED:20251013T082527Z
UID:10000230-1749747600-1749756600@restaurant-fjorden.dk
SUMMARY:Stegt flæsk ad libitum
DESCRIPTION:AD LIBITUM\nTORSDAGE KL. 17:00\n\n\nSTEGT FLÆSK MED HVIDE KARTOFLER PERSILLESOVS\nOG HJEMMESYLTEDE RØDBEDER. \nDerudover tilbyder vi et mini A La Carte kort\nFRA KL. 17:00.\nKR. 169\,-
URL:https://restaurant-fjorden.dk/event/stegt-flaesk-ad-libitum-2026-01-08/2025-06-12/
LOCATION:Restaurant Fjorden\, Hestehovedet 5\, Nakskov\, 4900
ATTACH;FMTTYPE=image/jpeg:https://restaurant-fjorden.dk/wp-content/uploads/IMG_20161013_182621-scaled.jpg
END:VEVENT
BEGIN:VEVENT
DTSTART;TZID=Europe/Copenhagen:20250608T120000
DTEND;TZID=Europe/Copenhagen:20250608T150000
DTSTAMP:20260420T182216
CREATED:20250516T120651Z
LAST-MODIFIED:20250516T120704Z
UID:10000403-1749384000-1749394800@restaurant-fjorden.dk
SUMMARY:Pinsefrokost
DESCRIPTION:Pinsefrokost buffet fra kl. 12:00 – kun pinsedag d. 8. juni \n\nMarineret sild med karry salat\nStegte sild i eddike\nFiskefilet med remoulade\n1/2 æg med rejer\nFlæskesteg\nMarineret nakkefilet\nTarteletter med høns i asparges\nLammeculotte med timian og hvidløg\n3 slags ost\nRabarber trifli\nPetit kagebord\nForskelligt brød og pesto\n\nMod forudbestilling \nPris pr. person 249\,- \nEkskl. Drikke
URL:https://restaurant-fjorden.dk/event/pinsefrokost-2025/
LOCATION:Restaurant Fjorden\, Hestehovedet 5\, Nakskov\, 4900
ATTACH;FMTTYPE=image/jpeg:https://restaurant-fjorden.dk/wp-content/uploads/IMG_20170429_181312-1-scaled-e1746619824974.jpg
END:VEVENT
BEGIN:VEVENT
DTSTART;TZID=Europe/Copenhagen:20250606T160000
DTEND;TZID=Europe/Copenhagen:20250606T163000
DTSTAMP:20260420T182216
CREATED:20250516T120737Z
LAST-MODIFIED:20250814T085657Z
UID:10000481-1749225600-1749227400@restaurant-fjorden.dk
SUMMARY:Fiske Tapas - Ud af Huset
DESCRIPTION:Restaurant Fjorden tilbyder fiske tapas ud af huset hver fredag. \nMin. 2 pers. – pris pr. person 139\,- \nIndholdet i Fjordens fisketapas kan variere fra uge til uge\, og skal forudbestilles senest torsdag inden kl. 12.00 \nMinimum 2 personer.\nAfhentning fredag mellem kl. 16:00-16.30
URL:https://restaurant-fjorden.dk/event/fiske-tapas-ud-af-huset/2025-06-06/
LOCATION:Restaurant Fjorden\, Hestehovedet 5\, Nakskov\, 4900
ATTACH;FMTTYPE=image/png:https://restaurant-fjorden.dk/wp-content/uploads/restaurant-fjorden.png
END:VEVENT
BEGIN:VEVENT
DTSTART;TZID=Europe/Copenhagen:20250605T170000
DTEND;TZID=Europe/Copenhagen:20250605T193000
DTSTAMP:20260420T182216
CREATED:20210302T140205Z
LAST-MODIFIED:20251013T082527Z
UID:10000229-1749142800-1749151800@restaurant-fjorden.dk
SUMMARY:Stegt flæsk ad libitum
DESCRIPTION:AD LIBITUM\nTORSDAGE KL. 17:00\n\n\nSTEGT FLÆSK MED HVIDE KARTOFLER PERSILLESOVS\nOG HJEMMESYLTEDE RØDBEDER. \nDerudover tilbyder vi et mini A La Carte kort\nFRA KL. 17:00.\nKR. 169\,-
URL:https://restaurant-fjorden.dk/event/stegt-flaesk-ad-libitum-2026-01-08/2025-06-05/
LOCATION:Restaurant Fjorden\, Hestehovedet 5\, Nakskov\, 4900
ATTACH;FMTTYPE=image/jpeg:https://restaurant-fjorden.dk/wp-content/uploads/IMG_20161013_182621-scaled.jpg
END:VEVENT
BEGIN:VEVENT
DTSTART;TZID=Europe/Copenhagen:20250605T120000
DTEND;TZID=Europe/Copenhagen:20250605T200000
DTSTAMP:20260420T182216
CREATED:20250516T115945Z
LAST-MODIFIED:20250516T115945Z
UID:10000402-1749124800-1749153600@restaurant-fjorden.dk
SUMMARY:Fars dag menu
DESCRIPTION:Fars dag menu laves kun mod forudbestilling. \nForret:\nKartoffel Blinis m/rørt laks\nHjemmerørt laks anrettes på en kartoffel blinis\, pyntes m/citron\, tomat\, kaviar\, purløg og radise. \nHovedret:\nGrillet Marineret Entrecote\nAnrettes m/små bagte tomater\, årstidens grønt\, asparges m/ bacon\, smørstegte nye kartofler\, og Sauce Bearnaise. \nDessert:\nGateau Marcel\nHjemmebagt chokoladekage m/blød top. Anrettes m/hvid chokoladecreme og friske bær. \n2 retter – 349\,-\n3 retter – 398\,- \nKUN MOD FORUDBESTILLING
URL:https://restaurant-fjorden.dk/event/fars-dag-menu/
LOCATION:Restaurant Fjorden\, Hestehovedet 5\, Nakskov\, 4900
ATTACH;FMTTYPE=image/jpeg:https://restaurant-fjorden.dk/wp-content/uploads/IMG_20170429_181312-1-scaled-e1746619824974.jpg
END:VEVENT
BEGIN:VEVENT
DTSTART;TZID=Europe/Copenhagen:20250530T160000
DTEND;TZID=Europe/Copenhagen:20250530T163000
DTSTAMP:20260420T182216
CREATED:20250516T120737Z
LAST-MODIFIED:20250814T085657Z
UID:10000480-1748620800-1748622600@restaurant-fjorden.dk
SUMMARY:Fiske Tapas - Ud af Huset
DESCRIPTION:Restaurant Fjorden tilbyder fiske tapas ud af huset hver fredag. \nMin. 2 pers. – pris pr. person 139\,- \nIndholdet i Fjordens fisketapas kan variere fra uge til uge\, og skal forudbestilles senest torsdag inden kl. 12.00 \nMinimum 2 personer.\nAfhentning fredag mellem kl. 16:00-16.30
URL:https://restaurant-fjorden.dk/event/fiske-tapas-ud-af-huset/2025-05-30/
LOCATION:Restaurant Fjorden\, Hestehovedet 5\, Nakskov\, 4900
ATTACH;FMTTYPE=image/png:https://restaurant-fjorden.dk/wp-content/uploads/restaurant-fjorden.png
END:VEVENT
BEGIN:VEVENT
DTSTART;TZID=Europe/Copenhagen:20250529T170000
DTEND;TZID=Europe/Copenhagen:20250529T193000
DTSTAMP:20260420T182216
CREATED:20210302T140205Z
LAST-MODIFIED:20251013T082527Z
UID:10000228-1748538000-1748547000@restaurant-fjorden.dk
SUMMARY:Stegt flæsk ad libitum
DESCRIPTION:AD LIBITUM\nTORSDAGE KL. 17:00\n\n\nSTEGT FLÆSK MED HVIDE KARTOFLER PERSILLESOVS\nOG HJEMMESYLTEDE RØDBEDER. \nDerudover tilbyder vi et mini A La Carte kort\nFRA KL. 17:00.\nKR. 169\,-
URL:https://restaurant-fjorden.dk/event/stegt-flaesk-ad-libitum-2026-01-08/2025-05-29/
LOCATION:Restaurant Fjorden\, Hestehovedet 5\, Nakskov\, 4900
ATTACH;FMTTYPE=image/jpeg:https://restaurant-fjorden.dk/wp-content/uploads/IMG_20161013_182621-scaled.jpg
END:VEVENT
BEGIN:VEVENT
DTSTART;TZID=Europe/Copenhagen:20250523T160000
DTEND;TZID=Europe/Copenhagen:20250523T163000
DTSTAMP:20260420T182216
CREATED:20250516T120737Z
LAST-MODIFIED:20250814T085657Z
UID:10000479-1748016000-1748017800@restaurant-fjorden.dk
SUMMARY:Fiske Tapas - Ud af Huset
DESCRIPTION:Restaurant Fjorden tilbyder fiske tapas ud af huset hver fredag. \nMin. 2 pers. – pris pr. person 139\,- \nIndholdet i Fjordens fisketapas kan variere fra uge til uge\, og skal forudbestilles senest torsdag inden kl. 12.00 \nMinimum 2 personer.\nAfhentning fredag mellem kl. 16:00-16.30
URL:https://restaurant-fjorden.dk/event/fiske-tapas-ud-af-huset/2025-05-23/
LOCATION:Restaurant Fjorden\, Hestehovedet 5\, Nakskov\, 4900
ATTACH;FMTTYPE=image/png:https://restaurant-fjorden.dk/wp-content/uploads/restaurant-fjorden.png
END:VEVENT
BEGIN:VEVENT
DTSTART;TZID=Europe/Copenhagen:20250522T170000
DTEND;TZID=Europe/Copenhagen:20250522T193000
DTSTAMP:20260420T182216
CREATED:20210302T140205Z
LAST-MODIFIED:20251013T082527Z
UID:10000227-1747933200-1747942200@restaurant-fjorden.dk
SUMMARY:Stegt flæsk ad libitum
DESCRIPTION:AD LIBITUM\nTORSDAGE KL. 17:00\n\n\nSTEGT FLÆSK MED HVIDE KARTOFLER PERSILLESOVS\nOG HJEMMESYLTEDE RØDBEDER. \nDerudover tilbyder vi et mini A La Carte kort\nFRA KL. 17:00.\nKR. 169\,-
URL:https://restaurant-fjorden.dk/event/stegt-flaesk-ad-libitum-2026-01-08/2025-05-22/
LOCATION:Restaurant Fjorden\, Hestehovedet 5\, Nakskov\, 4900
ATTACH;FMTTYPE=image/jpeg:https://restaurant-fjorden.dk/wp-content/uploads/IMG_20161013_182621-scaled.jpg
END:VEVENT
BEGIN:VEVENT
DTSTART;TZID=Europe/Copenhagen:20250515T170000
DTEND;TZID=Europe/Copenhagen:20250515T193000
DTSTAMP:20260420T182216
CREATED:20210302T140205Z
LAST-MODIFIED:20251013T082527Z
UID:10000226-1747328400-1747337400@restaurant-fjorden.dk
SUMMARY:Stegt flæsk ad libitum
DESCRIPTION:AD LIBITUM\nTORSDAGE KL. 17:00\n\n\nSTEGT FLÆSK MED HVIDE KARTOFLER PERSILLESOVS\nOG HJEMMESYLTEDE RØDBEDER. \nDerudover tilbyder vi et mini A La Carte kort\nFRA KL. 17:00.\nKR. 169\,-
URL:https://restaurant-fjorden.dk/event/stegt-flaesk-ad-libitum-2026-01-08/2025-05-15/
LOCATION:Restaurant Fjorden\, Hestehovedet 5\, Nakskov\, 4900
ATTACH;FMTTYPE=image/jpeg:https://restaurant-fjorden.dk/wp-content/uploads/IMG_20161013_182621-scaled.jpg
END:VEVENT
BEGIN:VEVENT
DTSTART;TZID=Europe/Copenhagen:20250511T170000
DTEND;TZID=Europe/Copenhagen:20250511T200000
DTSTAMP:20260420T182216
CREATED:20250507T120941Z
LAST-MODIFIED:20250507T121027Z
UID:10000401-1746982800-1746993600@restaurant-fjorden.dk
SUMMARY:Mors Dag Menu
DESCRIPTION:Mors dag menu laves kun mod forudbestilling. \nForret:\nVarmrøget lakserilette med avocado og sauce verte \nHovedret:\nMarineret kalvesteak med italienske krydderurter og ovnbagte kartofler\, sauce choron og årstidens grønt \nDessert:\nCheesecake is m/citron\, jordbær og mint \n2 retter – 349\,-\n3 retter – 398\,- \nKUN MOD FORUDBESTILLING
URL:https://restaurant-fjorden.dk/event/mors-dag-menu/
LOCATION:Restaurant Fjorden\, Hestehovedet 5\, Nakskov\, 4900
ATTACH;FMTTYPE=image/jpeg:https://restaurant-fjorden.dk/wp-content/uploads/IMG_20170429_181312-1-scaled-e1746619824974.jpg
END:VEVENT
BEGIN:VEVENT
DTSTART;TZID=Europe/Copenhagen:20250511T100000
DTEND;TZID=Europe/Copenhagen:20250511T140000
DTSTAMP:20260420T182216
CREATED:20240501T133525Z
LAST-MODIFIED:20250507T121145Z
UID:10000367-1746957600-1746972000@restaurant-fjorden.dk
SUMMARY:Mors dag brunch
DESCRIPTION:Mors dag brunch laves mod forudbestilling. \nTil brunch hører flg. med: \nRøræg\nBrunch pølser\nBacon\nHjemmelavet rullepølse\nHjemmelavet leverpostej\n2 Slags ost\n1 Slags syltetøj\nMelon og skinke\nFrikadeller med salat bowle\nGrøntsags tærte\nAmerikansk pandekage og sirup\nOg meget mere. \nDertil rugbrød og lyst brød. \nPris kr. 249\,- pr. person\n(Inkl. drikkevarer: 2 slags juice\, kaffe/te samt alm. vand ad libitum)
URL:https://restaurant-fjorden.dk/event/mors-dag-brunch/
LOCATION:Restaurant Fjorden\, Hestehovedet 5\, Nakskov\, 4900
ATTACH;FMTTYPE=image/jpeg:https://restaurant-fjorden.dk/wp-content/uploads/iStock-464943368-scaled.jpg
END:VEVENT
BEGIN:VEVENT
DTSTART;TZID=Europe/Copenhagen:20250508T170000
DTEND;TZID=Europe/Copenhagen:20250508T193000
DTSTAMP:20260420T182216
CREATED:20210302T140205Z
LAST-MODIFIED:20251013T082527Z
UID:10000225-1746723600-1746732600@restaurant-fjorden.dk
SUMMARY:Stegt flæsk ad libitum
DESCRIPTION:AD LIBITUM\nTORSDAGE KL. 17:00\n\n\nSTEGT FLÆSK MED HVIDE KARTOFLER PERSILLESOVS\nOG HJEMMESYLTEDE RØDBEDER. \nDerudover tilbyder vi et mini A La Carte kort\nFRA KL. 17:00.\nKR. 169\,-
URL:https://restaurant-fjorden.dk/event/stegt-flaesk-ad-libitum-2026-01-08/2025-05-08/
LOCATION:Restaurant Fjorden\, Hestehovedet 5\, Nakskov\, 4900
ATTACH;FMTTYPE=image/jpeg:https://restaurant-fjorden.dk/wp-content/uploads/IMG_20161013_182621-scaled.jpg
END:VEVENT
BEGIN:VEVENT
DTSTART;TZID=Europe/Copenhagen:20250501T170000
DTEND;TZID=Europe/Copenhagen:20250501T193000
DTSTAMP:20260420T182216
CREATED:20210302T140205Z
LAST-MODIFIED:20251013T082527Z
UID:10000224-1746118800-1746127800@restaurant-fjorden.dk
SUMMARY:Stegt flæsk ad libitum
DESCRIPTION:AD LIBITUM\nTORSDAGE KL. 17:00\n\n\nSTEGT FLÆSK MED HVIDE KARTOFLER PERSILLESOVS\nOG HJEMMESYLTEDE RØDBEDER. \nDerudover tilbyder vi et mini A La Carte kort\nFRA KL. 17:00.\nKR. 169\,-
URL:https://restaurant-fjorden.dk/event/stegt-flaesk-ad-libitum-2026-01-08/2025-05-01/
LOCATION:Restaurant Fjorden\, Hestehovedet 5\, Nakskov\, 4900
ATTACH;FMTTYPE=image/jpeg:https://restaurant-fjorden.dk/wp-content/uploads/IMG_20161013_182621-scaled.jpg
END:VEVENT
BEGIN:VEVENT
DTSTART;TZID=Europe/Copenhagen:20250424T170000
DTEND;TZID=Europe/Copenhagen:20250424T193000
DTSTAMP:20260420T182216
CREATED:20210302T140205Z
LAST-MODIFIED:20251013T082527Z
UID:10000223-1745514000-1745523000@restaurant-fjorden.dk
SUMMARY:Stegt flæsk ad libitum
DESCRIPTION:AD LIBITUM\nTORSDAGE KL. 17:00\n\n\nSTEGT FLÆSK MED HVIDE KARTOFLER PERSILLESOVS\nOG HJEMMESYLTEDE RØDBEDER. \nDerudover tilbyder vi et mini A La Carte kort\nFRA KL. 17:00.\nKR. 169\,-
URL:https://restaurant-fjorden.dk/event/stegt-flaesk-ad-libitum-2026-01-08/2025-04-24/
LOCATION:Restaurant Fjorden\, Hestehovedet 5\, Nakskov\, 4900
ATTACH;FMTTYPE=image/jpeg:https://restaurant-fjorden.dk/wp-content/uploads/IMG_20161013_182621-scaled.jpg
END:VEVENT
BEGIN:VEVENT
DTSTART;TZID=Europe/Copenhagen:20250420T120000
DTEND;TZID=Europe/Copenhagen:20250420T160000
DTSTAMP:20260420T182216
CREATED:20250303T105327Z
LAST-MODIFIED:20250305T121153Z
UID:10000399-1745150400-1745164800@restaurant-fjorden.dk
SUMMARY:Påskefrokost
DESCRIPTION:Påske buffet\n\n\n\n\nPåske buffet  kl. 12:00 \nSkærtorsdag Langfredag og Påskedag kun mod forudbestilling \n\nMarineret sild\nStegte sild i eddike\nFiskefilet med remoulade\n1/2 æg med rejer\nFlæskesteg med rødkål\nLammekølle med persille og hvidløg\nTarteletter med høns i asparges\nHjemmelavet Leverpostej med surt\n3 slags ost\nRabarber trifli\nPetit kagebord\nForskelligt brød og pesto\n\n\nMod forudbestilling \nPris pr. person 249\,- \nBørn under 11 år 98\,- \nEkskl. Drikkevarer
URL:https://restaurant-fjorden.dk/event/paaskefrokost-2/2025-04-20/
LOCATION:Restaurant Fjorden\, Hestehovedet 5\, Nakskov\, 4900
ATTACH;FMTTYPE=image/jpeg:https://restaurant-fjorden.dk/wp-content/uploads/boba-jaglicic-kztp-VpjlBA-unsplash-scaled.jpg
END:VEVENT
BEGIN:VEVENT
DTSTART;TZID=Europe/Copenhagen:20250418T120000
DTEND;TZID=Europe/Copenhagen:20250418T160000
DTSTAMP:20260420T182216
CREATED:20250303T105327Z
LAST-MODIFIED:20250305T121153Z
UID:10000398-1744977600-1744992000@restaurant-fjorden.dk
SUMMARY:Påskefrokost
DESCRIPTION:Påske buffet\n\n\n\n\nPåske buffet  kl. 12:00 \nSkærtorsdag Langfredag og Påskedag kun mod forudbestilling \n\nMarineret sild\nStegte sild i eddike\nFiskefilet med remoulade\n1/2 æg med rejer\nFlæskesteg med rødkål\nLammekølle med persille og hvidløg\nTarteletter med høns i asparges\nHjemmelavet Leverpostej med surt\n3 slags ost\nRabarber trifli\nPetit kagebord\nForskelligt brød og pesto\n\n\nMod forudbestilling \nPris pr. person 249\,- \nBørn under 11 år 98\,- \nEkskl. Drikkevarer
URL:https://restaurant-fjorden.dk/event/paaskefrokost-2/2025-04-18/
LOCATION:Restaurant Fjorden\, Hestehovedet 5\, Nakskov\, 4900
ATTACH;FMTTYPE=image/jpeg:https://restaurant-fjorden.dk/wp-content/uploads/boba-jaglicic-kztp-VpjlBA-unsplash-scaled.jpg
END:VEVENT
END:VCALENDAR