BEGIN:VCALENDAR
VERSION:2.0
PRODID:-//Restaurant Fjorden - ECPv6.15.20//NONSGML v1.0//EN
CALSCALE:GREGORIAN
METHOD:PUBLISH
X-ORIGINAL-URL:https://restaurant-fjorden.dk
X-WR-CALDESC:Begivenheder for Restaurant Fjorden
REFRESH-INTERVAL;VALUE=DURATION:PT1H
X-Robots-Tag:noindex
X-PUBLISHED-TTL:PT1H
BEGIN:VTIMEZONE
TZID:Europe/Copenhagen
BEGIN:DAYLIGHT
TZOFFSETFROM:+0100
TZOFFSETTO:+0200
TZNAME:CEST
DTSTART:20250330T010000
END:DAYLIGHT
BEGIN:STANDARD
TZOFFSETFROM:+0200
TZOFFSETTO:+0100
TZNAME:CET
DTSTART:20251026T010000
END:STANDARD
BEGIN:DAYLIGHT
TZOFFSETFROM:+0100
TZOFFSETTO:+0200
TZNAME:CEST
DTSTART:20260329T010000
END:DAYLIGHT
BEGIN:STANDARD
TZOFFSETFROM:+0200
TZOFFSETTO:+0100
TZNAME:CET
DTSTART:20261025T010000
END:STANDARD
BEGIN:DAYLIGHT
TZOFFSETFROM:+0100
TZOFFSETTO:+0200
TZNAME:CEST
DTSTART:20270328T010000
END:DAYLIGHT
BEGIN:STANDARD
TZOFFSETFROM:+0200
TZOFFSETTO:+0100
TZNAME:CET
DTSTART:20271031T010000
END:STANDARD
END:VTIMEZONE
BEGIN:VEVENT
DTSTART;TZID=Europe/Copenhagen:20260423T170000
DTEND;TZID=Europe/Copenhagen:20260423T193000
DTSTAMP:20260421T133639
CREATED:20251229T095001Z
LAST-MODIFIED:20260127T091317Z
UID:10001635-1776963600-1776972600@restaurant-fjorden.dk
SUMMARY:Stegt flæsk ad libitum
DESCRIPTION:AD LIBITUM\nTORSDAGE KL. 17:00\n\n\nSTEGT FLÆSK MED HVIDE KARTOFLER PERSILLESOVS\nOG HJEMMESYLTEDE RØDBEDER. \nDerudover tilbyder vi et mini A La Carte kort\nFRA KL. 17:00.\nKR. 179\,-
URL:https://restaurant-fjorden.dk/event/stegt-flaesk-ad-libitum-2/2026-04-23/
LOCATION:Restaurant Fjorden\, Hestehovedet 5\, Nakskov\, 4900
ATTACH;FMTTYPE=image/jpeg:https://restaurant-fjorden.dk/wp-content/uploads/IMG_20161013_182621-scaled.jpg
END:VEVENT
BEGIN:VEVENT
DTSTART;TZID=Europe/Copenhagen:20260424T170000
DTEND;TZID=Europe/Copenhagen:20260424T193000
DTSTAMP:20260421T133639
CREATED:20260129T151448Z
LAST-MODIFIED:20260416T130445Z
UID:10001705-1777050000-1777059000@restaurant-fjorden.dk
SUMMARY:Fjordens Plankesteak
DESCRIPTION:Vi kører med 2 nye retter Fredag til Søndag fra 17:00-19:30 \nFjordens Plankesteak – Kr. 289\,00 \nDet er Pasta vendt i mornaysauce med kylling og grøntsager – Kr. 155\,00 \n  \nHusk at bestille bord\, hvis du vil sikre dig en plads.
URL:https://restaurant-fjorden.dk/event/fjordens-plankesteak/2026-04-24/
LOCATION:Restaurant Fjorden\, Hestehovedet 5\, Nakskov\, 4900
ATTACH;FMTTYPE=image/jpeg:https://restaurant-fjorden.dk/wp-content/uploads/20260128_131429-scaled.jpg
END:VEVENT
BEGIN:VEVENT
DTSTART;TZID=Europe/Copenhagen:20260425T170000
DTEND;TZID=Europe/Copenhagen:20260425T193000
DTSTAMP:20260421T133639
CREATED:20260129T151448Z
LAST-MODIFIED:20260416T130445Z
UID:10001706-1777136400-1777145400@restaurant-fjorden.dk
SUMMARY:Fjordens Plankesteak
DESCRIPTION:Vi kører med 2 nye retter Fredag til Søndag fra 17:00-19:30 \nFjordens Plankesteak – Kr. 289\,00 \nDet er Pasta vendt i mornaysauce med kylling og grøntsager – Kr. 155\,00 \n  \nHusk at bestille bord\, hvis du vil sikre dig en plads.
URL:https://restaurant-fjorden.dk/event/fjordens-plankesteak/2026-04-25/
LOCATION:Restaurant Fjorden\, Hestehovedet 5\, Nakskov\, 4900
ATTACH;FMTTYPE=image/jpeg:https://restaurant-fjorden.dk/wp-content/uploads/20260128_131429-scaled.jpg
END:VEVENT
BEGIN:VEVENT
DTSTART;TZID=Europe/Copenhagen:20260426T170000
DTEND;TZID=Europe/Copenhagen:20260426T193000
DTSTAMP:20260421T133639
CREATED:20260129T151448Z
LAST-MODIFIED:20260416T130445Z
UID:10001707-1777222800-1777231800@restaurant-fjorden.dk
SUMMARY:Fjordens Plankesteak
DESCRIPTION:Vi kører med 2 nye retter Fredag til Søndag fra 17:00-19:30 \nFjordens Plankesteak – Kr. 289\,00 \nDet er Pasta vendt i mornaysauce med kylling og grøntsager – Kr. 155\,00 \n  \nHusk at bestille bord\, hvis du vil sikre dig en plads.
URL:https://restaurant-fjorden.dk/event/fjordens-plankesteak/2026-04-26/
LOCATION:Restaurant Fjorden\, Hestehovedet 5\, Nakskov\, 4900
ATTACH;FMTTYPE=image/jpeg:https://restaurant-fjorden.dk/wp-content/uploads/20260128_131429-scaled.jpg
END:VEVENT
BEGIN:VEVENT
DTSTART;TZID=Europe/Copenhagen:20260430T170000
DTEND;TZID=Europe/Copenhagen:20260430T193000
DTSTAMP:20260421T133639
CREATED:20251229T095001Z
LAST-MODIFIED:20260127T091317Z
UID:10001636-1777568400-1777577400@restaurant-fjorden.dk
SUMMARY:Stegt flæsk ad libitum
DESCRIPTION:AD LIBITUM\nTORSDAGE KL. 17:00\n\n\nSTEGT FLÆSK MED HVIDE KARTOFLER PERSILLESOVS\nOG HJEMMESYLTEDE RØDBEDER. \nDerudover tilbyder vi et mini A La Carte kort\nFRA KL. 17:00.\nKR. 179\,-
URL:https://restaurant-fjorden.dk/event/stegt-flaesk-ad-libitum-2/2026-04-30/
LOCATION:Restaurant Fjorden\, Hestehovedet 5\, Nakskov\, 4900
ATTACH;FMTTYPE=image/jpeg:https://restaurant-fjorden.dk/wp-content/uploads/IMG_20161013_182621-scaled.jpg
END:VEVENT
BEGIN:VEVENT
DTSTART;TZID=Europe/Copenhagen:20260501T170000
DTEND;TZID=Europe/Copenhagen:20260501T193000
DTSTAMP:20260421T133639
CREATED:20260129T151448Z
LAST-MODIFIED:20260416T130445Z
UID:10001708-1777654800-1777663800@restaurant-fjorden.dk
SUMMARY:Fjordens Plankesteak
DESCRIPTION:Vi kører med 2 nye retter Fredag til Søndag fra 17:00-19:30 \nFjordens Plankesteak – Kr. 289\,00 \nDet er Pasta vendt i mornaysauce med kylling og grøntsager – Kr. 155\,00 \n  \nHusk at bestille bord\, hvis du vil sikre dig en plads.
URL:https://restaurant-fjorden.dk/event/fjordens-plankesteak/2026-05-01/
LOCATION:Restaurant Fjorden\, Hestehovedet 5\, Nakskov\, 4900
ATTACH;FMTTYPE=image/jpeg:https://restaurant-fjorden.dk/wp-content/uploads/20260128_131429-scaled.jpg
END:VEVENT
BEGIN:VEVENT
DTSTART;TZID=Europe/Copenhagen:20260502T170000
DTEND;TZID=Europe/Copenhagen:20260502T193000
DTSTAMP:20260421T133639
CREATED:20260129T151448Z
LAST-MODIFIED:20260416T130445Z
UID:10001709-1777741200-1777750200@restaurant-fjorden.dk
SUMMARY:Fjordens Plankesteak
DESCRIPTION:Vi kører med 2 nye retter Fredag til Søndag fra 17:00-19:30 \nFjordens Plankesteak – Kr. 289\,00 \nDet er Pasta vendt i mornaysauce med kylling og grøntsager – Kr. 155\,00 \n  \nHusk at bestille bord\, hvis du vil sikre dig en plads.
URL:https://restaurant-fjorden.dk/event/fjordens-plankesteak/2026-05-02/
LOCATION:Restaurant Fjorden\, Hestehovedet 5\, Nakskov\, 4900
ATTACH;FMTTYPE=image/jpeg:https://restaurant-fjorden.dk/wp-content/uploads/20260128_131429-scaled.jpg
END:VEVENT
BEGIN:VEVENT
DTSTART;TZID=Europe/Copenhagen:20260503T170000
DTEND;TZID=Europe/Copenhagen:20260503T193000
DTSTAMP:20260421T133639
CREATED:20260129T151448Z
LAST-MODIFIED:20260416T130445Z
UID:10001710-1777827600-1777836600@restaurant-fjorden.dk
SUMMARY:Fjordens Plankesteak
DESCRIPTION:Vi kører med 2 nye retter Fredag til Søndag fra 17:00-19:30 \nFjordens Plankesteak – Kr. 289\,00 \nDet er Pasta vendt i mornaysauce med kylling og grøntsager – Kr. 155\,00 \n  \nHusk at bestille bord\, hvis du vil sikre dig en plads.
URL:https://restaurant-fjorden.dk/event/fjordens-plankesteak/2026-05-03/
LOCATION:Restaurant Fjorden\, Hestehovedet 5\, Nakskov\, 4900
ATTACH;FMTTYPE=image/jpeg:https://restaurant-fjorden.dk/wp-content/uploads/20260128_131429-scaled.jpg
END:VEVENT
BEGIN:VEVENT
DTSTART;TZID=Europe/Copenhagen:20260507T170000
DTEND;TZID=Europe/Copenhagen:20260507T193000
DTSTAMP:20260421T133639
CREATED:20251229T095001Z
LAST-MODIFIED:20260127T091317Z
UID:10001637-1778173200-1778182200@restaurant-fjorden.dk
SUMMARY:Stegt flæsk ad libitum
DESCRIPTION:AD LIBITUM\nTORSDAGE KL. 17:00\n\n\nSTEGT FLÆSK MED HVIDE KARTOFLER PERSILLESOVS\nOG HJEMMESYLTEDE RØDBEDER. \nDerudover tilbyder vi et mini A La Carte kort\nFRA KL. 17:00.\nKR. 179\,-
URL:https://restaurant-fjorden.dk/event/stegt-flaesk-ad-libitum-2/2026-05-07/
LOCATION:Restaurant Fjorden\, Hestehovedet 5\, Nakskov\, 4900
ATTACH;FMTTYPE=image/jpeg:https://restaurant-fjorden.dk/wp-content/uploads/IMG_20161013_182621-scaled.jpg
END:VEVENT
BEGIN:VEVENT
DTSTART;TZID=Europe/Copenhagen:20260508T170000
DTEND;TZID=Europe/Copenhagen:20260508T193000
DTSTAMP:20260421T133639
CREATED:20260129T151448Z
LAST-MODIFIED:20260416T130445Z
UID:10001711-1778259600-1778268600@restaurant-fjorden.dk
SUMMARY:Fjordens Plankesteak
DESCRIPTION:Vi kører med 2 nye retter Fredag til Søndag fra 17:00-19:30 \nFjordens Plankesteak – Kr. 289\,00 \nDet er Pasta vendt i mornaysauce med kylling og grøntsager – Kr. 155\,00 \n  \nHusk at bestille bord\, hvis du vil sikre dig en plads.
URL:https://restaurant-fjorden.dk/event/fjordens-plankesteak/2026-05-08/
LOCATION:Restaurant Fjorden\, Hestehovedet 5\, Nakskov\, 4900
ATTACH;FMTTYPE=image/jpeg:https://restaurant-fjorden.dk/wp-content/uploads/20260128_131429-scaled.jpg
END:VEVENT
BEGIN:VEVENT
DTSTART;TZID=Europe/Copenhagen:20260509T170000
DTEND;TZID=Europe/Copenhagen:20260509T193000
DTSTAMP:20260421T133639
CREATED:20260129T151448Z
LAST-MODIFIED:20260416T130445Z
UID:10001712-1778346000-1778355000@restaurant-fjorden.dk
SUMMARY:Fjordens Plankesteak
DESCRIPTION:Vi kører med 2 nye retter Fredag til Søndag fra 17:00-19:30 \nFjordens Plankesteak – Kr. 289\,00 \nDet er Pasta vendt i mornaysauce med kylling og grøntsager – Kr. 155\,00 \n  \nHusk at bestille bord\, hvis du vil sikre dig en plads.
URL:https://restaurant-fjorden.dk/event/fjordens-plankesteak/2026-05-09/
LOCATION:Restaurant Fjorden\, Hestehovedet 5\, Nakskov\, 4900
ATTACH;FMTTYPE=image/jpeg:https://restaurant-fjorden.dk/wp-content/uploads/20260128_131429-scaled.jpg
END:VEVENT
BEGIN:VEVENT
DTSTART;TZID=Europe/Copenhagen:20260510T100000
DTEND;TZID=Europe/Copenhagen:20260510T130000
DTSTAMP:20260421T133639
CREATED:20260413T075356Z
LAST-MODIFIED:20260420T070638Z
UID:10001885-1778407200-1778418000@restaurant-fjorden.dk
SUMMARY:Mors dag brunch
DESCRIPTION:Mors dag brunch laves mod forudbestilling. \nTil brunch hører flg. med: \nRøræg\nBrunch pølser\nBacon\nHjemmelavet rullepølse\nHjemmelavet leverpostej\n2 Slags ost\n1 Slags syltetøj\nMelon og skinke\nFrikadeller med salat bowle\nGrøntsags tærte\nAmerikansk pandekage og sirup \nDertil rugbrød og lyst brød. \nPris kr. 249\,- pr. person\n(Inkl. drikkevarer: 2 slags juice\, kaffe/te samt alm. vand ad libitum)
URL:https://restaurant-fjorden.dk/event/mors-dag-brunch-2026/
LOCATION:Restaurant Fjorden\, Hestehovedet 5\, Nakskov\, 4900
ATTACH;FMTTYPE=image/jpeg:https://restaurant-fjorden.dk/wp-content/uploads/nye-billeder-6.jpg
END:VEVENT
BEGIN:VEVENT
DTSTART;TZID=Europe/Copenhagen:20260510T170000
DTEND;TZID=Europe/Copenhagen:20260510T193000
DTSTAMP:20260421T133639
CREATED:20260129T151448Z
LAST-MODIFIED:20260416T130445Z
UID:10001886-1778432400-1778441400@restaurant-fjorden.dk
SUMMARY:Fjordens Plankesteak
DESCRIPTION:Vi kører med 2 nye retter Fredag til Søndag fra 17:00-19:30 \nFjordens Plankesteak – Kr. 289\,00 \nDet er Pasta vendt i mornaysauce med kylling og grøntsager – Kr. 155\,00 \n  \nHusk at bestille bord\, hvis du vil sikre dig en plads.
URL:https://restaurant-fjorden.dk/event/fjordens-plankesteak/2026-05-10/
LOCATION:Restaurant Fjorden\, Hestehovedet 5\, Nakskov\, 4900
ATTACH;FMTTYPE=image/jpeg:https://restaurant-fjorden.dk/wp-content/uploads/20260128_131429-scaled.jpg
END:VEVENT
BEGIN:VEVENT
DTSTART;TZID=Europe/Copenhagen:20260510T170000
DTEND;TZID=Europe/Copenhagen:20260510T200000
DTSTAMP:20260421T133639
CREATED:20260413T075353Z
LAST-MODIFIED:20260420T070613Z
UID:10001884-1778432400-1778443200@restaurant-fjorden.dk
SUMMARY:Mors Dag Menu
DESCRIPTION:Mors dag menu laves kun mod forudbestilling. \nForret:\nVarmrøget laks m/ avocado creme\nAnrettes på ristet brød \nHovedret:\nMarineret Oksemedallion m/bacon.\nServeret m/kartoffelgratin\, årstidens grøntsager\, smørdampede gulerod m/top\, Samt Sauce Bearnaise. \nDessert:\nPavlova med stikkelsbær/kivi kompot og Marscarponelakrids \n2 retter – 369\,-\n3 retter – 398\,- \nKUN MOD FORUDBESTILLING
URL:https://restaurant-fjorden.dk/event/mors-dag-menu-2026/
LOCATION:Restaurant Fjorden\, Hestehovedet 5\, Nakskov\, 4900
ATTACH;FMTTYPE=image/jpeg:https://restaurant-fjorden.dk/wp-content/uploads/20260415_170813-scaled.jpg
END:VEVENT
BEGIN:VEVENT
DTSTART;TZID=Europe/Copenhagen:20260514T170000
DTEND;TZID=Europe/Copenhagen:20260514T193000
DTSTAMP:20260421T133639
CREATED:20251229T095001Z
LAST-MODIFIED:20260127T091317Z
UID:10001638-1778778000-1778787000@restaurant-fjorden.dk
SUMMARY:Stegt flæsk ad libitum
DESCRIPTION:AD LIBITUM\nTORSDAGE KL. 17:00\n\n\nSTEGT FLÆSK MED HVIDE KARTOFLER PERSILLESOVS\nOG HJEMMESYLTEDE RØDBEDER. \nDerudover tilbyder vi et mini A La Carte kort\nFRA KL. 17:00.\nKR. 179\,-
URL:https://restaurant-fjorden.dk/event/stegt-flaesk-ad-libitum-2/2026-05-14/
LOCATION:Restaurant Fjorden\, Hestehovedet 5\, Nakskov\, 4900
ATTACH;FMTTYPE=image/jpeg:https://restaurant-fjorden.dk/wp-content/uploads/IMG_20161013_182621-scaled.jpg
END:VEVENT
BEGIN:VEVENT
DTSTART;TZID=Europe/Copenhagen:20260515T170000
DTEND;TZID=Europe/Copenhagen:20260515T193000
DTSTAMP:20260421T133639
CREATED:20260129T151448Z
LAST-MODIFIED:20260416T130445Z
UID:10001714-1778864400-1778873400@restaurant-fjorden.dk
SUMMARY:Fjordens Plankesteak
DESCRIPTION:Vi kører med 2 nye retter Fredag til Søndag fra 17:00-19:30 \nFjordens Plankesteak – Kr. 289\,00 \nDet er Pasta vendt i mornaysauce med kylling og grøntsager – Kr. 155\,00 \n  \nHusk at bestille bord\, hvis du vil sikre dig en plads.
URL:https://restaurant-fjorden.dk/event/fjordens-plankesteak/2026-05-15/
LOCATION:Restaurant Fjorden\, Hestehovedet 5\, Nakskov\, 4900
ATTACH;FMTTYPE=image/jpeg:https://restaurant-fjorden.dk/wp-content/uploads/20260128_131429-scaled.jpg
END:VEVENT
BEGIN:VEVENT
DTSTART;TZID=Europe/Copenhagen:20260516T170000
DTEND;TZID=Europe/Copenhagen:20260516T193000
DTSTAMP:20260421T133639
CREATED:20260129T151448Z
LAST-MODIFIED:20260416T130445Z
UID:10001715-1778950800-1778959800@restaurant-fjorden.dk
SUMMARY:Fjordens Plankesteak
DESCRIPTION:Vi kører med 2 nye retter Fredag til Søndag fra 17:00-19:30 \nFjordens Plankesteak – Kr. 289\,00 \nDet er Pasta vendt i mornaysauce med kylling og grøntsager – Kr. 155\,00 \n  \nHusk at bestille bord\, hvis du vil sikre dig en plads.
URL:https://restaurant-fjorden.dk/event/fjordens-plankesteak/2026-05-16/
LOCATION:Restaurant Fjorden\, Hestehovedet 5\, Nakskov\, 4900
ATTACH;FMTTYPE=image/jpeg:https://restaurant-fjorden.dk/wp-content/uploads/20260128_131429-scaled.jpg
END:VEVENT
BEGIN:VEVENT
DTSTART;TZID=Europe/Copenhagen:20260517T170000
DTEND;TZID=Europe/Copenhagen:20260517T193000
DTSTAMP:20260421T133639
CREATED:20260129T151448Z
LAST-MODIFIED:20260416T130445Z
UID:10001716-1779037200-1779046200@restaurant-fjorden.dk
SUMMARY:Fjordens Plankesteak
DESCRIPTION:Vi kører med 2 nye retter Fredag til Søndag fra 17:00-19:30 \nFjordens Plankesteak – Kr. 289\,00 \nDet er Pasta vendt i mornaysauce med kylling og grøntsager – Kr. 155\,00 \n  \nHusk at bestille bord\, hvis du vil sikre dig en plads.
URL:https://restaurant-fjorden.dk/event/fjordens-plankesteak/2026-05-17/
LOCATION:Restaurant Fjorden\, Hestehovedet 5\, Nakskov\, 4900
ATTACH;FMTTYPE=image/jpeg:https://restaurant-fjorden.dk/wp-content/uploads/20260128_131429-scaled.jpg
END:VEVENT
BEGIN:VEVENT
DTSTART;TZID=Europe/Copenhagen:20260521T170000
DTEND;TZID=Europe/Copenhagen:20260521T193000
DTSTAMP:20260421T133639
CREATED:20251229T095001Z
LAST-MODIFIED:20260127T091317Z
UID:10001639-1779382800-1779391800@restaurant-fjorden.dk
SUMMARY:Stegt flæsk ad libitum
DESCRIPTION:AD LIBITUM\nTORSDAGE KL. 17:00\n\n\nSTEGT FLÆSK MED HVIDE KARTOFLER PERSILLESOVS\nOG HJEMMESYLTEDE RØDBEDER. \nDerudover tilbyder vi et mini A La Carte kort\nFRA KL. 17:00.\nKR. 179\,-
URL:https://restaurant-fjorden.dk/event/stegt-flaesk-ad-libitum-2/2026-05-21/
LOCATION:Restaurant Fjorden\, Hestehovedet 5\, Nakskov\, 4900
ATTACH;FMTTYPE=image/jpeg:https://restaurant-fjorden.dk/wp-content/uploads/IMG_20161013_182621-scaled.jpg
END:VEVENT
BEGIN:VEVENT
DTSTART;TZID=Europe/Copenhagen:20260522T170000
DTEND;TZID=Europe/Copenhagen:20260522T193000
DTSTAMP:20260421T133639
CREATED:20260129T151448Z
LAST-MODIFIED:20260416T130445Z
UID:10001717-1779469200-1779478200@restaurant-fjorden.dk
SUMMARY:Fjordens Plankesteak
DESCRIPTION:Vi kører med 2 nye retter Fredag til Søndag fra 17:00-19:30 \nFjordens Plankesteak – Kr. 289\,00 \nDet er Pasta vendt i mornaysauce med kylling og grøntsager – Kr. 155\,00 \n  \nHusk at bestille bord\, hvis du vil sikre dig en plads.
URL:https://restaurant-fjorden.dk/event/fjordens-plankesteak/2026-05-22/
LOCATION:Restaurant Fjorden\, Hestehovedet 5\, Nakskov\, 4900
ATTACH;FMTTYPE=image/jpeg:https://restaurant-fjorden.dk/wp-content/uploads/20260128_131429-scaled.jpg
END:VEVENT
BEGIN:VEVENT
DTSTART;TZID=Europe/Copenhagen:20260523T120000
DTEND;TZID=Europe/Copenhagen:20260523T150000
DTSTAMP:20260421T133639
CREATED:20260416T130809Z
LAST-MODIFIED:20260416T130809Z
UID:10001888-1779537600-1779548400@restaurant-fjorden.dk
SUMMARY:Pinsefrokost
DESCRIPTION:Pinsefrokost buffet fra kl. 12:00 – Alle pinsedagene (23.\, 24. og 25. maj) \nKun mod forudbestilling \n\nMarineret sild\nStegte sild i eddike\nFiskefilet med remoulade\n1/2 æg med rejer\nHjemmerøget laks med sauce verte\nFlæskesteg med hjemmelavet rødkål\nTarteletter med høns i asparges\nHjemmelavet lun leverpostej med surt\n3 slags ost\nRabarber trifli\nPetit kagebord\nForskelligt brød og pesto\n\nMod forudbestilling \nPris pr. person 249\,- \nBørn under 11 år 98\,- \nEkskl. Drikkevarer
URL:https://restaurant-fjorden.dk/event/pinsefrokost-2026/2026-05-23/
LOCATION:Restaurant Fjorden\, Hestehovedet 5\, Nakskov\, 4900
ATTACH;FMTTYPE=image/jpeg:https://restaurant-fjorden.dk/wp-content/uploads/nye-billeder-9.jpg
END:VEVENT
BEGIN:VEVENT
DTSTART;TZID=Europe/Copenhagen:20260523T170000
DTEND;TZID=Europe/Copenhagen:20260523T193000
DTSTAMP:20260421T133639
CREATED:20260129T151448Z
LAST-MODIFIED:20260416T130445Z
UID:10001718-1779555600-1779564600@restaurant-fjorden.dk
SUMMARY:Fjordens Plankesteak
DESCRIPTION:Vi kører med 2 nye retter Fredag til Søndag fra 17:00-19:30 \nFjordens Plankesteak – Kr. 289\,00 \nDet er Pasta vendt i mornaysauce med kylling og grøntsager – Kr. 155\,00 \n  \nHusk at bestille bord\, hvis du vil sikre dig en plads.
URL:https://restaurant-fjorden.dk/event/fjordens-plankesteak/2026-05-23/
LOCATION:Restaurant Fjorden\, Hestehovedet 5\, Nakskov\, 4900
ATTACH;FMTTYPE=image/jpeg:https://restaurant-fjorden.dk/wp-content/uploads/20260128_131429-scaled.jpg
END:VEVENT
BEGIN:VEVENT
DTSTART;TZID=Europe/Copenhagen:20260524T120000
DTEND;TZID=Europe/Copenhagen:20260524T150000
DTSTAMP:20260421T133639
CREATED:20260416T130809Z
LAST-MODIFIED:20260416T130809Z
UID:10001889-1779624000-1779634800@restaurant-fjorden.dk
SUMMARY:Pinsefrokost
DESCRIPTION:Pinsefrokost buffet fra kl. 12:00 – Alle pinsedagene (23.\, 24. og 25. maj) \nKun mod forudbestilling \n\nMarineret sild\nStegte sild i eddike\nFiskefilet med remoulade\n1/2 æg med rejer\nHjemmerøget laks med sauce verte\nFlæskesteg med hjemmelavet rødkål\nTarteletter med høns i asparges\nHjemmelavet lun leverpostej med surt\n3 slags ost\nRabarber trifli\nPetit kagebord\nForskelligt brød og pesto\n\nMod forudbestilling \nPris pr. person 249\,- \nBørn under 11 år 98\,- \nEkskl. Drikkevarer
URL:https://restaurant-fjorden.dk/event/pinsefrokost-2026/2026-05-24/
LOCATION:Restaurant Fjorden\, Hestehovedet 5\, Nakskov\, 4900
ATTACH;FMTTYPE=image/jpeg:https://restaurant-fjorden.dk/wp-content/uploads/nye-billeder-9.jpg
END:VEVENT
BEGIN:VEVENT
DTSTART;TZID=Europe/Copenhagen:20260524T170000
DTEND;TZID=Europe/Copenhagen:20260524T193000
DTSTAMP:20260421T133639
CREATED:20260129T151448Z
LAST-MODIFIED:20260416T130445Z
UID:10001719-1779642000-1779651000@restaurant-fjorden.dk
SUMMARY:Fjordens Plankesteak
DESCRIPTION:Vi kører med 2 nye retter Fredag til Søndag fra 17:00-19:30 \nFjordens Plankesteak – Kr. 289\,00 \nDet er Pasta vendt i mornaysauce med kylling og grøntsager – Kr. 155\,00 \n  \nHusk at bestille bord\, hvis du vil sikre dig en plads.
URL:https://restaurant-fjorden.dk/event/fjordens-plankesteak/2026-05-24/
LOCATION:Restaurant Fjorden\, Hestehovedet 5\, Nakskov\, 4900
ATTACH;FMTTYPE=image/jpeg:https://restaurant-fjorden.dk/wp-content/uploads/20260128_131429-scaled.jpg
END:VEVENT
BEGIN:VEVENT
DTSTART;TZID=Europe/Copenhagen:20260525T120000
DTEND;TZID=Europe/Copenhagen:20260525T150000
DTSTAMP:20260421T133639
CREATED:20260416T130809Z
LAST-MODIFIED:20260416T130809Z
UID:10001890-1779710400-1779721200@restaurant-fjorden.dk
SUMMARY:Pinsefrokost
DESCRIPTION:Pinsefrokost buffet fra kl. 12:00 – Alle pinsedagene (23.\, 24. og 25. maj) \nKun mod forudbestilling \n\nMarineret sild\nStegte sild i eddike\nFiskefilet med remoulade\n1/2 æg med rejer\nHjemmerøget laks med sauce verte\nFlæskesteg med hjemmelavet rødkål\nTarteletter med høns i asparges\nHjemmelavet lun leverpostej med surt\n3 slags ost\nRabarber trifli\nPetit kagebord\nForskelligt brød og pesto\n\nMod forudbestilling \nPris pr. person 249\,- \nBørn under 11 år 98\,- \nEkskl. Drikkevarer
URL:https://restaurant-fjorden.dk/event/pinsefrokost-2026/2026-05-25/
LOCATION:Restaurant Fjorden\, Hestehovedet 5\, Nakskov\, 4900
ATTACH;FMTTYPE=image/jpeg:https://restaurant-fjorden.dk/wp-content/uploads/nye-billeder-9.jpg
END:VEVENT
BEGIN:VEVENT
DTSTART;TZID=Europe/Copenhagen:20260528T170000
DTEND;TZID=Europe/Copenhagen:20260528T193000
DTSTAMP:20260421T133639
CREATED:20251229T095001Z
LAST-MODIFIED:20260127T091317Z
UID:10001640-1779987600-1779996600@restaurant-fjorden.dk
SUMMARY:Stegt flæsk ad libitum
DESCRIPTION:AD LIBITUM\nTORSDAGE KL. 17:00\n\n\nSTEGT FLÆSK MED HVIDE KARTOFLER PERSILLESOVS\nOG HJEMMESYLTEDE RØDBEDER. \nDerudover tilbyder vi et mini A La Carte kort\nFRA KL. 17:00.\nKR. 179\,-
URL:https://restaurant-fjorden.dk/event/stegt-flaesk-ad-libitum-2/2026-05-28/
LOCATION:Restaurant Fjorden\, Hestehovedet 5\, Nakskov\, 4900
ATTACH;FMTTYPE=image/jpeg:https://restaurant-fjorden.dk/wp-content/uploads/IMG_20161013_182621-scaled.jpg
END:VEVENT
BEGIN:VEVENT
DTSTART;TZID=Europe/Copenhagen:20260529T170000
DTEND;TZID=Europe/Copenhagen:20260529T193000
DTSTAMP:20260421T133639
CREATED:20260129T151448Z
LAST-MODIFIED:20260416T130445Z
UID:10001720-1780074000-1780083000@restaurant-fjorden.dk
SUMMARY:Fjordens Plankesteak
DESCRIPTION:Vi kører med 2 nye retter Fredag til Søndag fra 17:00-19:30 \nFjordens Plankesteak – Kr. 289\,00 \nDet er Pasta vendt i mornaysauce med kylling og grøntsager – Kr. 155\,00 \n  \nHusk at bestille bord\, hvis du vil sikre dig en plads.
URL:https://restaurant-fjorden.dk/event/fjordens-plankesteak/2026-05-29/
LOCATION:Restaurant Fjorden\, Hestehovedet 5\, Nakskov\, 4900
ATTACH;FMTTYPE=image/jpeg:https://restaurant-fjorden.dk/wp-content/uploads/20260128_131429-scaled.jpg
END:VEVENT
BEGIN:VEVENT
DTSTART;TZID=Europe/Copenhagen:20260530T170000
DTEND;TZID=Europe/Copenhagen:20260530T193000
DTSTAMP:20260421T133639
CREATED:20260129T151448Z
LAST-MODIFIED:20260416T130445Z
UID:10001721-1780160400-1780169400@restaurant-fjorden.dk
SUMMARY:Fjordens Plankesteak
DESCRIPTION:Vi kører med 2 nye retter Fredag til Søndag fra 17:00-19:30 \nFjordens Plankesteak – Kr. 289\,00 \nDet er Pasta vendt i mornaysauce med kylling og grøntsager – Kr. 155\,00 \n  \nHusk at bestille bord\, hvis du vil sikre dig en plads.
URL:https://restaurant-fjorden.dk/event/fjordens-plankesteak/2026-05-30/
LOCATION:Restaurant Fjorden\, Hestehovedet 5\, Nakskov\, 4900
ATTACH;FMTTYPE=image/jpeg:https://restaurant-fjorden.dk/wp-content/uploads/20260128_131429-scaled.jpg
END:VEVENT
BEGIN:VEVENT
DTSTART;TZID=Europe/Copenhagen:20260531T170000
DTEND;TZID=Europe/Copenhagen:20260531T193000
DTSTAMP:20260421T133639
CREATED:20260129T151448Z
LAST-MODIFIED:20260416T130445Z
UID:10001722-1780246800-1780255800@restaurant-fjorden.dk
SUMMARY:Fjordens Plankesteak
DESCRIPTION:Vi kører med 2 nye retter Fredag til Søndag fra 17:00-19:30 \nFjordens Plankesteak – Kr. 289\,00 \nDet er Pasta vendt i mornaysauce med kylling og grøntsager – Kr. 155\,00 \n  \nHusk at bestille bord\, hvis du vil sikre dig en plads.
URL:https://restaurant-fjorden.dk/event/fjordens-plankesteak/2026-05-31/
LOCATION:Restaurant Fjorden\, Hestehovedet 5\, Nakskov\, 4900
ATTACH;FMTTYPE=image/jpeg:https://restaurant-fjorden.dk/wp-content/uploads/20260128_131429-scaled.jpg
END:VEVENT
BEGIN:VEVENT
DTSTART;TZID=Europe/Copenhagen:20260604T170000
DTEND;TZID=Europe/Copenhagen:20260604T193000
DTSTAMP:20260421T133639
CREATED:20251229T095001Z
LAST-MODIFIED:20260127T091317Z
UID:10001641-1780592400-1780601400@restaurant-fjorden.dk
SUMMARY:Stegt flæsk ad libitum
DESCRIPTION:AD LIBITUM\nTORSDAGE KL. 17:00\n\n\nSTEGT FLÆSK MED HVIDE KARTOFLER PERSILLESOVS\nOG HJEMMESYLTEDE RØDBEDER. \nDerudover tilbyder vi et mini A La Carte kort\nFRA KL. 17:00.\nKR. 179\,-
URL:https://restaurant-fjorden.dk/event/stegt-flaesk-ad-libitum-2/2026-06-04/
LOCATION:Restaurant Fjorden\, Hestehovedet 5\, Nakskov\, 4900
ATTACH;FMTTYPE=image/jpeg:https://restaurant-fjorden.dk/wp-content/uploads/IMG_20161013_182621-scaled.jpg
END:VEVENT
END:VCALENDAR