BEGIN:VCALENDAR
VERSION:2.0
PRODID:-//Restaurant Fjorden - ECPv6.15.20//NONSGML v1.0//EN
CALSCALE:GREGORIAN
METHOD:PUBLISH
X-WR-CALNAME:Restaurant Fjorden
X-ORIGINAL-URL:https://restaurant-fjorden.dk
X-WR-CALDESC:Begivenheder for Restaurant Fjorden
REFRESH-INTERVAL;VALUE=DURATION:PT1H
X-Robots-Tag:noindex
X-PUBLISHED-TTL:PT1H
BEGIN:VTIMEZONE
TZID:Europe/Copenhagen
BEGIN:DAYLIGHT
TZOFFSETFROM:+0100
TZOFFSETTO:+0200
TZNAME:CEST
DTSTART:20250330T010000
END:DAYLIGHT
BEGIN:STANDARD
TZOFFSETFROM:+0200
TZOFFSETTO:+0100
TZNAME:CET
DTSTART:20251026T010000
END:STANDARD
BEGIN:DAYLIGHT
TZOFFSETFROM:+0100
TZOFFSETTO:+0200
TZNAME:CEST
DTSTART:20260329T010000
END:DAYLIGHT
BEGIN:STANDARD
TZOFFSETFROM:+0200
TZOFFSETTO:+0100
TZNAME:CET
DTSTART:20261025T010000
END:STANDARD
BEGIN:DAYLIGHT
TZOFFSETFROM:+0100
TZOFFSETTO:+0200
TZNAME:CEST
DTSTART:20270328T010000
END:DAYLIGHT
BEGIN:STANDARD
TZOFFSETFROM:+0200
TZOFFSETTO:+0100
TZNAME:CET
DTSTART:20271031T010000
END:STANDARD
END:VTIMEZONE
BEGIN:VEVENT
DTSTART;TZID=Europe/Copenhagen:20261101T170000
DTEND;TZID=Europe/Copenhagen:20261101T193000
DTSTAMP:20260423T002101
CREATED:20260129T151448Z
LAST-MODIFIED:20260416T130445Z
UID:10001788-1793552400-1793561400@restaurant-fjorden.dk
SUMMARY:Fjordens Plankesteak
DESCRIPTION:Vi kører med 2 nye retter Fredag til Søndag fra 17:00-19:30 \nFjordens Plankesteak – Kr. 289\,00 \nDet er Pasta vendt i mornaysauce med kylling og grøntsager – Kr. 155\,00 \n  \nHusk at bestille bord\, hvis du vil sikre dig en plads.
URL:https://restaurant-fjorden.dk/event/fjordens-plankesteak/2026-11-01/
LOCATION:Restaurant Fjorden\, Hestehovedet 5\, Nakskov\, 4900
ATTACH;FMTTYPE=image/jpeg:https://restaurant-fjorden.dk/wp-content/uploads/20260128_131429-scaled.jpg
END:VEVENT
BEGIN:VEVENT
DTSTART;TZID=Europe/Copenhagen:20261106T170000
DTEND;TZID=Europe/Copenhagen:20261106T193000
DTSTAMP:20260423T002101
CREATED:20260129T151448Z
LAST-MODIFIED:20260416T130445Z
UID:10001789-1793984400-1793993400@restaurant-fjorden.dk
SUMMARY:Fjordens Plankesteak
DESCRIPTION:Vi kører med 2 nye retter Fredag til Søndag fra 17:00-19:30 \nFjordens Plankesteak – Kr. 289\,00 \nDet er Pasta vendt i mornaysauce med kylling og grøntsager – Kr. 155\,00 \n  \nHusk at bestille bord\, hvis du vil sikre dig en plads.
URL:https://restaurant-fjorden.dk/event/fjordens-plankesteak/2026-11-06/
LOCATION:Restaurant Fjorden\, Hestehovedet 5\, Nakskov\, 4900
ATTACH;FMTTYPE=image/jpeg:https://restaurant-fjorden.dk/wp-content/uploads/20260128_131429-scaled.jpg
END:VEVENT
BEGIN:VEVENT
DTSTART;TZID=Europe/Copenhagen:20261107T170000
DTEND;TZID=Europe/Copenhagen:20261107T193000
DTSTAMP:20260423T002101
CREATED:20260129T151448Z
LAST-MODIFIED:20260416T130445Z
UID:10001790-1794070800-1794079800@restaurant-fjorden.dk
SUMMARY:Fjordens Plankesteak
DESCRIPTION:Vi kører med 2 nye retter Fredag til Søndag fra 17:00-19:30 \nFjordens Plankesteak – Kr. 289\,00 \nDet er Pasta vendt i mornaysauce med kylling og grøntsager – Kr. 155\,00 \n  \nHusk at bestille bord\, hvis du vil sikre dig en plads.
URL:https://restaurant-fjorden.dk/event/fjordens-plankesteak/2026-11-07/
LOCATION:Restaurant Fjorden\, Hestehovedet 5\, Nakskov\, 4900
ATTACH;FMTTYPE=image/jpeg:https://restaurant-fjorden.dk/wp-content/uploads/20260128_131429-scaled.jpg
END:VEVENT
BEGIN:VEVENT
DTSTART;TZID=Europe/Copenhagen:20261108T170000
DTEND;TZID=Europe/Copenhagen:20261108T193000
DTSTAMP:20260423T002101
CREATED:20260129T151448Z
LAST-MODIFIED:20260416T130445Z
UID:10001791-1794157200-1794166200@restaurant-fjorden.dk
SUMMARY:Fjordens Plankesteak
DESCRIPTION:Vi kører med 2 nye retter Fredag til Søndag fra 17:00-19:30 \nFjordens Plankesteak – Kr. 289\,00 \nDet er Pasta vendt i mornaysauce med kylling og grøntsager – Kr. 155\,00 \n  \nHusk at bestille bord\, hvis du vil sikre dig en plads.
URL:https://restaurant-fjorden.dk/event/fjordens-plankesteak/2026-11-08/
LOCATION:Restaurant Fjorden\, Hestehovedet 5\, Nakskov\, 4900
ATTACH;FMTTYPE=image/jpeg:https://restaurant-fjorden.dk/wp-content/uploads/20260128_131429-scaled.jpg
END:VEVENT
BEGIN:VEVENT
DTSTART;TZID=Europe/Copenhagen:20261113T170000
DTEND;TZID=Europe/Copenhagen:20261113T193000
DTSTAMP:20260423T002101
CREATED:20260129T151448Z
LAST-MODIFIED:20260416T130445Z
UID:10001792-1794589200-1794598200@restaurant-fjorden.dk
SUMMARY:Fjordens Plankesteak
DESCRIPTION:Vi kører med 2 nye retter Fredag til Søndag fra 17:00-19:30 \nFjordens Plankesteak – Kr. 289\,00 \nDet er Pasta vendt i mornaysauce med kylling og grøntsager – Kr. 155\,00 \n  \nHusk at bestille bord\, hvis du vil sikre dig en plads.
URL:https://restaurant-fjorden.dk/event/fjordens-plankesteak/2026-11-13/
LOCATION:Restaurant Fjorden\, Hestehovedet 5\, Nakskov\, 4900
ATTACH;FMTTYPE=image/jpeg:https://restaurant-fjorden.dk/wp-content/uploads/20260128_131429-scaled.jpg
END:VEVENT
BEGIN:VEVENT
DTSTART;TZID=Europe/Copenhagen:20261114T170000
DTEND;TZID=Europe/Copenhagen:20261114T193000
DTSTAMP:20260423T002101
CREATED:20260129T151448Z
LAST-MODIFIED:20260416T130445Z
UID:10001793-1794675600-1794684600@restaurant-fjorden.dk
SUMMARY:Fjordens Plankesteak
DESCRIPTION:Vi kører med 2 nye retter Fredag til Søndag fra 17:00-19:30 \nFjordens Plankesteak – Kr. 289\,00 \nDet er Pasta vendt i mornaysauce med kylling og grøntsager – Kr. 155\,00 \n  \nHusk at bestille bord\, hvis du vil sikre dig en plads.
URL:https://restaurant-fjorden.dk/event/fjordens-plankesteak/2026-11-14/
LOCATION:Restaurant Fjorden\, Hestehovedet 5\, Nakskov\, 4900
ATTACH;FMTTYPE=image/jpeg:https://restaurant-fjorden.dk/wp-content/uploads/20260128_131429-scaled.jpg
END:VEVENT
BEGIN:VEVENT
DTSTART;TZID=Europe/Copenhagen:20261115T170000
DTEND;TZID=Europe/Copenhagen:20261115T193000
DTSTAMP:20260423T002101
CREATED:20260129T151448Z
LAST-MODIFIED:20260416T130445Z
UID:10001794-1794762000-1794771000@restaurant-fjorden.dk
SUMMARY:Fjordens Plankesteak
DESCRIPTION:Vi kører med 2 nye retter Fredag til Søndag fra 17:00-19:30 \nFjordens Plankesteak – Kr. 289\,00 \nDet er Pasta vendt i mornaysauce med kylling og grøntsager – Kr. 155\,00 \n  \nHusk at bestille bord\, hvis du vil sikre dig en plads.
URL:https://restaurant-fjorden.dk/event/fjordens-plankesteak/2026-11-15/
LOCATION:Restaurant Fjorden\, Hestehovedet 5\, Nakskov\, 4900
ATTACH;FMTTYPE=image/jpeg:https://restaurant-fjorden.dk/wp-content/uploads/20260128_131429-scaled.jpg
END:VEVENT
BEGIN:VEVENT
DTSTART;TZID=Europe/Copenhagen:20261120T170000
DTEND;TZID=Europe/Copenhagen:20261120T193000
DTSTAMP:20260423T002101
CREATED:20260129T151448Z
LAST-MODIFIED:20260416T130445Z
UID:10001795-1795194000-1795203000@restaurant-fjorden.dk
SUMMARY:Fjordens Plankesteak
DESCRIPTION:Vi kører med 2 nye retter Fredag til Søndag fra 17:00-19:30 \nFjordens Plankesteak – Kr. 289\,00 \nDet er Pasta vendt i mornaysauce med kylling og grøntsager – Kr. 155\,00 \n  \nHusk at bestille bord\, hvis du vil sikre dig en plads.
URL:https://restaurant-fjorden.dk/event/fjordens-plankesteak/2026-11-20/
LOCATION:Restaurant Fjorden\, Hestehovedet 5\, Nakskov\, 4900
ATTACH;FMTTYPE=image/jpeg:https://restaurant-fjorden.dk/wp-content/uploads/20260128_131429-scaled.jpg
END:VEVENT
BEGIN:VEVENT
DTSTART;TZID=Europe/Copenhagen:20261121T170000
DTEND;TZID=Europe/Copenhagen:20261121T193000
DTSTAMP:20260423T002101
CREATED:20260129T151448Z
LAST-MODIFIED:20260416T130445Z
UID:10001796-1795280400-1795289400@restaurant-fjorden.dk
SUMMARY:Fjordens Plankesteak
DESCRIPTION:Vi kører med 2 nye retter Fredag til Søndag fra 17:00-19:30 \nFjordens Plankesteak – Kr. 289\,00 \nDet er Pasta vendt i mornaysauce med kylling og grøntsager – Kr. 155\,00 \n  \nHusk at bestille bord\, hvis du vil sikre dig en plads.
URL:https://restaurant-fjorden.dk/event/fjordens-plankesteak/2026-11-21/
LOCATION:Restaurant Fjorden\, Hestehovedet 5\, Nakskov\, 4900
ATTACH;FMTTYPE=image/jpeg:https://restaurant-fjorden.dk/wp-content/uploads/20260128_131429-scaled.jpg
END:VEVENT
BEGIN:VEVENT
DTSTART;TZID=Europe/Copenhagen:20261122T170000
DTEND;TZID=Europe/Copenhagen:20261122T193000
DTSTAMP:20260423T002101
CREATED:20260129T151448Z
LAST-MODIFIED:20260416T130445Z
UID:10001797-1795366800-1795375800@restaurant-fjorden.dk
SUMMARY:Fjordens Plankesteak
DESCRIPTION:Vi kører med 2 nye retter Fredag til Søndag fra 17:00-19:30 \nFjordens Plankesteak – Kr. 289\,00 \nDet er Pasta vendt i mornaysauce med kylling og grøntsager – Kr. 155\,00 \n  \nHusk at bestille bord\, hvis du vil sikre dig en plads.
URL:https://restaurant-fjorden.dk/event/fjordens-plankesteak/2026-11-22/
LOCATION:Restaurant Fjorden\, Hestehovedet 5\, Nakskov\, 4900
ATTACH;FMTTYPE=image/jpeg:https://restaurant-fjorden.dk/wp-content/uploads/20260128_131429-scaled.jpg
END:VEVENT
BEGIN:VEVENT
DTSTART;TZID=Europe/Copenhagen:20261127T170000
DTEND;TZID=Europe/Copenhagen:20261127T193000
DTSTAMP:20260423T002101
CREATED:20260129T151448Z
LAST-MODIFIED:20260416T130445Z
UID:10001798-1795798800-1795807800@restaurant-fjorden.dk
SUMMARY:Fjordens Plankesteak
DESCRIPTION:Vi kører med 2 nye retter Fredag til Søndag fra 17:00-19:30 \nFjordens Plankesteak – Kr. 289\,00 \nDet er Pasta vendt i mornaysauce med kylling og grøntsager – Kr. 155\,00 \n  \nHusk at bestille bord\, hvis du vil sikre dig en plads.
URL:https://restaurant-fjorden.dk/event/fjordens-plankesteak/2026-11-27/
LOCATION:Restaurant Fjorden\, Hestehovedet 5\, Nakskov\, 4900
ATTACH;FMTTYPE=image/jpeg:https://restaurant-fjorden.dk/wp-content/uploads/20260128_131429-scaled.jpg
END:VEVENT
BEGIN:VEVENT
DTSTART;TZID=Europe/Copenhagen:20261128T170000
DTEND;TZID=Europe/Copenhagen:20261128T193000
DTSTAMP:20260423T002101
CREATED:20260129T151448Z
LAST-MODIFIED:20260416T130445Z
UID:10001799-1795885200-1795894200@restaurant-fjorden.dk
SUMMARY:Fjordens Plankesteak
DESCRIPTION:Vi kører med 2 nye retter Fredag til Søndag fra 17:00-19:30 \nFjordens Plankesteak – Kr. 289\,00 \nDet er Pasta vendt i mornaysauce med kylling og grøntsager – Kr. 155\,00 \n  \nHusk at bestille bord\, hvis du vil sikre dig en plads.
URL:https://restaurant-fjorden.dk/event/fjordens-plankesteak/2026-11-28/
LOCATION:Restaurant Fjorden\, Hestehovedet 5\, Nakskov\, 4900
ATTACH;FMTTYPE=image/jpeg:https://restaurant-fjorden.dk/wp-content/uploads/20260128_131429-scaled.jpg
END:VEVENT
BEGIN:VEVENT
DTSTART;TZID=Europe/Copenhagen:20261129T170000
DTEND;TZID=Europe/Copenhagen:20261129T193000
DTSTAMP:20260423T002101
CREATED:20260129T151448Z
LAST-MODIFIED:20260416T130445Z
UID:10001800-1795971600-1795980600@restaurant-fjorden.dk
SUMMARY:Fjordens Plankesteak
DESCRIPTION:Vi kører med 2 nye retter Fredag til Søndag fra 17:00-19:30 \nFjordens Plankesteak – Kr. 289\,00 \nDet er Pasta vendt i mornaysauce med kylling og grøntsager – Kr. 155\,00 \n  \nHusk at bestille bord\, hvis du vil sikre dig en plads.
URL:https://restaurant-fjorden.dk/event/fjordens-plankesteak/2026-11-29/
LOCATION:Restaurant Fjorden\, Hestehovedet 5\, Nakskov\, 4900
ATTACH;FMTTYPE=image/jpeg:https://restaurant-fjorden.dk/wp-content/uploads/20260128_131429-scaled.jpg
END:VEVENT
END:VCALENDAR