BEGIN:VCALENDAR
VERSION:2.0
PRODID:-//Restaurant Fjorden - ECPv6.15.20//NONSGML v1.0//EN
CALSCALE:GREGORIAN
METHOD:PUBLISH
X-WR-CALNAME:Restaurant Fjorden
X-ORIGINAL-URL:https://restaurant-fjorden.dk
X-WR-CALDESC:Begivenheder for Restaurant Fjorden
REFRESH-INTERVAL;VALUE=DURATION:PT1H
X-Robots-Tag:noindex
X-PUBLISHED-TTL:PT1H
BEGIN:VTIMEZONE
TZID:Europe/Copenhagen
BEGIN:DAYLIGHT
TZOFFSETFROM:+0100
TZOFFSETTO:+0200
TZNAME:CEST
DTSTART:20240331T010000
END:DAYLIGHT
BEGIN:STANDARD
TZOFFSETFROM:+0200
TZOFFSETTO:+0100
TZNAME:CET
DTSTART:20241027T010000
END:STANDARD
BEGIN:DAYLIGHT
TZOFFSETFROM:+0100
TZOFFSETTO:+0200
TZNAME:CEST
DTSTART:20250330T010000
END:DAYLIGHT
BEGIN:STANDARD
TZOFFSETFROM:+0200
TZOFFSETTO:+0100
TZNAME:CET
DTSTART:20251026T010000
END:STANDARD
BEGIN:DAYLIGHT
TZOFFSETFROM:+0100
TZOFFSETTO:+0200
TZNAME:CEST
DTSTART:20260329T010000
END:DAYLIGHT
BEGIN:STANDARD
TZOFFSETFROM:+0200
TZOFFSETTO:+0100
TZNAME:CET
DTSTART:20261025T010000
END:STANDARD
END:VTIMEZONE
BEGIN:VEVENT
DTSTART;TZID=Europe/Copenhagen:20251110T173000
DTEND;TZID=Europe/Copenhagen:20251110T200000
DTSTAMP:20260422T212109
CREATED:20250814T095452Z
LAST-MODIFIED:20251027T143208Z
UID:10000560-1762795800-1762804800@restaurant-fjorden.dk
SUMMARY:Mortens Aften
DESCRIPTION:Forret: Varmrøget laks med rejer dertil sauce verte \nHovedret: God gammeldags andesteg med garniture \nDessert: God gammeldags æblekage med flødeskum \n2 retter\, vælg mellem Forret & Hovedret\, eller Hovedret & Dessert – 379\,- \n3 retter – 398\,- \nBordbestilling nødvendig – klik hér for at booke
URL:https://restaurant-fjorden.dk/event/mortens-aften-2/
LOCATION:Restaurant Fjorden\, Hestehovedet 5\, Nakskov\, 4900
ATTACH;FMTTYPE=image/png:https://restaurant-fjorden.dk/wp-content/uploads/restaurant-fjorden.png
END:VEVENT
BEGIN:VEVENT
DTSTART;TZID=Europe/Copenhagen:20251116T120000
DTEND;TZID=Europe/Copenhagen:20251116T160000
DTSTAMP:20260422T212109
CREATED:20250813T112220Z
LAST-MODIFIED:20251013T082818Z
UID:10000554-1763294400-1763308800@restaurant-fjorden.dk
SUMMARY:Senior julefrokost med LIVE musik
DESCRIPTION:Med god traditionel julemad og LIVE musik fra kl. 12:30.\nJulefrokosten starter kl. 12:00.\nSten & Jørgen Petersen står klar kl. 12:30-14:30 med Giro 413 musik.\n\n\n\n\nMarineret sild\nHjemmelavet karrysild\nFiskefile med remoulade\n1/2 æg med rejer\nTarteletter med høns og asparges \nRibbensteg med hjemmelavet rødkål\nGrønlangkål med skinke og medister\nÆbleflæsk\nOsteanretning eller ris a la mande med kirsebærsovs\n\nPris pr. person Kr. 249\,- \nForudbestilling og ex. drikkevarer \nBestil bord hér
URL:https://restaurant-fjorden.dk/event/senior-julefrokost-med-live-musik-2025/
LOCATION:Restaurant Fjorden\, Hestehovedet 5\, Nakskov\, 4900
END:VEVENT
BEGIN:VEVENT
DTSTART;TZID=Europe/Copenhagen:20251120T120000
DTEND;TZID=Europe/Copenhagen:20251120T160000
DTSTAMP:20260422T212109
CREATED:20251110T104202Z
LAST-MODIFIED:20251218T075901Z
UID:10000565-1763640000-1763654400@restaurant-fjorden.dk
SUMMARY:Juleplatte i huset
DESCRIPTION:Serveres fra 12:00 til 16:00\, alle åbnings dage indtil 18-12 . Minimum 2 personer. \nJuleplatte \n\nMarineret sild\nEt halvt æg med rejer\nFiskefilet med remoulade\nGrønlangkål med medister og skinke\nRis a la mande\n\nPris per person 240\,-\nKan også fås om aftenen mod forudbestilling
URL:https://restaurant-fjorden.dk/event/juleplatte-i-huset-16/2025-11-20/
LOCATION:Restaurant Fjorden\, Hestehovedet 5\, Nakskov\, 4900
ATTACH;FMTTYPE=image/jpeg:https://restaurant-fjorden.dk/wp-content/uploads/tijana-drndarski-1L4q_S1atmc-unsplash-scaled.jpg
END:VEVENT
BEGIN:VEVENT
DTSTART;TZID=Europe/Copenhagen:20251121T120000
DTEND;TZID=Europe/Copenhagen:20251121T160000
DTSTAMP:20260422T212109
CREATED:20251110T104202Z
LAST-MODIFIED:20251218T075901Z
UID:10000566-1763726400-1763740800@restaurant-fjorden.dk
SUMMARY:Juleplatte i huset
DESCRIPTION:Serveres fra 12:00 til 16:00\, alle åbnings dage indtil 18-12 . Minimum 2 personer. \nJuleplatte \n\nMarineret sild\nEt halvt æg med rejer\nFiskefilet med remoulade\nGrønlangkål med medister og skinke\nRis a la mande\n\nPris per person 240\,-\nKan også fås om aftenen mod forudbestilling
URL:https://restaurant-fjorden.dk/event/juleplatte-i-huset-16/2025-11-21/
LOCATION:Restaurant Fjorden\, Hestehovedet 5\, Nakskov\, 4900
ATTACH;FMTTYPE=image/jpeg:https://restaurant-fjorden.dk/wp-content/uploads/tijana-drndarski-1L4q_S1atmc-unsplash-scaled.jpg
END:VEVENT
BEGIN:VEVENT
DTSTART;TZID=Europe/Copenhagen:20251122T120000
DTEND;TZID=Europe/Copenhagen:20251122T160000
DTSTAMP:20260422T212109
CREATED:20251110T104202Z
LAST-MODIFIED:20251218T075901Z
UID:10000567-1763812800-1763827200@restaurant-fjorden.dk
SUMMARY:Juleplatte i huset
DESCRIPTION:Serveres fra 12:00 til 16:00\, alle åbnings dage indtil 18-12 . Minimum 2 personer. \nJuleplatte \n\nMarineret sild\nEt halvt æg med rejer\nFiskefilet med remoulade\nGrønlangkål med medister og skinke\nRis a la mande\n\nPris per person 240\,-\nKan også fås om aftenen mod forudbestilling
URL:https://restaurant-fjorden.dk/event/juleplatte-i-huset-16/2025-11-22/
LOCATION:Restaurant Fjorden\, Hestehovedet 5\, Nakskov\, 4900
ATTACH;FMTTYPE=image/jpeg:https://restaurant-fjorden.dk/wp-content/uploads/tijana-drndarski-1L4q_S1atmc-unsplash-scaled.jpg
END:VEVENT
BEGIN:VEVENT
DTSTART;TZID=Europe/Copenhagen:20251123T120000
DTEND;TZID=Europe/Copenhagen:20251123T160000
DTSTAMP:20260422T212109
CREATED:20251110T104202Z
LAST-MODIFIED:20251218T075901Z
UID:10000568-1763899200-1763913600@restaurant-fjorden.dk
SUMMARY:Juleplatte i huset
DESCRIPTION:Serveres fra 12:00 til 16:00\, alle åbnings dage indtil 18-12 . Minimum 2 personer. \nJuleplatte \n\nMarineret sild\nEt halvt æg med rejer\nFiskefilet med remoulade\nGrønlangkål med medister og skinke\nRis a la mande\n\nPris per person 240\,-\nKan også fås om aftenen mod forudbestilling
URL:https://restaurant-fjorden.dk/event/juleplatte-i-huset-16/2025-11-23/
LOCATION:Restaurant Fjorden\, Hestehovedet 5\, Nakskov\, 4900
ATTACH;FMTTYPE=image/jpeg:https://restaurant-fjorden.dk/wp-content/uploads/tijana-drndarski-1L4q_S1atmc-unsplash-scaled.jpg
END:VEVENT
BEGIN:VEVENT
DTSTART;TZID=Europe/Copenhagen:20251127T120000
DTEND;TZID=Europe/Copenhagen:20251127T160000
DTSTAMP:20260422T212109
CREATED:20251110T104202Z
LAST-MODIFIED:20251218T075901Z
UID:10000569-1764244800-1764259200@restaurant-fjorden.dk
SUMMARY:Juleplatte i huset
DESCRIPTION:Serveres fra 12:00 til 16:00\, alle åbnings dage indtil 18-12 . Minimum 2 personer. \nJuleplatte \n\nMarineret sild\nEt halvt æg med rejer\nFiskefilet med remoulade\nGrønlangkål med medister og skinke\nRis a la mande\n\nPris per person 240\,-\nKan også fås om aftenen mod forudbestilling
URL:https://restaurant-fjorden.dk/event/juleplatte-i-huset-16/2025-11-27/
LOCATION:Restaurant Fjorden\, Hestehovedet 5\, Nakskov\, 4900
ATTACH;FMTTYPE=image/jpeg:https://restaurant-fjorden.dk/wp-content/uploads/tijana-drndarski-1L4q_S1atmc-unsplash-scaled.jpg
END:VEVENT
BEGIN:VEVENT
DTSTART;TZID=Europe/Copenhagen:20251128T120000
DTEND;TZID=Europe/Copenhagen:20251128T160000
DTSTAMP:20260422T212109
CREATED:20251110T104202Z
LAST-MODIFIED:20251218T075901Z
UID:10000570-1764331200-1764345600@restaurant-fjorden.dk
SUMMARY:Juleplatte i huset
DESCRIPTION:Serveres fra 12:00 til 16:00\, alle åbnings dage indtil 18-12 . Minimum 2 personer. \nJuleplatte \n\nMarineret sild\nEt halvt æg med rejer\nFiskefilet med remoulade\nGrønlangkål med medister og skinke\nRis a la mande\n\nPris per person 240\,-\nKan også fås om aftenen mod forudbestilling
URL:https://restaurant-fjorden.dk/event/juleplatte-i-huset-16/2025-11-28/
LOCATION:Restaurant Fjorden\, Hestehovedet 5\, Nakskov\, 4900
ATTACH;FMTTYPE=image/jpeg:https://restaurant-fjorden.dk/wp-content/uploads/tijana-drndarski-1L4q_S1atmc-unsplash-scaled.jpg
END:VEVENT
BEGIN:VEVENT
DTSTART;TZID=Europe/Copenhagen:20251129T120000
DTEND;TZID=Europe/Copenhagen:20251129T160000
DTSTAMP:20260422T212109
CREATED:20251110T104202Z
LAST-MODIFIED:20251218T075901Z
UID:10000571-1764417600-1764432000@restaurant-fjorden.dk
SUMMARY:Juleplatte i huset
DESCRIPTION:Serveres fra 12:00 til 16:00\, alle åbnings dage indtil 18-12 . Minimum 2 personer. \nJuleplatte \n\nMarineret sild\nEt halvt æg med rejer\nFiskefilet med remoulade\nGrønlangkål med medister og skinke\nRis a la mande\n\nPris per person 240\,-\nKan også fås om aftenen mod forudbestilling
URL:https://restaurant-fjorden.dk/event/juleplatte-i-huset-16/2025-11-29/
LOCATION:Restaurant Fjorden\, Hestehovedet 5\, Nakskov\, 4900
ATTACH;FMTTYPE=image/jpeg:https://restaurant-fjorden.dk/wp-content/uploads/tijana-drndarski-1L4q_S1atmc-unsplash-scaled.jpg
END:VEVENT
BEGIN:VEVENT
DTSTART;TZID=Europe/Copenhagen:20251130T120000
DTEND;TZID=Europe/Copenhagen:20251130T160000
DTSTAMP:20260422T212109
CREATED:20251110T104202Z
LAST-MODIFIED:20251218T075901Z
UID:10000572-1764504000-1764518400@restaurant-fjorden.dk
SUMMARY:Juleplatte i huset
DESCRIPTION:Serveres fra 12:00 til 16:00\, alle åbnings dage indtil 18-12 . Minimum 2 personer. \nJuleplatte \n\nMarineret sild\nEt halvt æg med rejer\nFiskefilet med remoulade\nGrønlangkål med medister og skinke\nRis a la mande\n\nPris per person 240\,-\nKan også fås om aftenen mod forudbestilling
URL:https://restaurant-fjorden.dk/event/juleplatte-i-huset-16/2025-11-30/
LOCATION:Restaurant Fjorden\, Hestehovedet 5\, Nakskov\, 4900
ATTACH;FMTTYPE=image/jpeg:https://restaurant-fjorden.dk/wp-content/uploads/tijana-drndarski-1L4q_S1atmc-unsplash-scaled.jpg
END:VEVENT
END:VCALENDAR