BEGIN:VCALENDAR
VERSION:2.0
PRODID:-//Restaurant Fjorden - ECPv6.15.20//NONSGML v1.0//EN
CALSCALE:GREGORIAN
METHOD:PUBLISH
X-WR-CALNAME:Restaurant Fjorden
X-ORIGINAL-URL:https://restaurant-fjorden.dk
X-WR-CALDESC:Begivenheder for Restaurant Fjorden
REFRESH-INTERVAL;VALUE=DURATION:PT1H
X-Robots-Tag:noindex
X-PUBLISHED-TTL:PT1H
BEGIN:VTIMEZONE
TZID:Europe/Copenhagen
BEGIN:DAYLIGHT
TZOFFSETFROM:+0100
TZOFFSETTO:+0200
TZNAME:CEST
DTSTART:20250330T010000
END:DAYLIGHT
BEGIN:STANDARD
TZOFFSETFROM:+0200
TZOFFSETTO:+0100
TZNAME:CET
DTSTART:20251026T010000
END:STANDARD
BEGIN:DAYLIGHT
TZOFFSETFROM:+0100
TZOFFSETTO:+0200
TZNAME:CEST
DTSTART:20260329T010000
END:DAYLIGHT
BEGIN:STANDARD
TZOFFSETFROM:+0200
TZOFFSETTO:+0100
TZNAME:CET
DTSTART:20261025T010000
END:STANDARD
BEGIN:DAYLIGHT
TZOFFSETFROM:+0100
TZOFFSETTO:+0200
TZNAME:CEST
DTSTART:20270328T010000
END:DAYLIGHT
BEGIN:STANDARD
TZOFFSETFROM:+0200
TZOFFSETTO:+0100
TZNAME:CET
DTSTART:20271031T010000
END:STANDARD
END:VTIMEZONE
BEGIN:VEVENT
DTSTART;TZID=Europe/Copenhagen:20260726T170000
DTEND;TZID=Europe/Copenhagen:20260726T193000
DTSTAMP:20260421T234331
CREATED:20260129T151448Z
LAST-MODIFIED:20260416T130445Z
UID:10001746-1785085200-1785094200@restaurant-fjorden.dk
SUMMARY:Fjordens Plankesteak
DESCRIPTION:Vi kører med 2 nye retter Fredag til Søndag fra 17:00-19:30 \nFjordens Plankesteak – Kr. 289\,00 \nDet er Pasta vendt i mornaysauce med kylling og grøntsager – Kr. 155\,00 \n  \nHusk at bestille bord\, hvis du vil sikre dig en plads.
URL:https://restaurant-fjorden.dk/event/fjordens-plankesteak/2026-07-26/
LOCATION:Restaurant Fjorden\, Hestehovedet 5\, Nakskov\, 4900
ATTACH;FMTTYPE=image/jpeg:https://restaurant-fjorden.dk/wp-content/uploads/20260128_131429-scaled.jpg
END:VEVENT
BEGIN:VEVENT
DTSTART;TZID=Europe/Copenhagen:20260730T170000
DTEND;TZID=Europe/Copenhagen:20260730T193000
DTSTAMP:20260421T234331
CREATED:20251229T095001Z
LAST-MODIFIED:20260127T091317Z
UID:10001649-1785430800-1785439800@restaurant-fjorden.dk
SUMMARY:Stegt flæsk ad libitum
DESCRIPTION:AD LIBITUM\nTORSDAGE KL. 17:00\n\n\nSTEGT FLÆSK MED HVIDE KARTOFLER PERSILLESOVS\nOG HJEMMESYLTEDE RØDBEDER. \nDerudover tilbyder vi et mini A La Carte kort\nFRA KL. 17:00.\nKR. 179\,-
URL:https://restaurant-fjorden.dk/event/stegt-flaesk-ad-libitum-2/2026-07-30/
LOCATION:Restaurant Fjorden\, Hestehovedet 5\, Nakskov\, 4900
ATTACH;FMTTYPE=image/jpeg:https://restaurant-fjorden.dk/wp-content/uploads/IMG_20161013_182621-scaled.jpg
END:VEVENT
BEGIN:VEVENT
DTSTART;TZID=Europe/Copenhagen:20260731T170000
DTEND;TZID=Europe/Copenhagen:20260731T193000
DTSTAMP:20260421T234331
CREATED:20260129T151448Z
LAST-MODIFIED:20260416T130445Z
UID:10001747-1785517200-1785526200@restaurant-fjorden.dk
SUMMARY:Fjordens Plankesteak
DESCRIPTION:Vi kører med 2 nye retter Fredag til Søndag fra 17:00-19:30 \nFjordens Plankesteak – Kr. 289\,00 \nDet er Pasta vendt i mornaysauce med kylling og grøntsager – Kr. 155\,00 \n  \nHusk at bestille bord\, hvis du vil sikre dig en plads.
URL:https://restaurant-fjorden.dk/event/fjordens-plankesteak/2026-07-31/
LOCATION:Restaurant Fjorden\, Hestehovedet 5\, Nakskov\, 4900
ATTACH;FMTTYPE=image/jpeg:https://restaurant-fjorden.dk/wp-content/uploads/20260128_131429-scaled.jpg
END:VEVENT
BEGIN:VEVENT
DTSTART;TZID=Europe/Copenhagen:20260801T170000
DTEND;TZID=Europe/Copenhagen:20260801T193000
DTSTAMP:20260421T234331
CREATED:20260129T151448Z
LAST-MODIFIED:20260416T130445Z
UID:10001748-1785603600-1785612600@restaurant-fjorden.dk
SUMMARY:Fjordens Plankesteak
DESCRIPTION:Vi kører med 2 nye retter Fredag til Søndag fra 17:00-19:30 \nFjordens Plankesteak – Kr. 289\,00 \nDet er Pasta vendt i mornaysauce med kylling og grøntsager – Kr. 155\,00 \n  \nHusk at bestille bord\, hvis du vil sikre dig en plads.
URL:https://restaurant-fjorden.dk/event/fjordens-plankesteak/2026-08-01/
LOCATION:Restaurant Fjorden\, Hestehovedet 5\, Nakskov\, 4900
ATTACH;FMTTYPE=image/jpeg:https://restaurant-fjorden.dk/wp-content/uploads/20260128_131429-scaled.jpg
END:VEVENT
BEGIN:VEVENT
DTSTART;TZID=Europe/Copenhagen:20260802T170000
DTEND;TZID=Europe/Copenhagen:20260802T193000
DTSTAMP:20260421T234331
CREATED:20260129T151448Z
LAST-MODIFIED:20260416T130445Z
UID:10001749-1785690000-1785699000@restaurant-fjorden.dk
SUMMARY:Fjordens Plankesteak
DESCRIPTION:Vi kører med 2 nye retter Fredag til Søndag fra 17:00-19:30 \nFjordens Plankesteak – Kr. 289\,00 \nDet er Pasta vendt i mornaysauce med kylling og grøntsager – Kr. 155\,00 \n  \nHusk at bestille bord\, hvis du vil sikre dig en plads.
URL:https://restaurant-fjorden.dk/event/fjordens-plankesteak/2026-08-02/
LOCATION:Restaurant Fjorden\, Hestehovedet 5\, Nakskov\, 4900
ATTACH;FMTTYPE=image/jpeg:https://restaurant-fjorden.dk/wp-content/uploads/20260128_131429-scaled.jpg
END:VEVENT
BEGIN:VEVENT
DTSTART;TZID=Europe/Copenhagen:20260806T170000
DTEND;TZID=Europe/Copenhagen:20260806T193000
DTSTAMP:20260421T234331
CREATED:20251229T095001Z
LAST-MODIFIED:20260127T091317Z
UID:10001650-1786035600-1786044600@restaurant-fjorden.dk
SUMMARY:Stegt flæsk ad libitum
DESCRIPTION:AD LIBITUM\nTORSDAGE KL. 17:00\n\n\nSTEGT FLÆSK MED HVIDE KARTOFLER PERSILLESOVS\nOG HJEMMESYLTEDE RØDBEDER. \nDerudover tilbyder vi et mini A La Carte kort\nFRA KL. 17:00.\nKR. 179\,-
URL:https://restaurant-fjorden.dk/event/stegt-flaesk-ad-libitum-2/2026-08-06/
LOCATION:Restaurant Fjorden\, Hestehovedet 5\, Nakskov\, 4900
ATTACH;FMTTYPE=image/jpeg:https://restaurant-fjorden.dk/wp-content/uploads/IMG_20161013_182621-scaled.jpg
END:VEVENT
BEGIN:VEVENT
DTSTART;TZID=Europe/Copenhagen:20260807T170000
DTEND;TZID=Europe/Copenhagen:20260807T193000
DTSTAMP:20260421T234331
CREATED:20260129T151448Z
LAST-MODIFIED:20260416T130445Z
UID:10001750-1786122000-1786131000@restaurant-fjorden.dk
SUMMARY:Fjordens Plankesteak
DESCRIPTION:Vi kører med 2 nye retter Fredag til Søndag fra 17:00-19:30 \nFjordens Plankesteak – Kr. 289\,00 \nDet er Pasta vendt i mornaysauce med kylling og grøntsager – Kr. 155\,00 \n  \nHusk at bestille bord\, hvis du vil sikre dig en plads.
URL:https://restaurant-fjorden.dk/event/fjordens-plankesteak/2026-08-07/
LOCATION:Restaurant Fjorden\, Hestehovedet 5\, Nakskov\, 4900
ATTACH;FMTTYPE=image/jpeg:https://restaurant-fjorden.dk/wp-content/uploads/20260128_131429-scaled.jpg
END:VEVENT
BEGIN:VEVENT
DTSTART;TZID=Europe/Copenhagen:20260808T170000
DTEND;TZID=Europe/Copenhagen:20260808T193000
DTSTAMP:20260421T234331
CREATED:20260129T151448Z
LAST-MODIFIED:20260416T130445Z
UID:10001751-1786208400-1786217400@restaurant-fjorden.dk
SUMMARY:Fjordens Plankesteak
DESCRIPTION:Vi kører med 2 nye retter Fredag til Søndag fra 17:00-19:30 \nFjordens Plankesteak – Kr. 289\,00 \nDet er Pasta vendt i mornaysauce med kylling og grøntsager – Kr. 155\,00 \n  \nHusk at bestille bord\, hvis du vil sikre dig en plads.
URL:https://restaurant-fjorden.dk/event/fjordens-plankesteak/2026-08-08/
LOCATION:Restaurant Fjorden\, Hestehovedet 5\, Nakskov\, 4900
ATTACH;FMTTYPE=image/jpeg:https://restaurant-fjorden.dk/wp-content/uploads/20260128_131429-scaled.jpg
END:VEVENT
BEGIN:VEVENT
DTSTART;TZID=Europe/Copenhagen:20260809T170000
DTEND;TZID=Europe/Copenhagen:20260809T193000
DTSTAMP:20260421T234331
CREATED:20260129T151448Z
LAST-MODIFIED:20260416T130445Z
UID:10001752-1786294800-1786303800@restaurant-fjorden.dk
SUMMARY:Fjordens Plankesteak
DESCRIPTION:Vi kører med 2 nye retter Fredag til Søndag fra 17:00-19:30 \nFjordens Plankesteak – Kr. 289\,00 \nDet er Pasta vendt i mornaysauce med kylling og grøntsager – Kr. 155\,00 \n  \nHusk at bestille bord\, hvis du vil sikre dig en plads.
URL:https://restaurant-fjorden.dk/event/fjordens-plankesteak/2026-08-09/
LOCATION:Restaurant Fjorden\, Hestehovedet 5\, Nakskov\, 4900
ATTACH;FMTTYPE=image/jpeg:https://restaurant-fjorden.dk/wp-content/uploads/20260128_131429-scaled.jpg
END:VEVENT
BEGIN:VEVENT
DTSTART;TZID=Europe/Copenhagen:20260813T170000
DTEND;TZID=Europe/Copenhagen:20260813T193000
DTSTAMP:20260421T234331
CREATED:20251229T095001Z
LAST-MODIFIED:20260127T091317Z
UID:10001651-1786640400-1786649400@restaurant-fjorden.dk
SUMMARY:Stegt flæsk ad libitum
DESCRIPTION:AD LIBITUM\nTORSDAGE KL. 17:00\n\n\nSTEGT FLÆSK MED HVIDE KARTOFLER PERSILLESOVS\nOG HJEMMESYLTEDE RØDBEDER. \nDerudover tilbyder vi et mini A La Carte kort\nFRA KL. 17:00.\nKR. 179\,-
URL:https://restaurant-fjorden.dk/event/stegt-flaesk-ad-libitum-2/2026-08-13/
LOCATION:Restaurant Fjorden\, Hestehovedet 5\, Nakskov\, 4900
ATTACH;FMTTYPE=image/jpeg:https://restaurant-fjorden.dk/wp-content/uploads/IMG_20161013_182621-scaled.jpg
END:VEVENT
BEGIN:VEVENT
DTSTART;TZID=Europe/Copenhagen:20260814T170000
DTEND;TZID=Europe/Copenhagen:20260814T193000
DTSTAMP:20260421T234331
CREATED:20260129T151448Z
LAST-MODIFIED:20260416T130445Z
UID:10001753-1786726800-1786735800@restaurant-fjorden.dk
SUMMARY:Fjordens Plankesteak
DESCRIPTION:Vi kører med 2 nye retter Fredag til Søndag fra 17:00-19:30 \nFjordens Plankesteak – Kr. 289\,00 \nDet er Pasta vendt i mornaysauce med kylling og grøntsager – Kr. 155\,00 \n  \nHusk at bestille bord\, hvis du vil sikre dig en plads.
URL:https://restaurant-fjorden.dk/event/fjordens-plankesteak/2026-08-14/
LOCATION:Restaurant Fjorden\, Hestehovedet 5\, Nakskov\, 4900
ATTACH;FMTTYPE=image/jpeg:https://restaurant-fjorden.dk/wp-content/uploads/20260128_131429-scaled.jpg
END:VEVENT
BEGIN:VEVENT
DTSTART;TZID=Europe/Copenhagen:20260815T170000
DTEND;TZID=Europe/Copenhagen:20260815T193000
DTSTAMP:20260421T234331
CREATED:20260129T151448Z
LAST-MODIFIED:20260416T130445Z
UID:10001754-1786813200-1786822200@restaurant-fjorden.dk
SUMMARY:Fjordens Plankesteak
DESCRIPTION:Vi kører med 2 nye retter Fredag til Søndag fra 17:00-19:30 \nFjordens Plankesteak – Kr. 289\,00 \nDet er Pasta vendt i mornaysauce med kylling og grøntsager – Kr. 155\,00 \n  \nHusk at bestille bord\, hvis du vil sikre dig en plads.
URL:https://restaurant-fjorden.dk/event/fjordens-plankesteak/2026-08-15/
LOCATION:Restaurant Fjorden\, Hestehovedet 5\, Nakskov\, 4900
ATTACH;FMTTYPE=image/jpeg:https://restaurant-fjorden.dk/wp-content/uploads/20260128_131429-scaled.jpg
END:VEVENT
BEGIN:VEVENT
DTSTART;TZID=Europe/Copenhagen:20260816T170000
DTEND;TZID=Europe/Copenhagen:20260816T193000
DTSTAMP:20260421T234331
CREATED:20260129T151448Z
LAST-MODIFIED:20260416T130445Z
UID:10001755-1786899600-1786908600@restaurant-fjorden.dk
SUMMARY:Fjordens Plankesteak
DESCRIPTION:Vi kører med 2 nye retter Fredag til Søndag fra 17:00-19:30 \nFjordens Plankesteak – Kr. 289\,00 \nDet er Pasta vendt i mornaysauce med kylling og grøntsager – Kr. 155\,00 \n  \nHusk at bestille bord\, hvis du vil sikre dig en plads.
URL:https://restaurant-fjorden.dk/event/fjordens-plankesteak/2026-08-16/
LOCATION:Restaurant Fjorden\, Hestehovedet 5\, Nakskov\, 4900
ATTACH;FMTTYPE=image/jpeg:https://restaurant-fjorden.dk/wp-content/uploads/20260128_131429-scaled.jpg
END:VEVENT
BEGIN:VEVENT
DTSTART;TZID=Europe/Copenhagen:20260820T170000
DTEND;TZID=Europe/Copenhagen:20260820T193000
DTSTAMP:20260421T234331
CREATED:20251229T095001Z
LAST-MODIFIED:20260127T091317Z
UID:10001652-1787245200-1787254200@restaurant-fjorden.dk
SUMMARY:Stegt flæsk ad libitum
DESCRIPTION:AD LIBITUM\nTORSDAGE KL. 17:00\n\n\nSTEGT FLÆSK MED HVIDE KARTOFLER PERSILLESOVS\nOG HJEMMESYLTEDE RØDBEDER. \nDerudover tilbyder vi et mini A La Carte kort\nFRA KL. 17:00.\nKR. 179\,-
URL:https://restaurant-fjorden.dk/event/stegt-flaesk-ad-libitum-2/2026-08-20/
LOCATION:Restaurant Fjorden\, Hestehovedet 5\, Nakskov\, 4900
ATTACH;FMTTYPE=image/jpeg:https://restaurant-fjorden.dk/wp-content/uploads/IMG_20161013_182621-scaled.jpg
END:VEVENT
BEGIN:VEVENT
DTSTART;TZID=Europe/Copenhagen:20260821T170000
DTEND;TZID=Europe/Copenhagen:20260821T193000
DTSTAMP:20260421T234331
CREATED:20260129T151448Z
LAST-MODIFIED:20260416T130445Z
UID:10001756-1787331600-1787340600@restaurant-fjorden.dk
SUMMARY:Fjordens Plankesteak
DESCRIPTION:Vi kører med 2 nye retter Fredag til Søndag fra 17:00-19:30 \nFjordens Plankesteak – Kr. 289\,00 \nDet er Pasta vendt i mornaysauce med kylling og grøntsager – Kr. 155\,00 \n  \nHusk at bestille bord\, hvis du vil sikre dig en plads.
URL:https://restaurant-fjorden.dk/event/fjordens-plankesteak/2026-08-21/
LOCATION:Restaurant Fjorden\, Hestehovedet 5\, Nakskov\, 4900
ATTACH;FMTTYPE=image/jpeg:https://restaurant-fjorden.dk/wp-content/uploads/20260128_131429-scaled.jpg
END:VEVENT
BEGIN:VEVENT
DTSTART;TZID=Europe/Copenhagen:20260822T170000
DTEND;TZID=Europe/Copenhagen:20260822T193000
DTSTAMP:20260421T234331
CREATED:20260129T151448Z
LAST-MODIFIED:20260416T130445Z
UID:10001757-1787418000-1787427000@restaurant-fjorden.dk
SUMMARY:Fjordens Plankesteak
DESCRIPTION:Vi kører med 2 nye retter Fredag til Søndag fra 17:00-19:30 \nFjordens Plankesteak – Kr. 289\,00 \nDet er Pasta vendt i mornaysauce med kylling og grøntsager – Kr. 155\,00 \n  \nHusk at bestille bord\, hvis du vil sikre dig en plads.
URL:https://restaurant-fjorden.dk/event/fjordens-plankesteak/2026-08-22/
LOCATION:Restaurant Fjorden\, Hestehovedet 5\, Nakskov\, 4900
ATTACH;FMTTYPE=image/jpeg:https://restaurant-fjorden.dk/wp-content/uploads/20260128_131429-scaled.jpg
END:VEVENT
BEGIN:VEVENT
DTSTART;TZID=Europe/Copenhagen:20260823T170000
DTEND;TZID=Europe/Copenhagen:20260823T193000
DTSTAMP:20260421T234331
CREATED:20260129T151448Z
LAST-MODIFIED:20260416T130445Z
UID:10001758-1787504400-1787513400@restaurant-fjorden.dk
SUMMARY:Fjordens Plankesteak
DESCRIPTION:Vi kører med 2 nye retter Fredag til Søndag fra 17:00-19:30 \nFjordens Plankesteak – Kr. 289\,00 \nDet er Pasta vendt i mornaysauce med kylling og grøntsager – Kr. 155\,00 \n  \nHusk at bestille bord\, hvis du vil sikre dig en plads.
URL:https://restaurant-fjorden.dk/event/fjordens-plankesteak/2026-08-23/
LOCATION:Restaurant Fjorden\, Hestehovedet 5\, Nakskov\, 4900
ATTACH;FMTTYPE=image/jpeg:https://restaurant-fjorden.dk/wp-content/uploads/20260128_131429-scaled.jpg
END:VEVENT
BEGIN:VEVENT
DTSTART;TZID=Europe/Copenhagen:20260827T170000
DTEND;TZID=Europe/Copenhagen:20260827T193000
DTSTAMP:20260421T234331
CREATED:20251229T095001Z
LAST-MODIFIED:20260127T091317Z
UID:10001653-1787850000-1787859000@restaurant-fjorden.dk
SUMMARY:Stegt flæsk ad libitum
DESCRIPTION:AD LIBITUM\nTORSDAGE KL. 17:00\n\n\nSTEGT FLÆSK MED HVIDE KARTOFLER PERSILLESOVS\nOG HJEMMESYLTEDE RØDBEDER. \nDerudover tilbyder vi et mini A La Carte kort\nFRA KL. 17:00.\nKR. 179\,-
URL:https://restaurant-fjorden.dk/event/stegt-flaesk-ad-libitum-2/2026-08-27/
LOCATION:Restaurant Fjorden\, Hestehovedet 5\, Nakskov\, 4900
ATTACH;FMTTYPE=image/jpeg:https://restaurant-fjorden.dk/wp-content/uploads/IMG_20161013_182621-scaled.jpg
END:VEVENT
BEGIN:VEVENT
DTSTART;TZID=Europe/Copenhagen:20260828T170000
DTEND;TZID=Europe/Copenhagen:20260828T193000
DTSTAMP:20260421T234331
CREATED:20260129T151448Z
LAST-MODIFIED:20260416T130445Z
UID:10001759-1787936400-1787945400@restaurant-fjorden.dk
SUMMARY:Fjordens Plankesteak
DESCRIPTION:Vi kører med 2 nye retter Fredag til Søndag fra 17:00-19:30 \nFjordens Plankesteak – Kr. 289\,00 \nDet er Pasta vendt i mornaysauce med kylling og grøntsager – Kr. 155\,00 \n  \nHusk at bestille bord\, hvis du vil sikre dig en plads.
URL:https://restaurant-fjorden.dk/event/fjordens-plankesteak/2026-08-28/
LOCATION:Restaurant Fjorden\, Hestehovedet 5\, Nakskov\, 4900
ATTACH;FMTTYPE=image/jpeg:https://restaurant-fjorden.dk/wp-content/uploads/20260128_131429-scaled.jpg
END:VEVENT
BEGIN:VEVENT
DTSTART;TZID=Europe/Copenhagen:20260829T170000
DTEND;TZID=Europe/Copenhagen:20260829T193000
DTSTAMP:20260421T234331
CREATED:20260129T151448Z
LAST-MODIFIED:20260416T130445Z
UID:10001760-1788022800-1788031800@restaurant-fjorden.dk
SUMMARY:Fjordens Plankesteak
DESCRIPTION:Vi kører med 2 nye retter Fredag til Søndag fra 17:00-19:30 \nFjordens Plankesteak – Kr. 289\,00 \nDet er Pasta vendt i mornaysauce med kylling og grøntsager – Kr. 155\,00 \n  \nHusk at bestille bord\, hvis du vil sikre dig en plads.
URL:https://restaurant-fjorden.dk/event/fjordens-plankesteak/2026-08-29/
LOCATION:Restaurant Fjorden\, Hestehovedet 5\, Nakskov\, 4900
ATTACH;FMTTYPE=image/jpeg:https://restaurant-fjorden.dk/wp-content/uploads/20260128_131429-scaled.jpg
END:VEVENT
BEGIN:VEVENT
DTSTART;TZID=Europe/Copenhagen:20260830T170000
DTEND;TZID=Europe/Copenhagen:20260830T193000
DTSTAMP:20260421T234331
CREATED:20260129T151448Z
LAST-MODIFIED:20260416T130445Z
UID:10001761-1788109200-1788118200@restaurant-fjorden.dk
SUMMARY:Fjordens Plankesteak
DESCRIPTION:Vi kører med 2 nye retter Fredag til Søndag fra 17:00-19:30 \nFjordens Plankesteak – Kr. 289\,00 \nDet er Pasta vendt i mornaysauce med kylling og grøntsager – Kr. 155\,00 \n  \nHusk at bestille bord\, hvis du vil sikre dig en plads.
URL:https://restaurant-fjorden.dk/event/fjordens-plankesteak/2026-08-30/
LOCATION:Restaurant Fjorden\, Hestehovedet 5\, Nakskov\, 4900
ATTACH;FMTTYPE=image/jpeg:https://restaurant-fjorden.dk/wp-content/uploads/20260128_131429-scaled.jpg
END:VEVENT
BEGIN:VEVENT
DTSTART;TZID=Europe/Copenhagen:20260903T170000
DTEND;TZID=Europe/Copenhagen:20260903T193000
DTSTAMP:20260421T234331
CREATED:20251229T095001Z
LAST-MODIFIED:20260127T091317Z
UID:10001654-1788454800-1788463800@restaurant-fjorden.dk
SUMMARY:Stegt flæsk ad libitum
DESCRIPTION:AD LIBITUM\nTORSDAGE KL. 17:00\n\n\nSTEGT FLÆSK MED HVIDE KARTOFLER PERSILLESOVS\nOG HJEMMESYLTEDE RØDBEDER. \nDerudover tilbyder vi et mini A La Carte kort\nFRA KL. 17:00.\nKR. 179\,-
URL:https://restaurant-fjorden.dk/event/stegt-flaesk-ad-libitum-2/2026-09-03/
LOCATION:Restaurant Fjorden\, Hestehovedet 5\, Nakskov\, 4900
ATTACH;FMTTYPE=image/jpeg:https://restaurant-fjorden.dk/wp-content/uploads/IMG_20161013_182621-scaled.jpg
END:VEVENT
BEGIN:VEVENT
DTSTART;TZID=Europe/Copenhagen:20260904T170000
DTEND;TZID=Europe/Copenhagen:20260904T193000
DTSTAMP:20260421T234331
CREATED:20260129T151448Z
LAST-MODIFIED:20260416T130445Z
UID:10001762-1788541200-1788550200@restaurant-fjorden.dk
SUMMARY:Fjordens Plankesteak
DESCRIPTION:Vi kører med 2 nye retter Fredag til Søndag fra 17:00-19:30 \nFjordens Plankesteak – Kr. 289\,00 \nDet er Pasta vendt i mornaysauce med kylling og grøntsager – Kr. 155\,00 \n  \nHusk at bestille bord\, hvis du vil sikre dig en plads.
URL:https://restaurant-fjorden.dk/event/fjordens-plankesteak/2026-09-04/
LOCATION:Restaurant Fjorden\, Hestehovedet 5\, Nakskov\, 4900
ATTACH;FMTTYPE=image/jpeg:https://restaurant-fjorden.dk/wp-content/uploads/20260128_131429-scaled.jpg
END:VEVENT
BEGIN:VEVENT
DTSTART;TZID=Europe/Copenhagen:20260905T170000
DTEND;TZID=Europe/Copenhagen:20260905T193000
DTSTAMP:20260421T234331
CREATED:20260129T151448Z
LAST-MODIFIED:20260416T130445Z
UID:10001763-1788627600-1788636600@restaurant-fjorden.dk
SUMMARY:Fjordens Plankesteak
DESCRIPTION:Vi kører med 2 nye retter Fredag til Søndag fra 17:00-19:30 \nFjordens Plankesteak – Kr. 289\,00 \nDet er Pasta vendt i mornaysauce med kylling og grøntsager – Kr. 155\,00 \n  \nHusk at bestille bord\, hvis du vil sikre dig en plads.
URL:https://restaurant-fjorden.dk/event/fjordens-plankesteak/2026-09-05/
LOCATION:Restaurant Fjorden\, Hestehovedet 5\, Nakskov\, 4900
ATTACH;FMTTYPE=image/jpeg:https://restaurant-fjorden.dk/wp-content/uploads/20260128_131429-scaled.jpg
END:VEVENT
BEGIN:VEVENT
DTSTART;TZID=Europe/Copenhagen:20260906T170000
DTEND;TZID=Europe/Copenhagen:20260906T193000
DTSTAMP:20260421T234331
CREATED:20260129T151448Z
LAST-MODIFIED:20260416T130445Z
UID:10001764-1788714000-1788723000@restaurant-fjorden.dk
SUMMARY:Fjordens Plankesteak
DESCRIPTION:Vi kører med 2 nye retter Fredag til Søndag fra 17:00-19:30 \nFjordens Plankesteak – Kr. 289\,00 \nDet er Pasta vendt i mornaysauce med kylling og grøntsager – Kr. 155\,00 \n  \nHusk at bestille bord\, hvis du vil sikre dig en plads.
URL:https://restaurant-fjorden.dk/event/fjordens-plankesteak/2026-09-06/
LOCATION:Restaurant Fjorden\, Hestehovedet 5\, Nakskov\, 4900
ATTACH;FMTTYPE=image/jpeg:https://restaurant-fjorden.dk/wp-content/uploads/20260128_131429-scaled.jpg
END:VEVENT
BEGIN:VEVENT
DTSTART;TZID=Europe/Copenhagen:20260910T170000
DTEND;TZID=Europe/Copenhagen:20260910T193000
DTSTAMP:20260421T234331
CREATED:20251229T095001Z
LAST-MODIFIED:20260127T091317Z
UID:10001655-1789059600-1789068600@restaurant-fjorden.dk
SUMMARY:Stegt flæsk ad libitum
DESCRIPTION:AD LIBITUM\nTORSDAGE KL. 17:00\n\n\nSTEGT FLÆSK MED HVIDE KARTOFLER PERSILLESOVS\nOG HJEMMESYLTEDE RØDBEDER. \nDerudover tilbyder vi et mini A La Carte kort\nFRA KL. 17:00.\nKR. 179\,-
URL:https://restaurant-fjorden.dk/event/stegt-flaesk-ad-libitum-2/2026-09-10/
LOCATION:Restaurant Fjorden\, Hestehovedet 5\, Nakskov\, 4900
ATTACH;FMTTYPE=image/jpeg:https://restaurant-fjorden.dk/wp-content/uploads/IMG_20161013_182621-scaled.jpg
END:VEVENT
BEGIN:VEVENT
DTSTART;TZID=Europe/Copenhagen:20260911T170000
DTEND;TZID=Europe/Copenhagen:20260911T193000
DTSTAMP:20260421T234331
CREATED:20260129T151448Z
LAST-MODIFIED:20260416T130445Z
UID:10001765-1789146000-1789155000@restaurant-fjorden.dk
SUMMARY:Fjordens Plankesteak
DESCRIPTION:Vi kører med 2 nye retter Fredag til Søndag fra 17:00-19:30 \nFjordens Plankesteak – Kr. 289\,00 \nDet er Pasta vendt i mornaysauce med kylling og grøntsager – Kr. 155\,00 \n  \nHusk at bestille bord\, hvis du vil sikre dig en plads.
URL:https://restaurant-fjorden.dk/event/fjordens-plankesteak/2026-09-11/
LOCATION:Restaurant Fjorden\, Hestehovedet 5\, Nakskov\, 4900
ATTACH;FMTTYPE=image/jpeg:https://restaurant-fjorden.dk/wp-content/uploads/20260128_131429-scaled.jpg
END:VEVENT
BEGIN:VEVENT
DTSTART;TZID=Europe/Copenhagen:20260912T170000
DTEND;TZID=Europe/Copenhagen:20260912T193000
DTSTAMP:20260421T234331
CREATED:20260129T151448Z
LAST-MODIFIED:20260416T130445Z
UID:10001766-1789232400-1789241400@restaurant-fjorden.dk
SUMMARY:Fjordens Plankesteak
DESCRIPTION:Vi kører med 2 nye retter Fredag til Søndag fra 17:00-19:30 \nFjordens Plankesteak – Kr. 289\,00 \nDet er Pasta vendt i mornaysauce med kylling og grøntsager – Kr. 155\,00 \n  \nHusk at bestille bord\, hvis du vil sikre dig en plads.
URL:https://restaurant-fjorden.dk/event/fjordens-plankesteak/2026-09-12/
LOCATION:Restaurant Fjorden\, Hestehovedet 5\, Nakskov\, 4900
ATTACH;FMTTYPE=image/jpeg:https://restaurant-fjorden.dk/wp-content/uploads/20260128_131429-scaled.jpg
END:VEVENT
BEGIN:VEVENT
DTSTART;TZID=Europe/Copenhagen:20260913T170000
DTEND;TZID=Europe/Copenhagen:20260913T193000
DTSTAMP:20260421T234331
CREATED:20260129T151448Z
LAST-MODIFIED:20260416T130445Z
UID:10001767-1789318800-1789327800@restaurant-fjorden.dk
SUMMARY:Fjordens Plankesteak
DESCRIPTION:Vi kører med 2 nye retter Fredag til Søndag fra 17:00-19:30 \nFjordens Plankesteak – Kr. 289\,00 \nDet er Pasta vendt i mornaysauce med kylling og grøntsager – Kr. 155\,00 \n  \nHusk at bestille bord\, hvis du vil sikre dig en plads.
URL:https://restaurant-fjorden.dk/event/fjordens-plankesteak/2026-09-13/
LOCATION:Restaurant Fjorden\, Hestehovedet 5\, Nakskov\, 4900
ATTACH;FMTTYPE=image/jpeg:https://restaurant-fjorden.dk/wp-content/uploads/20260128_131429-scaled.jpg
END:VEVENT
BEGIN:VEVENT
DTSTART;TZID=Europe/Copenhagen:20260917T170000
DTEND;TZID=Europe/Copenhagen:20260917T193000
DTSTAMP:20260421T234331
CREATED:20251229T095001Z
LAST-MODIFIED:20260127T091317Z
UID:10001656-1789664400-1789673400@restaurant-fjorden.dk
SUMMARY:Stegt flæsk ad libitum
DESCRIPTION:AD LIBITUM\nTORSDAGE KL. 17:00\n\n\nSTEGT FLÆSK MED HVIDE KARTOFLER PERSILLESOVS\nOG HJEMMESYLTEDE RØDBEDER. \nDerudover tilbyder vi et mini A La Carte kort\nFRA KL. 17:00.\nKR. 179\,-
URL:https://restaurant-fjorden.dk/event/stegt-flaesk-ad-libitum-2/2026-09-17/
LOCATION:Restaurant Fjorden\, Hestehovedet 5\, Nakskov\, 4900
ATTACH;FMTTYPE=image/jpeg:https://restaurant-fjorden.dk/wp-content/uploads/IMG_20161013_182621-scaled.jpg
END:VEVENT
END:VCALENDAR