BEGIN:VCALENDAR
VERSION:2.0
PRODID:-//Restaurant Fjorden - ECPv6.15.20//NONSGML v1.0//EN
CALSCALE:GREGORIAN
METHOD:PUBLISH
X-WR-CALNAME:Restaurant Fjorden
X-ORIGINAL-URL:https://restaurant-fjorden.dk
X-WR-CALDESC:Begivenheder for Restaurant Fjorden
REFRESH-INTERVAL;VALUE=DURATION:PT1H
X-Robots-Tag:noindex
X-PUBLISHED-TTL:PT1H
BEGIN:VTIMEZONE
TZID:Europe/Copenhagen
BEGIN:DAYLIGHT
TZOFFSETFROM:+0100
TZOFFSETTO:+0200
TZNAME:CEST
DTSTART:20260329T010000
END:DAYLIGHT
BEGIN:STANDARD
TZOFFSETFROM:+0200
TZOFFSETTO:+0100
TZNAME:CET
DTSTART:20261025T010000
END:STANDARD
BEGIN:DAYLIGHT
TZOFFSETFROM:+0100
TZOFFSETTO:+0200
TZNAME:CEST
DTSTART:20270328T010000
END:DAYLIGHT
BEGIN:STANDARD
TZOFFSETFROM:+0200
TZOFFSETTO:+0100
TZNAME:CET
DTSTART:20271031T010000
END:STANDARD
BEGIN:DAYLIGHT
TZOFFSETFROM:+0100
TZOFFSETTO:+0200
TZNAME:CEST
DTSTART:20280326T010000
END:DAYLIGHT
BEGIN:STANDARD
TZOFFSETFROM:+0200
TZOFFSETTO:+0100
TZNAME:CET
DTSTART:20281029T010000
END:STANDARD
END:VTIMEZONE
BEGIN:VEVENT
DTSTART;TZID=Europe/Copenhagen:20270528T170000
DTEND;TZID=Europe/Copenhagen:20270528T193000
DTSTAMP:20260422T202517
CREATED:20260129T151448Z
LAST-MODIFIED:20260416T130445Z
UID:10001876-1811523600-1811532600@restaurant-fjorden.dk
SUMMARY:Fjordens Plankesteak
DESCRIPTION:Vi kører med 2 nye retter Fredag til Søndag fra 17:00-19:30 \nFjordens Plankesteak – Kr. 289\,00 \nDet er Pasta vendt i mornaysauce med kylling og grøntsager – Kr. 155\,00 \n  \nHusk at bestille bord\, hvis du vil sikre dig en plads.
URL:https://restaurant-fjorden.dk/event/fjordens-plankesteak/2027-05-28/
LOCATION:Restaurant Fjorden\, Hestehovedet 5\, Nakskov\, 4900
ATTACH;FMTTYPE=image/jpeg:https://restaurant-fjorden.dk/wp-content/uploads/20260128_131429-scaled.jpg
END:VEVENT
BEGIN:VEVENT
DTSTART;TZID=Europe/Copenhagen:20270529T170000
DTEND;TZID=Europe/Copenhagen:20270529T193000
DTSTAMP:20260422T202517
CREATED:20260129T151448Z
LAST-MODIFIED:20260416T130445Z
UID:10001877-1811610000-1811619000@restaurant-fjorden.dk
SUMMARY:Fjordens Plankesteak
DESCRIPTION:Vi kører med 2 nye retter Fredag til Søndag fra 17:00-19:30 \nFjordens Plankesteak – Kr. 289\,00 \nDet er Pasta vendt i mornaysauce med kylling og grøntsager – Kr. 155\,00 \n  \nHusk at bestille bord\, hvis du vil sikre dig en plads.
URL:https://restaurant-fjorden.dk/event/fjordens-plankesteak/2027-05-29/
LOCATION:Restaurant Fjorden\, Hestehovedet 5\, Nakskov\, 4900
ATTACH;FMTTYPE=image/jpeg:https://restaurant-fjorden.dk/wp-content/uploads/20260128_131429-scaled.jpg
END:VEVENT
BEGIN:VEVENT
DTSTART;TZID=Europe/Copenhagen:20270530T170000
DTEND;TZID=Europe/Copenhagen:20270530T193000
DTSTAMP:20260422T202517
CREATED:20260129T151448Z
LAST-MODIFIED:20260416T130445Z
UID:10001878-1811696400-1811705400@restaurant-fjorden.dk
SUMMARY:Fjordens Plankesteak
DESCRIPTION:Vi kører med 2 nye retter Fredag til Søndag fra 17:00-19:30 \nFjordens Plankesteak – Kr. 289\,00 \nDet er Pasta vendt i mornaysauce med kylling og grøntsager – Kr. 155\,00 \n  \nHusk at bestille bord\, hvis du vil sikre dig en plads.
URL:https://restaurant-fjorden.dk/event/fjordens-plankesteak/2027-05-30/
LOCATION:Restaurant Fjorden\, Hestehovedet 5\, Nakskov\, 4900
ATTACH;FMTTYPE=image/jpeg:https://restaurant-fjorden.dk/wp-content/uploads/20260128_131429-scaled.jpg
END:VEVENT
END:VCALENDAR