BEGIN:VCALENDAR
VERSION:2.0
PRODID:-//Restaurant Fjorden - ECPv6.15.20//NONSGML v1.0//EN
CALSCALE:GREGORIAN
METHOD:PUBLISH
X-WR-CALNAME:Restaurant Fjorden
X-ORIGINAL-URL:https://restaurant-fjorden.dk
X-WR-CALDESC:Begivenheder for Restaurant Fjorden
REFRESH-INTERVAL;VALUE=DURATION:PT1H
X-Robots-Tag:noindex
X-PUBLISHED-TTL:PT1H
BEGIN:VTIMEZONE
TZID:Europe/Copenhagen
BEGIN:DAYLIGHT
TZOFFSETFROM:+0100
TZOFFSETTO:+0200
TZNAME:CEST
DTSTART:20260329T010000
END:DAYLIGHT
BEGIN:STANDARD
TZOFFSETFROM:+0200
TZOFFSETTO:+0100
TZNAME:CET
DTSTART:20261025T010000
END:STANDARD
BEGIN:DAYLIGHT
TZOFFSETFROM:+0100
TZOFFSETTO:+0200
TZNAME:CEST
DTSTART:20270328T010000
END:DAYLIGHT
BEGIN:STANDARD
TZOFFSETFROM:+0200
TZOFFSETTO:+0100
TZNAME:CET
DTSTART:20271031T010000
END:STANDARD
BEGIN:DAYLIGHT
TZOFFSETFROM:+0100
TZOFFSETTO:+0200
TZNAME:CEST
DTSTART:20280326T010000
END:DAYLIGHT
BEGIN:STANDARD
TZOFFSETFROM:+0200
TZOFFSETTO:+0100
TZNAME:CET
DTSTART:20281029T010000
END:STANDARD
END:VTIMEZONE
BEGIN:VEVENT
DTSTART;TZID=Europe/Copenhagen:20270205T170000
DTEND;TZID=Europe/Copenhagen:20270205T193000
DTSTAMP:20260422T134343
CREATED:20260129T151448Z
LAST-MODIFIED:20260416T130445Z
UID:10001828-1801846800-1801855800@restaurant-fjorden.dk
SUMMARY:Fjordens Plankesteak
DESCRIPTION:Vi kører med 2 nye retter Fredag til Søndag fra 17:00-19:30 \nFjordens Plankesteak – Kr. 289\,00 \nDet er Pasta vendt i mornaysauce med kylling og grøntsager – Kr. 155\,00 \n  \nHusk at bestille bord\, hvis du vil sikre dig en plads.
URL:https://restaurant-fjorden.dk/event/fjordens-plankesteak/2027-02-05/
LOCATION:Restaurant Fjorden\, Hestehovedet 5\, Nakskov\, 4900
ATTACH;FMTTYPE=image/jpeg:https://restaurant-fjorden.dk/wp-content/uploads/20260128_131429-scaled.jpg
END:VEVENT
BEGIN:VEVENT
DTSTART;TZID=Europe/Copenhagen:20270206T170000
DTEND;TZID=Europe/Copenhagen:20270206T193000
DTSTAMP:20260422T134343
CREATED:20260129T151448Z
LAST-MODIFIED:20260416T130445Z
UID:10001829-1801933200-1801942200@restaurant-fjorden.dk
SUMMARY:Fjordens Plankesteak
DESCRIPTION:Vi kører med 2 nye retter Fredag til Søndag fra 17:00-19:30 \nFjordens Plankesteak – Kr. 289\,00 \nDet er Pasta vendt i mornaysauce med kylling og grøntsager – Kr. 155\,00 \n  \nHusk at bestille bord\, hvis du vil sikre dig en plads.
URL:https://restaurant-fjorden.dk/event/fjordens-plankesteak/2027-02-06/
LOCATION:Restaurant Fjorden\, Hestehovedet 5\, Nakskov\, 4900
ATTACH;FMTTYPE=image/jpeg:https://restaurant-fjorden.dk/wp-content/uploads/20260128_131429-scaled.jpg
END:VEVENT
BEGIN:VEVENT
DTSTART;TZID=Europe/Copenhagen:20270207T170000
DTEND;TZID=Europe/Copenhagen:20270207T193000
DTSTAMP:20260422T134343
CREATED:20260129T151448Z
LAST-MODIFIED:20260416T130445Z
UID:10001830-1802019600-1802028600@restaurant-fjorden.dk
SUMMARY:Fjordens Plankesteak
DESCRIPTION:Vi kører med 2 nye retter Fredag til Søndag fra 17:00-19:30 \nFjordens Plankesteak – Kr. 289\,00 \nDet er Pasta vendt i mornaysauce med kylling og grøntsager – Kr. 155\,00 \n  \nHusk at bestille bord\, hvis du vil sikre dig en plads.
URL:https://restaurant-fjorden.dk/event/fjordens-plankesteak/2027-02-07/
LOCATION:Restaurant Fjorden\, Hestehovedet 5\, Nakskov\, 4900
ATTACH;FMTTYPE=image/jpeg:https://restaurant-fjorden.dk/wp-content/uploads/20260128_131429-scaled.jpg
END:VEVENT
BEGIN:VEVENT
DTSTART;TZID=Europe/Copenhagen:20270212T170000
DTEND;TZID=Europe/Copenhagen:20270212T193000
DTSTAMP:20260422T134343
CREATED:20260129T151448Z
LAST-MODIFIED:20260416T130445Z
UID:10001831-1802451600-1802460600@restaurant-fjorden.dk
SUMMARY:Fjordens Plankesteak
DESCRIPTION:Vi kører med 2 nye retter Fredag til Søndag fra 17:00-19:30 \nFjordens Plankesteak – Kr. 289\,00 \nDet er Pasta vendt i mornaysauce med kylling og grøntsager – Kr. 155\,00 \n  \nHusk at bestille bord\, hvis du vil sikre dig en plads.
URL:https://restaurant-fjorden.dk/event/fjordens-plankesteak/2027-02-12/
LOCATION:Restaurant Fjorden\, Hestehovedet 5\, Nakskov\, 4900
ATTACH;FMTTYPE=image/jpeg:https://restaurant-fjorden.dk/wp-content/uploads/20260128_131429-scaled.jpg
END:VEVENT
BEGIN:VEVENT
DTSTART;TZID=Europe/Copenhagen:20270213T170000
DTEND;TZID=Europe/Copenhagen:20270213T193000
DTSTAMP:20260422T134343
CREATED:20260129T151448Z
LAST-MODIFIED:20260416T130445Z
UID:10001832-1802538000-1802547000@restaurant-fjorden.dk
SUMMARY:Fjordens Plankesteak
DESCRIPTION:Vi kører med 2 nye retter Fredag til Søndag fra 17:00-19:30 \nFjordens Plankesteak – Kr. 289\,00 \nDet er Pasta vendt i mornaysauce med kylling og grøntsager – Kr. 155\,00 \n  \nHusk at bestille bord\, hvis du vil sikre dig en plads.
URL:https://restaurant-fjorden.dk/event/fjordens-plankesteak/2027-02-13/
LOCATION:Restaurant Fjorden\, Hestehovedet 5\, Nakskov\, 4900
ATTACH;FMTTYPE=image/jpeg:https://restaurant-fjorden.dk/wp-content/uploads/20260128_131429-scaled.jpg
END:VEVENT
BEGIN:VEVENT
DTSTART;TZID=Europe/Copenhagen:20270214T170000
DTEND;TZID=Europe/Copenhagen:20270214T193000
DTSTAMP:20260422T134343
CREATED:20260129T151448Z
LAST-MODIFIED:20260416T130445Z
UID:10001833-1802624400-1802633400@restaurant-fjorden.dk
SUMMARY:Fjordens Plankesteak
DESCRIPTION:Vi kører med 2 nye retter Fredag til Søndag fra 17:00-19:30 \nFjordens Plankesteak – Kr. 289\,00 \nDet er Pasta vendt i mornaysauce med kylling og grøntsager – Kr. 155\,00 \n  \nHusk at bestille bord\, hvis du vil sikre dig en plads.
URL:https://restaurant-fjorden.dk/event/fjordens-plankesteak/2027-02-14/
LOCATION:Restaurant Fjorden\, Hestehovedet 5\, Nakskov\, 4900
ATTACH;FMTTYPE=image/jpeg:https://restaurant-fjorden.dk/wp-content/uploads/20260128_131429-scaled.jpg
END:VEVENT
BEGIN:VEVENT
DTSTART;TZID=Europe/Copenhagen:20270219T170000
DTEND;TZID=Europe/Copenhagen:20270219T193000
DTSTAMP:20260422T134343
CREATED:20260129T151448Z
LAST-MODIFIED:20260416T130445Z
UID:10001834-1803056400-1803065400@restaurant-fjorden.dk
SUMMARY:Fjordens Plankesteak
DESCRIPTION:Vi kører med 2 nye retter Fredag til Søndag fra 17:00-19:30 \nFjordens Plankesteak – Kr. 289\,00 \nDet er Pasta vendt i mornaysauce med kylling og grøntsager – Kr. 155\,00 \n  \nHusk at bestille bord\, hvis du vil sikre dig en plads.
URL:https://restaurant-fjorden.dk/event/fjordens-plankesteak/2027-02-19/
LOCATION:Restaurant Fjorden\, Hestehovedet 5\, Nakskov\, 4900
ATTACH;FMTTYPE=image/jpeg:https://restaurant-fjorden.dk/wp-content/uploads/20260128_131429-scaled.jpg
END:VEVENT
BEGIN:VEVENT
DTSTART;TZID=Europe/Copenhagen:20270220T170000
DTEND;TZID=Europe/Copenhagen:20270220T193000
DTSTAMP:20260422T134343
CREATED:20260129T151448Z
LAST-MODIFIED:20260416T130445Z
UID:10001835-1803142800-1803151800@restaurant-fjorden.dk
SUMMARY:Fjordens Plankesteak
DESCRIPTION:Vi kører med 2 nye retter Fredag til Søndag fra 17:00-19:30 \nFjordens Plankesteak – Kr. 289\,00 \nDet er Pasta vendt i mornaysauce med kylling og grøntsager – Kr. 155\,00 \n  \nHusk at bestille bord\, hvis du vil sikre dig en plads.
URL:https://restaurant-fjorden.dk/event/fjordens-plankesteak/2027-02-20/
LOCATION:Restaurant Fjorden\, Hestehovedet 5\, Nakskov\, 4900
ATTACH;FMTTYPE=image/jpeg:https://restaurant-fjorden.dk/wp-content/uploads/20260128_131429-scaled.jpg
END:VEVENT
BEGIN:VEVENT
DTSTART;TZID=Europe/Copenhagen:20270221T170000
DTEND;TZID=Europe/Copenhagen:20270221T193000
DTSTAMP:20260422T134343
CREATED:20260129T151448Z
LAST-MODIFIED:20260416T130445Z
UID:10001836-1803229200-1803238200@restaurant-fjorden.dk
SUMMARY:Fjordens Plankesteak
DESCRIPTION:Vi kører med 2 nye retter Fredag til Søndag fra 17:00-19:30 \nFjordens Plankesteak – Kr. 289\,00 \nDet er Pasta vendt i mornaysauce med kylling og grøntsager – Kr. 155\,00 \n  \nHusk at bestille bord\, hvis du vil sikre dig en plads.
URL:https://restaurant-fjorden.dk/event/fjordens-plankesteak/2027-02-21/
LOCATION:Restaurant Fjorden\, Hestehovedet 5\, Nakskov\, 4900
ATTACH;FMTTYPE=image/jpeg:https://restaurant-fjorden.dk/wp-content/uploads/20260128_131429-scaled.jpg
END:VEVENT
BEGIN:VEVENT
DTSTART;TZID=Europe/Copenhagen:20270226T170000
DTEND;TZID=Europe/Copenhagen:20270226T193000
DTSTAMP:20260422T134343
CREATED:20260129T151448Z
LAST-MODIFIED:20260416T130445Z
UID:10001837-1803661200-1803670200@restaurant-fjorden.dk
SUMMARY:Fjordens Plankesteak
DESCRIPTION:Vi kører med 2 nye retter Fredag til Søndag fra 17:00-19:30 \nFjordens Plankesteak – Kr. 289\,00 \nDet er Pasta vendt i mornaysauce med kylling og grøntsager – Kr. 155\,00 \n  \nHusk at bestille bord\, hvis du vil sikre dig en plads.
URL:https://restaurant-fjorden.dk/event/fjordens-plankesteak/2027-02-26/
LOCATION:Restaurant Fjorden\, Hestehovedet 5\, Nakskov\, 4900
ATTACH;FMTTYPE=image/jpeg:https://restaurant-fjorden.dk/wp-content/uploads/20260128_131429-scaled.jpg
END:VEVENT
BEGIN:VEVENT
DTSTART;TZID=Europe/Copenhagen:20270227T170000
DTEND;TZID=Europe/Copenhagen:20270227T193000
DTSTAMP:20260422T134343
CREATED:20260129T151448Z
LAST-MODIFIED:20260416T130445Z
UID:10001838-1803747600-1803756600@restaurant-fjorden.dk
SUMMARY:Fjordens Plankesteak
DESCRIPTION:Vi kører med 2 nye retter Fredag til Søndag fra 17:00-19:30 \nFjordens Plankesteak – Kr. 289\,00 \nDet er Pasta vendt i mornaysauce med kylling og grøntsager – Kr. 155\,00 \n  \nHusk at bestille bord\, hvis du vil sikre dig en plads.
URL:https://restaurant-fjorden.dk/event/fjordens-plankesteak/2027-02-27/
LOCATION:Restaurant Fjorden\, Hestehovedet 5\, Nakskov\, 4900
ATTACH;FMTTYPE=image/jpeg:https://restaurant-fjorden.dk/wp-content/uploads/20260128_131429-scaled.jpg
END:VEVENT
BEGIN:VEVENT
DTSTART;TZID=Europe/Copenhagen:20270228T170000
DTEND;TZID=Europe/Copenhagen:20270228T193000
DTSTAMP:20260422T134343
CREATED:20260129T151448Z
LAST-MODIFIED:20260416T130445Z
UID:10001839-1803834000-1803843000@restaurant-fjorden.dk
SUMMARY:Fjordens Plankesteak
DESCRIPTION:Vi kører med 2 nye retter Fredag til Søndag fra 17:00-19:30 \nFjordens Plankesteak – Kr. 289\,00 \nDet er Pasta vendt i mornaysauce med kylling og grøntsager – Kr. 155\,00 \n  \nHusk at bestille bord\, hvis du vil sikre dig en plads.
URL:https://restaurant-fjorden.dk/event/fjordens-plankesteak/2027-02-28/
LOCATION:Restaurant Fjorden\, Hestehovedet 5\, Nakskov\, 4900
ATTACH;FMTTYPE=image/jpeg:https://restaurant-fjorden.dk/wp-content/uploads/20260128_131429-scaled.jpg
END:VEVENT
BEGIN:VEVENT
DTSTART;TZID=Europe/Copenhagen:20270305T170000
DTEND;TZID=Europe/Copenhagen:20270305T193000
DTSTAMP:20260422T134343
CREATED:20260129T151448Z
LAST-MODIFIED:20260416T130445Z
UID:10001840-1804266000-1804275000@restaurant-fjorden.dk
SUMMARY:Fjordens Plankesteak
DESCRIPTION:Vi kører med 2 nye retter Fredag til Søndag fra 17:00-19:30 \nFjordens Plankesteak – Kr. 289\,00 \nDet er Pasta vendt i mornaysauce med kylling og grøntsager – Kr. 155\,00 \n  \nHusk at bestille bord\, hvis du vil sikre dig en plads.
URL:https://restaurant-fjorden.dk/event/fjordens-plankesteak/2027-03-05/
LOCATION:Restaurant Fjorden\, Hestehovedet 5\, Nakskov\, 4900
ATTACH;FMTTYPE=image/jpeg:https://restaurant-fjorden.dk/wp-content/uploads/20260128_131429-scaled.jpg
END:VEVENT
BEGIN:VEVENT
DTSTART;TZID=Europe/Copenhagen:20270306T170000
DTEND;TZID=Europe/Copenhagen:20270306T193000
DTSTAMP:20260422T134343
CREATED:20260129T151448Z
LAST-MODIFIED:20260416T130445Z
UID:10001841-1804352400-1804361400@restaurant-fjorden.dk
SUMMARY:Fjordens Plankesteak
DESCRIPTION:Vi kører med 2 nye retter Fredag til Søndag fra 17:00-19:30 \nFjordens Plankesteak – Kr. 289\,00 \nDet er Pasta vendt i mornaysauce med kylling og grøntsager – Kr. 155\,00 \n  \nHusk at bestille bord\, hvis du vil sikre dig en plads.
URL:https://restaurant-fjorden.dk/event/fjordens-plankesteak/2027-03-06/
LOCATION:Restaurant Fjorden\, Hestehovedet 5\, Nakskov\, 4900
ATTACH;FMTTYPE=image/jpeg:https://restaurant-fjorden.dk/wp-content/uploads/20260128_131429-scaled.jpg
END:VEVENT
BEGIN:VEVENT
DTSTART;TZID=Europe/Copenhagen:20270307T170000
DTEND;TZID=Europe/Copenhagen:20270307T193000
DTSTAMP:20260422T134343
CREATED:20260129T151448Z
LAST-MODIFIED:20260416T130445Z
UID:10001842-1804438800-1804447800@restaurant-fjorden.dk
SUMMARY:Fjordens Plankesteak
DESCRIPTION:Vi kører med 2 nye retter Fredag til Søndag fra 17:00-19:30 \nFjordens Plankesteak – Kr. 289\,00 \nDet er Pasta vendt i mornaysauce med kylling og grøntsager – Kr. 155\,00 \n  \nHusk at bestille bord\, hvis du vil sikre dig en plads.
URL:https://restaurant-fjorden.dk/event/fjordens-plankesteak/2027-03-07/
LOCATION:Restaurant Fjorden\, Hestehovedet 5\, Nakskov\, 4900
ATTACH;FMTTYPE=image/jpeg:https://restaurant-fjorden.dk/wp-content/uploads/20260128_131429-scaled.jpg
END:VEVENT
BEGIN:VEVENT
DTSTART;TZID=Europe/Copenhagen:20270312T170000
DTEND;TZID=Europe/Copenhagen:20270312T193000
DTSTAMP:20260422T134343
CREATED:20260129T151448Z
LAST-MODIFIED:20260416T130445Z
UID:10001843-1804870800-1804879800@restaurant-fjorden.dk
SUMMARY:Fjordens Plankesteak
DESCRIPTION:Vi kører med 2 nye retter Fredag til Søndag fra 17:00-19:30 \nFjordens Plankesteak – Kr. 289\,00 \nDet er Pasta vendt i mornaysauce med kylling og grøntsager – Kr. 155\,00 \n  \nHusk at bestille bord\, hvis du vil sikre dig en plads.
URL:https://restaurant-fjorden.dk/event/fjordens-plankesteak/2027-03-12/
LOCATION:Restaurant Fjorden\, Hestehovedet 5\, Nakskov\, 4900
ATTACH;FMTTYPE=image/jpeg:https://restaurant-fjorden.dk/wp-content/uploads/20260128_131429-scaled.jpg
END:VEVENT
BEGIN:VEVENT
DTSTART;TZID=Europe/Copenhagen:20270313T170000
DTEND;TZID=Europe/Copenhagen:20270313T193000
DTSTAMP:20260422T134343
CREATED:20260129T151448Z
LAST-MODIFIED:20260416T130445Z
UID:10001844-1804957200-1804966200@restaurant-fjorden.dk
SUMMARY:Fjordens Plankesteak
DESCRIPTION:Vi kører med 2 nye retter Fredag til Søndag fra 17:00-19:30 \nFjordens Plankesteak – Kr. 289\,00 \nDet er Pasta vendt i mornaysauce med kylling og grøntsager – Kr. 155\,00 \n  \nHusk at bestille bord\, hvis du vil sikre dig en plads.
URL:https://restaurant-fjorden.dk/event/fjordens-plankesteak/2027-03-13/
LOCATION:Restaurant Fjorden\, Hestehovedet 5\, Nakskov\, 4900
ATTACH;FMTTYPE=image/jpeg:https://restaurant-fjorden.dk/wp-content/uploads/20260128_131429-scaled.jpg
END:VEVENT
BEGIN:VEVENT
DTSTART;TZID=Europe/Copenhagen:20270314T170000
DTEND;TZID=Europe/Copenhagen:20270314T193000
DTSTAMP:20260422T134343
CREATED:20260129T151448Z
LAST-MODIFIED:20260416T130445Z
UID:10001845-1805043600-1805052600@restaurant-fjorden.dk
SUMMARY:Fjordens Plankesteak
DESCRIPTION:Vi kører med 2 nye retter Fredag til Søndag fra 17:00-19:30 \nFjordens Plankesteak – Kr. 289\,00 \nDet er Pasta vendt i mornaysauce med kylling og grøntsager – Kr. 155\,00 \n  \nHusk at bestille bord\, hvis du vil sikre dig en plads.
URL:https://restaurant-fjorden.dk/event/fjordens-plankesteak/2027-03-14/
LOCATION:Restaurant Fjorden\, Hestehovedet 5\, Nakskov\, 4900
ATTACH;FMTTYPE=image/jpeg:https://restaurant-fjorden.dk/wp-content/uploads/20260128_131429-scaled.jpg
END:VEVENT
BEGIN:VEVENT
DTSTART;TZID=Europe/Copenhagen:20270319T170000
DTEND;TZID=Europe/Copenhagen:20270319T193000
DTSTAMP:20260422T134343
CREATED:20260129T151448Z
LAST-MODIFIED:20260416T130445Z
UID:10001846-1805475600-1805484600@restaurant-fjorden.dk
SUMMARY:Fjordens Plankesteak
DESCRIPTION:Vi kører med 2 nye retter Fredag til Søndag fra 17:00-19:30 \nFjordens Plankesteak – Kr. 289\,00 \nDet er Pasta vendt i mornaysauce med kylling og grøntsager – Kr. 155\,00 \n  \nHusk at bestille bord\, hvis du vil sikre dig en plads.
URL:https://restaurant-fjorden.dk/event/fjordens-plankesteak/2027-03-19/
LOCATION:Restaurant Fjorden\, Hestehovedet 5\, Nakskov\, 4900
ATTACH;FMTTYPE=image/jpeg:https://restaurant-fjorden.dk/wp-content/uploads/20260128_131429-scaled.jpg
END:VEVENT
BEGIN:VEVENT
DTSTART;TZID=Europe/Copenhagen:20270320T170000
DTEND;TZID=Europe/Copenhagen:20270320T193000
DTSTAMP:20260422T134343
CREATED:20260129T151448Z
LAST-MODIFIED:20260416T130445Z
UID:10001847-1805562000-1805571000@restaurant-fjorden.dk
SUMMARY:Fjordens Plankesteak
DESCRIPTION:Vi kører med 2 nye retter Fredag til Søndag fra 17:00-19:30 \nFjordens Plankesteak – Kr. 289\,00 \nDet er Pasta vendt i mornaysauce med kylling og grøntsager – Kr. 155\,00 \n  \nHusk at bestille bord\, hvis du vil sikre dig en plads.
URL:https://restaurant-fjorden.dk/event/fjordens-plankesteak/2027-03-20/
LOCATION:Restaurant Fjorden\, Hestehovedet 5\, Nakskov\, 4900
ATTACH;FMTTYPE=image/jpeg:https://restaurant-fjorden.dk/wp-content/uploads/20260128_131429-scaled.jpg
END:VEVENT
BEGIN:VEVENT
DTSTART;TZID=Europe/Copenhagen:20270321T170000
DTEND;TZID=Europe/Copenhagen:20270321T193000
DTSTAMP:20260422T134343
CREATED:20260129T151448Z
LAST-MODIFIED:20260416T130445Z
UID:10001848-1805648400-1805657400@restaurant-fjorden.dk
SUMMARY:Fjordens Plankesteak
DESCRIPTION:Vi kører med 2 nye retter Fredag til Søndag fra 17:00-19:30 \nFjordens Plankesteak – Kr. 289\,00 \nDet er Pasta vendt i mornaysauce med kylling og grøntsager – Kr. 155\,00 \n  \nHusk at bestille bord\, hvis du vil sikre dig en plads.
URL:https://restaurant-fjorden.dk/event/fjordens-plankesteak/2027-03-21/
LOCATION:Restaurant Fjorden\, Hestehovedet 5\, Nakskov\, 4900
ATTACH;FMTTYPE=image/jpeg:https://restaurant-fjorden.dk/wp-content/uploads/20260128_131429-scaled.jpg
END:VEVENT
BEGIN:VEVENT
DTSTART;TZID=Europe/Copenhagen:20270326T170000
DTEND;TZID=Europe/Copenhagen:20270326T193000
DTSTAMP:20260422T134343
CREATED:20260129T151448Z
LAST-MODIFIED:20260416T130445Z
UID:10001849-1806080400-1806089400@restaurant-fjorden.dk
SUMMARY:Fjordens Plankesteak
DESCRIPTION:Vi kører med 2 nye retter Fredag til Søndag fra 17:00-19:30 \nFjordens Plankesteak – Kr. 289\,00 \nDet er Pasta vendt i mornaysauce med kylling og grøntsager – Kr. 155\,00 \n  \nHusk at bestille bord\, hvis du vil sikre dig en plads.
URL:https://restaurant-fjorden.dk/event/fjordens-plankesteak/2027-03-26/
LOCATION:Restaurant Fjorden\, Hestehovedet 5\, Nakskov\, 4900
ATTACH;FMTTYPE=image/jpeg:https://restaurant-fjorden.dk/wp-content/uploads/20260128_131429-scaled.jpg
END:VEVENT
BEGIN:VEVENT
DTSTART;TZID=Europe/Copenhagen:20270327T170000
DTEND;TZID=Europe/Copenhagen:20270327T193000
DTSTAMP:20260422T134343
CREATED:20260129T151448Z
LAST-MODIFIED:20260416T130445Z
UID:10001850-1806166800-1806175800@restaurant-fjorden.dk
SUMMARY:Fjordens Plankesteak
DESCRIPTION:Vi kører med 2 nye retter Fredag til Søndag fra 17:00-19:30 \nFjordens Plankesteak – Kr. 289\,00 \nDet er Pasta vendt i mornaysauce med kylling og grøntsager – Kr. 155\,00 \n  \nHusk at bestille bord\, hvis du vil sikre dig en plads.
URL:https://restaurant-fjorden.dk/event/fjordens-plankesteak/2027-03-27/
LOCATION:Restaurant Fjorden\, Hestehovedet 5\, Nakskov\, 4900
ATTACH;FMTTYPE=image/jpeg:https://restaurant-fjorden.dk/wp-content/uploads/20260128_131429-scaled.jpg
END:VEVENT
BEGIN:VEVENT
DTSTART;TZID=Europe/Copenhagen:20270328T170000
DTEND;TZID=Europe/Copenhagen:20270328T193000
DTSTAMP:20260422T134343
CREATED:20260129T151448Z
LAST-MODIFIED:20260416T130445Z
UID:10001851-1806253200-1806262200@restaurant-fjorden.dk
SUMMARY:Fjordens Plankesteak
DESCRIPTION:Vi kører med 2 nye retter Fredag til Søndag fra 17:00-19:30 \nFjordens Plankesteak – Kr. 289\,00 \nDet er Pasta vendt i mornaysauce med kylling og grøntsager – Kr. 155\,00 \n  \nHusk at bestille bord\, hvis du vil sikre dig en plads.
URL:https://restaurant-fjorden.dk/event/fjordens-plankesteak/2027-03-28/
LOCATION:Restaurant Fjorden\, Hestehovedet 5\, Nakskov\, 4900
ATTACH;FMTTYPE=image/jpeg:https://restaurant-fjorden.dk/wp-content/uploads/20260128_131429-scaled.jpg
END:VEVENT
BEGIN:VEVENT
DTSTART;TZID=Europe/Copenhagen:20270402T170000
DTEND;TZID=Europe/Copenhagen:20270402T193000
DTSTAMP:20260422T134343
CREATED:20260129T151448Z
LAST-MODIFIED:20260416T130445Z
UID:10001852-1806685200-1806694200@restaurant-fjorden.dk
SUMMARY:Fjordens Plankesteak
DESCRIPTION:Vi kører med 2 nye retter Fredag til Søndag fra 17:00-19:30 \nFjordens Plankesteak – Kr. 289\,00 \nDet er Pasta vendt i mornaysauce med kylling og grøntsager – Kr. 155\,00 \n  \nHusk at bestille bord\, hvis du vil sikre dig en plads.
URL:https://restaurant-fjorden.dk/event/fjordens-plankesteak/2027-04-02/
LOCATION:Restaurant Fjorden\, Hestehovedet 5\, Nakskov\, 4900
ATTACH;FMTTYPE=image/jpeg:https://restaurant-fjorden.dk/wp-content/uploads/20260128_131429-scaled.jpg
END:VEVENT
BEGIN:VEVENT
DTSTART;TZID=Europe/Copenhagen:20270403T170000
DTEND;TZID=Europe/Copenhagen:20270403T193000
DTSTAMP:20260422T134343
CREATED:20260129T151448Z
LAST-MODIFIED:20260416T130445Z
UID:10001853-1806771600-1806780600@restaurant-fjorden.dk
SUMMARY:Fjordens Plankesteak
DESCRIPTION:Vi kører med 2 nye retter Fredag til Søndag fra 17:00-19:30 \nFjordens Plankesteak – Kr. 289\,00 \nDet er Pasta vendt i mornaysauce med kylling og grøntsager – Kr. 155\,00 \n  \nHusk at bestille bord\, hvis du vil sikre dig en plads.
URL:https://restaurant-fjorden.dk/event/fjordens-plankesteak/2027-04-03/
LOCATION:Restaurant Fjorden\, Hestehovedet 5\, Nakskov\, 4900
ATTACH;FMTTYPE=image/jpeg:https://restaurant-fjorden.dk/wp-content/uploads/20260128_131429-scaled.jpg
END:VEVENT
BEGIN:VEVENT
DTSTART;TZID=Europe/Copenhagen:20270404T170000
DTEND;TZID=Europe/Copenhagen:20270404T193000
DTSTAMP:20260422T134343
CREATED:20260129T151448Z
LAST-MODIFIED:20260416T130445Z
UID:10001854-1806858000-1806867000@restaurant-fjorden.dk
SUMMARY:Fjordens Plankesteak
DESCRIPTION:Vi kører med 2 nye retter Fredag til Søndag fra 17:00-19:30 \nFjordens Plankesteak – Kr. 289\,00 \nDet er Pasta vendt i mornaysauce med kylling og grøntsager – Kr. 155\,00 \n  \nHusk at bestille bord\, hvis du vil sikre dig en plads.
URL:https://restaurant-fjorden.dk/event/fjordens-plankesteak/2027-04-04/
LOCATION:Restaurant Fjorden\, Hestehovedet 5\, Nakskov\, 4900
ATTACH;FMTTYPE=image/jpeg:https://restaurant-fjorden.dk/wp-content/uploads/20260128_131429-scaled.jpg
END:VEVENT
BEGIN:VEVENT
DTSTART;TZID=Europe/Copenhagen:20270409T170000
DTEND;TZID=Europe/Copenhagen:20270409T193000
DTSTAMP:20260422T134343
CREATED:20260129T151448Z
LAST-MODIFIED:20260416T130445Z
UID:10001855-1807290000-1807299000@restaurant-fjorden.dk
SUMMARY:Fjordens Plankesteak
DESCRIPTION:Vi kører med 2 nye retter Fredag til Søndag fra 17:00-19:30 \nFjordens Plankesteak – Kr. 289\,00 \nDet er Pasta vendt i mornaysauce med kylling og grøntsager – Kr. 155\,00 \n  \nHusk at bestille bord\, hvis du vil sikre dig en plads.
URL:https://restaurant-fjorden.dk/event/fjordens-plankesteak/2027-04-09/
LOCATION:Restaurant Fjorden\, Hestehovedet 5\, Nakskov\, 4900
ATTACH;FMTTYPE=image/jpeg:https://restaurant-fjorden.dk/wp-content/uploads/20260128_131429-scaled.jpg
END:VEVENT
BEGIN:VEVENT
DTSTART;TZID=Europe/Copenhagen:20270410T170000
DTEND;TZID=Europe/Copenhagen:20270410T193000
DTSTAMP:20260422T134343
CREATED:20260129T151448Z
LAST-MODIFIED:20260416T130445Z
UID:10001856-1807376400-1807385400@restaurant-fjorden.dk
SUMMARY:Fjordens Plankesteak
DESCRIPTION:Vi kører med 2 nye retter Fredag til Søndag fra 17:00-19:30 \nFjordens Plankesteak – Kr. 289\,00 \nDet er Pasta vendt i mornaysauce med kylling og grøntsager – Kr. 155\,00 \n  \nHusk at bestille bord\, hvis du vil sikre dig en plads.
URL:https://restaurant-fjorden.dk/event/fjordens-plankesteak/2027-04-10/
LOCATION:Restaurant Fjorden\, Hestehovedet 5\, Nakskov\, 4900
ATTACH;FMTTYPE=image/jpeg:https://restaurant-fjorden.dk/wp-content/uploads/20260128_131429-scaled.jpg
END:VEVENT
BEGIN:VEVENT
DTSTART;TZID=Europe/Copenhagen:20270411T170000
DTEND;TZID=Europe/Copenhagen:20270411T193000
DTSTAMP:20260422T134343
CREATED:20260129T151448Z
LAST-MODIFIED:20260416T130445Z
UID:10001857-1807462800-1807471800@restaurant-fjorden.dk
SUMMARY:Fjordens Plankesteak
DESCRIPTION:Vi kører med 2 nye retter Fredag til Søndag fra 17:00-19:30 \nFjordens Plankesteak – Kr. 289\,00 \nDet er Pasta vendt i mornaysauce med kylling og grøntsager – Kr. 155\,00 \n  \nHusk at bestille bord\, hvis du vil sikre dig en plads.
URL:https://restaurant-fjorden.dk/event/fjordens-plankesteak/2027-04-11/
LOCATION:Restaurant Fjorden\, Hestehovedet 5\, Nakskov\, 4900
ATTACH;FMTTYPE=image/jpeg:https://restaurant-fjorden.dk/wp-content/uploads/20260128_131429-scaled.jpg
END:VEVENT
END:VCALENDAR