BEGIN:VCALENDAR
VERSION:2.0
PRODID:-//Restaurant Fjorden - ECPv6.15.20//NONSGML v1.0//EN
CALSCALE:GREGORIAN
METHOD:PUBLISH
X-WR-CALNAME:Restaurant Fjorden
X-ORIGINAL-URL:https://restaurant-fjorden.dk
X-WR-CALDESC:Begivenheder for Restaurant Fjorden
REFRESH-INTERVAL;VALUE=DURATION:PT1H
X-Robots-Tag:noindex
X-PUBLISHED-TTL:PT1H
BEGIN:VTIMEZONE
TZID:Europe/Copenhagen
BEGIN:DAYLIGHT
TZOFFSETFROM:+0100
TZOFFSETTO:+0200
TZNAME:CEST
DTSTART:20250330T010000
END:DAYLIGHT
BEGIN:STANDARD
TZOFFSETFROM:+0200
TZOFFSETTO:+0100
TZNAME:CET
DTSTART:20251026T010000
END:STANDARD
BEGIN:DAYLIGHT
TZOFFSETFROM:+0100
TZOFFSETTO:+0200
TZNAME:CEST
DTSTART:20260329T010000
END:DAYLIGHT
BEGIN:STANDARD
TZOFFSETFROM:+0200
TZOFFSETTO:+0100
TZNAME:CET
DTSTART:20261025T010000
END:STANDARD
BEGIN:DAYLIGHT
TZOFFSETFROM:+0100
TZOFFSETTO:+0200
TZNAME:CEST
DTSTART:20270328T010000
END:DAYLIGHT
BEGIN:STANDARD
TZOFFSETFROM:+0200
TZOFFSETTO:+0100
TZNAME:CET
DTSTART:20271031T010000
END:STANDARD
END:VTIMEZONE
BEGIN:VEVENT
DTSTART;TZID=Europe/Copenhagen:20260419T170000
DTEND;TZID=Europe/Copenhagen:20260419T193000
DTSTAMP:20260421T133807
CREATED:20260129T151448Z
LAST-MODIFIED:20260416T130445Z
UID:10001704-1776618000-1776627000@restaurant-fjorden.dk
SUMMARY:Fjordens Plankesteak
DESCRIPTION:Vi kører med 2 nye retter Fredag til Søndag fra 17:00-19:30 \nFjordens Plankesteak – Kr. 289\,00 \nDet er Pasta vendt i mornaysauce med kylling og grøntsager – Kr. 155\,00 \n  \nHusk at bestille bord\, hvis du vil sikre dig en plads.
URL:https://restaurant-fjorden.dk/event/fjordens-plankesteak/2026-04-19/
LOCATION:Restaurant Fjorden\, Hestehovedet 5\, Nakskov\, 4900
ATTACH;FMTTYPE=image/jpeg:https://restaurant-fjorden.dk/wp-content/uploads/20260128_131429-scaled.jpg
END:VEVENT
BEGIN:VEVENT
DTSTART;TZID=Europe/Copenhagen:20260418T170000
DTEND;TZID=Europe/Copenhagen:20260418T193000
DTSTAMP:20260421T133807
CREATED:20260129T151448Z
LAST-MODIFIED:20260416T130445Z
UID:10001703-1776531600-1776540600@restaurant-fjorden.dk
SUMMARY:Fjordens Plankesteak
DESCRIPTION:Vi kører med 2 nye retter Fredag til Søndag fra 17:00-19:30 \nFjordens Plankesteak – Kr. 289\,00 \nDet er Pasta vendt i mornaysauce med kylling og grøntsager – Kr. 155\,00 \n  \nHusk at bestille bord\, hvis du vil sikre dig en plads.
URL:https://restaurant-fjorden.dk/event/fjordens-plankesteak/2026-04-18/
LOCATION:Restaurant Fjorden\, Hestehovedet 5\, Nakskov\, 4900
ATTACH;FMTTYPE=image/jpeg:https://restaurant-fjorden.dk/wp-content/uploads/20260128_131429-scaled.jpg
END:VEVENT
BEGIN:VEVENT
DTSTART;TZID=Europe/Copenhagen:20260417T170000
DTEND;TZID=Europe/Copenhagen:20260417T193000
DTSTAMP:20260421T133807
CREATED:20260129T151448Z
LAST-MODIFIED:20260416T130445Z
UID:10001702-1776445200-1776454200@restaurant-fjorden.dk
SUMMARY:Fjordens Plankesteak
DESCRIPTION:Vi kører med 2 nye retter Fredag til Søndag fra 17:00-19:30 \nFjordens Plankesteak – Kr. 289\,00 \nDet er Pasta vendt i mornaysauce med kylling og grøntsager – Kr. 155\,00 \n  \nHusk at bestille bord\, hvis du vil sikre dig en plads.
URL:https://restaurant-fjorden.dk/event/fjordens-plankesteak/2026-04-17/
LOCATION:Restaurant Fjorden\, Hestehovedet 5\, Nakskov\, 4900
ATTACH;FMTTYPE=image/jpeg:https://restaurant-fjorden.dk/wp-content/uploads/20260128_131429-scaled.jpg
END:VEVENT
BEGIN:VEVENT
DTSTART;TZID=Europe/Copenhagen:20260416T170000
DTEND;TZID=Europe/Copenhagen:20260416T193000
DTSTAMP:20260421T133807
CREATED:20251229T095001Z
LAST-MODIFIED:20260127T091317Z
UID:10001634-1776358800-1776367800@restaurant-fjorden.dk
SUMMARY:Stegt flæsk ad libitum
DESCRIPTION:AD LIBITUM\nTORSDAGE KL. 17:00\n\n\nSTEGT FLÆSK MED HVIDE KARTOFLER PERSILLESOVS\nOG HJEMMESYLTEDE RØDBEDER. \nDerudover tilbyder vi et mini A La Carte kort\nFRA KL. 17:00.\nKR. 179\,-
URL:https://restaurant-fjorden.dk/event/stegt-flaesk-ad-libitum-2/2026-04-16/
LOCATION:Restaurant Fjorden\, Hestehovedet 5\, Nakskov\, 4900
ATTACH;FMTTYPE=image/jpeg:https://restaurant-fjorden.dk/wp-content/uploads/IMG_20161013_182621-scaled.jpg
END:VEVENT
BEGIN:VEVENT
DTSTART;TZID=Europe/Copenhagen:20260412T170000
DTEND;TZID=Europe/Copenhagen:20260412T193000
DTSTAMP:20260421T133807
CREATED:20260129T151448Z
LAST-MODIFIED:20260416T130445Z
UID:10001701-1776013200-1776022200@restaurant-fjorden.dk
SUMMARY:Fjordens Plankesteak
DESCRIPTION:Vi kører med 2 nye retter Fredag til Søndag fra 17:00-19:30 \nFjordens Plankesteak – Kr. 289\,00 \nDet er Pasta vendt i mornaysauce med kylling og grøntsager – Kr. 155\,00 \n  \nHusk at bestille bord\, hvis du vil sikre dig en plads.
URL:https://restaurant-fjorden.dk/event/fjordens-plankesteak/2026-04-12/
LOCATION:Restaurant Fjorden\, Hestehovedet 5\, Nakskov\, 4900
ATTACH;FMTTYPE=image/jpeg:https://restaurant-fjorden.dk/wp-content/uploads/20260128_131429-scaled.jpg
END:VEVENT
BEGIN:VEVENT
DTSTART;TZID=Europe/Copenhagen:20260411T170000
DTEND;TZID=Europe/Copenhagen:20260411T193000
DTSTAMP:20260421T133807
CREATED:20260129T151448Z
LAST-MODIFIED:20260416T130445Z
UID:10001700-1775926800-1775935800@restaurant-fjorden.dk
SUMMARY:Fjordens Plankesteak
DESCRIPTION:Vi kører med 2 nye retter Fredag til Søndag fra 17:00-19:30 \nFjordens Plankesteak – Kr. 289\,00 \nDet er Pasta vendt i mornaysauce med kylling og grøntsager – Kr. 155\,00 \n  \nHusk at bestille bord\, hvis du vil sikre dig en plads.
URL:https://restaurant-fjorden.dk/event/fjordens-plankesteak/2026-04-11/
LOCATION:Restaurant Fjorden\, Hestehovedet 5\, Nakskov\, 4900
ATTACH;FMTTYPE=image/jpeg:https://restaurant-fjorden.dk/wp-content/uploads/20260128_131429-scaled.jpg
END:VEVENT
BEGIN:VEVENT
DTSTART;TZID=Europe/Copenhagen:20260410T170000
DTEND;TZID=Europe/Copenhagen:20260410T193000
DTSTAMP:20260421T133807
CREATED:20260129T151448Z
LAST-MODIFIED:20260416T130445Z
UID:10001699-1775840400-1775849400@restaurant-fjorden.dk
SUMMARY:Fjordens Plankesteak
DESCRIPTION:Vi kører med 2 nye retter Fredag til Søndag fra 17:00-19:30 \nFjordens Plankesteak – Kr. 289\,00 \nDet er Pasta vendt i mornaysauce med kylling og grøntsager – Kr. 155\,00 \n  \nHusk at bestille bord\, hvis du vil sikre dig en plads.
URL:https://restaurant-fjorden.dk/event/fjordens-plankesteak/2026-04-10/
LOCATION:Restaurant Fjorden\, Hestehovedet 5\, Nakskov\, 4900
ATTACH;FMTTYPE=image/jpeg:https://restaurant-fjorden.dk/wp-content/uploads/20260128_131429-scaled.jpg
END:VEVENT
BEGIN:VEVENT
DTSTART;TZID=Europe/Copenhagen:20260409T170000
DTEND;TZID=Europe/Copenhagen:20260409T193000
DTSTAMP:20260421T133807
CREATED:20251229T095001Z
LAST-MODIFIED:20260127T091317Z
UID:10001633-1775754000-1775763000@restaurant-fjorden.dk
SUMMARY:Stegt flæsk ad libitum
DESCRIPTION:AD LIBITUM\nTORSDAGE KL. 17:00\n\n\nSTEGT FLÆSK MED HVIDE KARTOFLER PERSILLESOVS\nOG HJEMMESYLTEDE RØDBEDER. \nDerudover tilbyder vi et mini A La Carte kort\nFRA KL. 17:00.\nKR. 179\,-
URL:https://restaurant-fjorden.dk/event/stegt-flaesk-ad-libitum-2/2026-04-09/
LOCATION:Restaurant Fjorden\, Hestehovedet 5\, Nakskov\, 4900
ATTACH;FMTTYPE=image/jpeg:https://restaurant-fjorden.dk/wp-content/uploads/IMG_20161013_182621-scaled.jpg
END:VEVENT
BEGIN:VEVENT
DTSTART;TZID=Europe/Copenhagen:20260406T120000
DTEND;TZID=Europe/Copenhagen:20260406T160000
DTSTAMP:20260421T133807
CREATED:20260129T142543Z
LAST-MODIFIED:20260319T111110Z
UID:10001883-1775476800-1775491200@restaurant-fjorden.dk
SUMMARY:Påskefrokost
DESCRIPTION:Påske buffet\n\n\n\n\nPåske buffet  kl. 12:00 \nSkærtorsdag Langfredag\, Påskedag og anden Påskedag kun mod forudbestilling \n\nMarineret sild\nStegte sild i eddike\nFiskefilet med remoulade\n1/2 æg med rejer\nFlæskesteg med rødkål\nLammekølle med persille og hvidløg\nTarteletter med høns i asparges\nHjemmelavet Leverpostej med surt\n3 slags ost\nRabarber trifli\nPetit kagebord\nForskelligt brød og pesto\n\n\nMod forudbestilling \nPris pr. person 249\,- \nBørn under 11 år 98\,- \nEkskl. Drikkevarer
URL:https://restaurant-fjorden.dk/event/paaskefrokost-3/2026-04-06/
LOCATION:Restaurant Fjorden\, Hestehovedet 5\, Nakskov\, 4900
ATTACH;FMTTYPE=image/jpeg:https://restaurant-fjorden.dk/wp-content/uploads/boba-jaglicic-kztp-VpjlBA-unsplash-scaled.jpg
END:VEVENT
BEGIN:VEVENT
DTSTART;TZID=Europe/Copenhagen:20260405T170000
DTEND;TZID=Europe/Copenhagen:20260405T193000
DTSTAMP:20260421T133807
CREATED:20260129T151448Z
LAST-MODIFIED:20260416T130445Z
UID:10001698-1775408400-1775417400@restaurant-fjorden.dk
SUMMARY:Fjordens Plankesteak
DESCRIPTION:Vi kører med 2 nye retter Fredag til Søndag fra 17:00-19:30 \nFjordens Plankesteak – Kr. 289\,00 \nDet er Pasta vendt i mornaysauce med kylling og grøntsager – Kr. 155\,00 \n  \nHusk at bestille bord\, hvis du vil sikre dig en plads.
URL:https://restaurant-fjorden.dk/event/fjordens-plankesteak/2026-04-05/
LOCATION:Restaurant Fjorden\, Hestehovedet 5\, Nakskov\, 4900
ATTACH;FMTTYPE=image/jpeg:https://restaurant-fjorden.dk/wp-content/uploads/20260128_131429-scaled.jpg
END:VEVENT
BEGIN:VEVENT
DTSTART;TZID=Europe/Copenhagen:20260405T120000
DTEND;TZID=Europe/Copenhagen:20260405T160000
DTSTAMP:20260421T133807
CREATED:20260129T142543Z
LAST-MODIFIED:20260319T111110Z
UID:10001882-1775390400-1775404800@restaurant-fjorden.dk
SUMMARY:Påskefrokost
DESCRIPTION:Påske buffet\n\n\n\n\nPåske buffet  kl. 12:00 \nSkærtorsdag Langfredag\, Påskedag og anden Påskedag kun mod forudbestilling \n\nMarineret sild\nStegte sild i eddike\nFiskefilet med remoulade\n1/2 æg med rejer\nFlæskesteg med rødkål\nLammekølle med persille og hvidløg\nTarteletter med høns i asparges\nHjemmelavet Leverpostej med surt\n3 slags ost\nRabarber trifli\nPetit kagebord\nForskelligt brød og pesto\n\n\nMod forudbestilling \nPris pr. person 249\,- \nBørn under 11 år 98\,- \nEkskl. Drikkevarer
URL:https://restaurant-fjorden.dk/event/paaskefrokost-3/2026-04-05/
LOCATION:Restaurant Fjorden\, Hestehovedet 5\, Nakskov\, 4900
ATTACH;FMTTYPE=image/jpeg:https://restaurant-fjorden.dk/wp-content/uploads/boba-jaglicic-kztp-VpjlBA-unsplash-scaled.jpg
END:VEVENT
BEGIN:VEVENT
DTSTART;TZID=Europe/Copenhagen:20260404T170000
DTEND;TZID=Europe/Copenhagen:20260404T193000
DTSTAMP:20260421T133807
CREATED:20260129T151448Z
LAST-MODIFIED:20260416T130445Z
UID:10001697-1775322000-1775331000@restaurant-fjorden.dk
SUMMARY:Fjordens Plankesteak
DESCRIPTION:Vi kører med 2 nye retter Fredag til Søndag fra 17:00-19:30 \nFjordens Plankesteak – Kr. 289\,00 \nDet er Pasta vendt i mornaysauce med kylling og grøntsager – Kr. 155\,00 \n  \nHusk at bestille bord\, hvis du vil sikre dig en plads.
URL:https://restaurant-fjorden.dk/event/fjordens-plankesteak/2026-04-04/
LOCATION:Restaurant Fjorden\, Hestehovedet 5\, Nakskov\, 4900
ATTACH;FMTTYPE=image/jpeg:https://restaurant-fjorden.dk/wp-content/uploads/20260128_131429-scaled.jpg
END:VEVENT
BEGIN:VEVENT
DTSTART;TZID=Europe/Copenhagen:20260403T170000
DTEND;TZID=Europe/Copenhagen:20260403T193000
DTSTAMP:20260421T133807
CREATED:20260129T151448Z
LAST-MODIFIED:20260416T130445Z
UID:10001696-1775235600-1775244600@restaurant-fjorden.dk
SUMMARY:Fjordens Plankesteak
DESCRIPTION:Vi kører med 2 nye retter Fredag til Søndag fra 17:00-19:30 \nFjordens Plankesteak – Kr. 289\,00 \nDet er Pasta vendt i mornaysauce med kylling og grøntsager – Kr. 155\,00 \n  \nHusk at bestille bord\, hvis du vil sikre dig en plads.
URL:https://restaurant-fjorden.dk/event/fjordens-plankesteak/2026-04-03/
LOCATION:Restaurant Fjorden\, Hestehovedet 5\, Nakskov\, 4900
ATTACH;FMTTYPE=image/jpeg:https://restaurant-fjorden.dk/wp-content/uploads/20260128_131429-scaled.jpg
END:VEVENT
BEGIN:VEVENT
DTSTART;TZID=Europe/Copenhagen:20260403T120000
DTEND;TZID=Europe/Copenhagen:20260403T160000
DTSTAMP:20260421T133807
CREATED:20260129T142543Z
LAST-MODIFIED:20260319T111110Z
UID:10001667-1775217600-1775232000@restaurant-fjorden.dk
SUMMARY:Påskefrokost
DESCRIPTION:Påske buffet\n\n\n\n\nPåske buffet  kl. 12:00 \nSkærtorsdag Langfredag\, Påskedag og anden Påskedag kun mod forudbestilling \n\nMarineret sild\nStegte sild i eddike\nFiskefilet med remoulade\n1/2 æg med rejer\nFlæskesteg med rødkål\nLammekølle med persille og hvidløg\nTarteletter med høns i asparges\nHjemmelavet Leverpostej med surt\n3 slags ost\nRabarber trifli\nPetit kagebord\nForskelligt brød og pesto\n\n\nMod forudbestilling \nPris pr. person 249\,- \nBørn under 11 år 98\,- \nEkskl. Drikkevarer
URL:https://restaurant-fjorden.dk/event/paaskefrokost-3/2026-04-03/
LOCATION:Restaurant Fjorden\, Hestehovedet 5\, Nakskov\, 4900
ATTACH;FMTTYPE=image/jpeg:https://restaurant-fjorden.dk/wp-content/uploads/boba-jaglicic-kztp-VpjlBA-unsplash-scaled.jpg
END:VEVENT
BEGIN:VEVENT
DTSTART;TZID=Europe/Copenhagen:20260402T170000
DTEND;TZID=Europe/Copenhagen:20260402T193000
DTSTAMP:20260421T133807
CREATED:20251229T095001Z
LAST-MODIFIED:20260127T091317Z
UID:10001632-1775149200-1775158200@restaurant-fjorden.dk
SUMMARY:Stegt flæsk ad libitum
DESCRIPTION:AD LIBITUM\nTORSDAGE KL. 17:00\n\n\nSTEGT FLÆSK MED HVIDE KARTOFLER PERSILLESOVS\nOG HJEMMESYLTEDE RØDBEDER. \nDerudover tilbyder vi et mini A La Carte kort\nFRA KL. 17:00.\nKR. 179\,-
URL:https://restaurant-fjorden.dk/event/stegt-flaesk-ad-libitum-2/2026-04-02/
LOCATION:Restaurant Fjorden\, Hestehovedet 5\, Nakskov\, 4900
ATTACH;FMTTYPE=image/jpeg:https://restaurant-fjorden.dk/wp-content/uploads/IMG_20161013_182621-scaled.jpg
END:VEVENT
BEGIN:VEVENT
DTSTART;TZID=Europe/Copenhagen:20260402T120000
DTEND;TZID=Europe/Copenhagen:20260402T160000
DTSTAMP:20260421T133807
CREATED:20260129T142543Z
LAST-MODIFIED:20260319T111110Z
UID:10001666-1775131200-1775145600@restaurant-fjorden.dk
SUMMARY:Påskefrokost
DESCRIPTION:Påske buffet\n\n\n\n\nPåske buffet  kl. 12:00 \nSkærtorsdag Langfredag\, Påskedag og anden Påskedag kun mod forudbestilling \n\nMarineret sild\nStegte sild i eddike\nFiskefilet med remoulade\n1/2 æg med rejer\nFlæskesteg med rødkål\nLammekølle med persille og hvidløg\nTarteletter med høns i asparges\nHjemmelavet Leverpostej med surt\n3 slags ost\nRabarber trifli\nPetit kagebord\nForskelligt brød og pesto\n\n\nMod forudbestilling \nPris pr. person 249\,- \nBørn under 11 år 98\,- \nEkskl. Drikkevarer
URL:https://restaurant-fjorden.dk/event/paaskefrokost-3/2026-04-02/
LOCATION:Restaurant Fjorden\, Hestehovedet 5\, Nakskov\, 4900
ATTACH;FMTTYPE=image/jpeg:https://restaurant-fjorden.dk/wp-content/uploads/boba-jaglicic-kztp-VpjlBA-unsplash-scaled.jpg
END:VEVENT
BEGIN:VEVENT
DTSTART;TZID=Europe/Copenhagen:20260329T170000
DTEND;TZID=Europe/Copenhagen:20260329T193000
DTSTAMP:20260421T133807
CREATED:20260129T151448Z
LAST-MODIFIED:20260416T130445Z
UID:10001695-1774803600-1774812600@restaurant-fjorden.dk
SUMMARY:Fjordens Plankesteak
DESCRIPTION:Vi kører med 2 nye retter Fredag til Søndag fra 17:00-19:30 \nFjordens Plankesteak – Kr. 289\,00 \nDet er Pasta vendt i mornaysauce med kylling og grøntsager – Kr. 155\,00 \n  \nHusk at bestille bord\, hvis du vil sikre dig en plads.
URL:https://restaurant-fjorden.dk/event/fjordens-plankesteak/2026-03-29/
LOCATION:Restaurant Fjorden\, Hestehovedet 5\, Nakskov\, 4900
ATTACH;FMTTYPE=image/jpeg:https://restaurant-fjorden.dk/wp-content/uploads/20260128_131429-scaled.jpg
END:VEVENT
BEGIN:VEVENT
DTSTART;TZID=Europe/Copenhagen:20260328T170000
DTEND;TZID=Europe/Copenhagen:20260328T193000
DTSTAMP:20260421T133807
CREATED:20260129T151448Z
LAST-MODIFIED:20260416T130445Z
UID:10001694-1774717200-1774726200@restaurant-fjorden.dk
SUMMARY:Fjordens Plankesteak
DESCRIPTION:Vi kører med 2 nye retter Fredag til Søndag fra 17:00-19:30 \nFjordens Plankesteak – Kr. 289\,00 \nDet er Pasta vendt i mornaysauce med kylling og grøntsager – Kr. 155\,00 \n  \nHusk at bestille bord\, hvis du vil sikre dig en plads.
URL:https://restaurant-fjorden.dk/event/fjordens-plankesteak/2026-03-28/
LOCATION:Restaurant Fjorden\, Hestehovedet 5\, Nakskov\, 4900
ATTACH;FMTTYPE=image/jpeg:https://restaurant-fjorden.dk/wp-content/uploads/20260128_131429-scaled.jpg
END:VEVENT
BEGIN:VEVENT
DTSTART;TZID=Europe/Copenhagen:20260327T170000
DTEND;TZID=Europe/Copenhagen:20260327T193000
DTSTAMP:20260421T133807
CREATED:20260129T151448Z
LAST-MODIFIED:20260416T130445Z
UID:10001693-1774630800-1774639800@restaurant-fjorden.dk
SUMMARY:Fjordens Plankesteak
DESCRIPTION:Vi kører med 2 nye retter Fredag til Søndag fra 17:00-19:30 \nFjordens Plankesteak – Kr. 289\,00 \nDet er Pasta vendt i mornaysauce med kylling og grøntsager – Kr. 155\,00 \n  \nHusk at bestille bord\, hvis du vil sikre dig en plads.
URL:https://restaurant-fjorden.dk/event/fjordens-plankesteak/2026-03-27/
LOCATION:Restaurant Fjorden\, Hestehovedet 5\, Nakskov\, 4900
ATTACH;FMTTYPE=image/jpeg:https://restaurant-fjorden.dk/wp-content/uploads/20260128_131429-scaled.jpg
END:VEVENT
BEGIN:VEVENT
DTSTART;TZID=Europe/Copenhagen:20260326T170000
DTEND;TZID=Europe/Copenhagen:20260326T193000
DTSTAMP:20260421T133807
CREATED:20251229T095001Z
LAST-MODIFIED:20260127T091317Z
UID:10001631-1774544400-1774553400@restaurant-fjorden.dk
SUMMARY:Stegt flæsk ad libitum
DESCRIPTION:AD LIBITUM\nTORSDAGE KL. 17:00\n\n\nSTEGT FLÆSK MED HVIDE KARTOFLER PERSILLESOVS\nOG HJEMMESYLTEDE RØDBEDER. \nDerudover tilbyder vi et mini A La Carte kort\nFRA KL. 17:00.\nKR. 179\,-
URL:https://restaurant-fjorden.dk/event/stegt-flaesk-ad-libitum-2/2026-03-26/
LOCATION:Restaurant Fjorden\, Hestehovedet 5\, Nakskov\, 4900
ATTACH;FMTTYPE=image/jpeg:https://restaurant-fjorden.dk/wp-content/uploads/IMG_20161013_182621-scaled.jpg
END:VEVENT
BEGIN:VEVENT
DTSTART;TZID=Europe/Copenhagen:20260322T170000
DTEND;TZID=Europe/Copenhagen:20260322T193000
DTSTAMP:20260421T133807
CREATED:20260129T151448Z
LAST-MODIFIED:20260416T130445Z
UID:10001692-1774198800-1774207800@restaurant-fjorden.dk
SUMMARY:Fjordens Plankesteak
DESCRIPTION:Vi kører med 2 nye retter Fredag til Søndag fra 17:00-19:30 \nFjordens Plankesteak – Kr. 289\,00 \nDet er Pasta vendt i mornaysauce med kylling og grøntsager – Kr. 155\,00 \n  \nHusk at bestille bord\, hvis du vil sikre dig en plads.
URL:https://restaurant-fjorden.dk/event/fjordens-plankesteak/2026-03-22/
LOCATION:Restaurant Fjorden\, Hestehovedet 5\, Nakskov\, 4900
ATTACH;FMTTYPE=image/jpeg:https://restaurant-fjorden.dk/wp-content/uploads/20260128_131429-scaled.jpg
END:VEVENT
BEGIN:VEVENT
DTSTART;TZID=Europe/Copenhagen:20260321T170000
DTEND;TZID=Europe/Copenhagen:20260321T193000
DTSTAMP:20260421T133807
CREATED:20260129T151448Z
LAST-MODIFIED:20260416T130445Z
UID:10001691-1774112400-1774121400@restaurant-fjorden.dk
SUMMARY:Fjordens Plankesteak
DESCRIPTION:Vi kører med 2 nye retter Fredag til Søndag fra 17:00-19:30 \nFjordens Plankesteak – Kr. 289\,00 \nDet er Pasta vendt i mornaysauce med kylling og grøntsager – Kr. 155\,00 \n  \nHusk at bestille bord\, hvis du vil sikre dig en plads.
URL:https://restaurant-fjorden.dk/event/fjordens-plankesteak/2026-03-21/
LOCATION:Restaurant Fjorden\, Hestehovedet 5\, Nakskov\, 4900
ATTACH;FMTTYPE=image/jpeg:https://restaurant-fjorden.dk/wp-content/uploads/20260128_131429-scaled.jpg
END:VEVENT
BEGIN:VEVENT
DTSTART;TZID=Europe/Copenhagen:20260320T170000
DTEND;TZID=Europe/Copenhagen:20260320T193000
DTSTAMP:20260421T133807
CREATED:20260129T151448Z
LAST-MODIFIED:20260416T130445Z
UID:10001690-1774026000-1774035000@restaurant-fjorden.dk
SUMMARY:Fjordens Plankesteak
DESCRIPTION:Vi kører med 2 nye retter Fredag til Søndag fra 17:00-19:30 \nFjordens Plankesteak – Kr. 289\,00 \nDet er Pasta vendt i mornaysauce med kylling og grøntsager – Kr. 155\,00 \n  \nHusk at bestille bord\, hvis du vil sikre dig en plads.
URL:https://restaurant-fjorden.dk/event/fjordens-plankesteak/2026-03-20/
LOCATION:Restaurant Fjorden\, Hestehovedet 5\, Nakskov\, 4900
ATTACH;FMTTYPE=image/jpeg:https://restaurant-fjorden.dk/wp-content/uploads/20260128_131429-scaled.jpg
END:VEVENT
BEGIN:VEVENT
DTSTART;TZID=Europe/Copenhagen:20260319T170000
DTEND;TZID=Europe/Copenhagen:20260319T193000
DTSTAMP:20260421T133807
CREATED:20251229T095001Z
LAST-MODIFIED:20260127T091317Z
UID:10001630-1773939600-1773948600@restaurant-fjorden.dk
SUMMARY:Stegt flæsk ad libitum
DESCRIPTION:AD LIBITUM\nTORSDAGE KL. 17:00\n\n\nSTEGT FLÆSK MED HVIDE KARTOFLER PERSILLESOVS\nOG HJEMMESYLTEDE RØDBEDER. \nDerudover tilbyder vi et mini A La Carte kort\nFRA KL. 17:00.\nKR. 179\,-
URL:https://restaurant-fjorden.dk/event/stegt-flaesk-ad-libitum-2/2026-03-19/
LOCATION:Restaurant Fjorden\, Hestehovedet 5\, Nakskov\, 4900
ATTACH;FMTTYPE=image/jpeg:https://restaurant-fjorden.dk/wp-content/uploads/IMG_20161013_182621-scaled.jpg
END:VEVENT
BEGIN:VEVENT
DTSTART;TZID=Europe/Copenhagen:20260315T170000
DTEND;TZID=Europe/Copenhagen:20260315T193000
DTSTAMP:20260421T133807
CREATED:20260129T151448Z
LAST-MODIFIED:20260416T130445Z
UID:10001689-1773594000-1773603000@restaurant-fjorden.dk
SUMMARY:Fjordens Plankesteak
DESCRIPTION:Vi kører med 2 nye retter Fredag til Søndag fra 17:00-19:30 \nFjordens Plankesteak – Kr. 289\,00 \nDet er Pasta vendt i mornaysauce med kylling og grøntsager – Kr. 155\,00 \n  \nHusk at bestille bord\, hvis du vil sikre dig en plads.
URL:https://restaurant-fjorden.dk/event/fjordens-plankesteak/2026-03-15/
LOCATION:Restaurant Fjorden\, Hestehovedet 5\, Nakskov\, 4900
ATTACH;FMTTYPE=image/jpeg:https://restaurant-fjorden.dk/wp-content/uploads/20260128_131429-scaled.jpg
END:VEVENT
BEGIN:VEVENT
DTSTART;TZID=Europe/Copenhagen:20260314T170000
DTEND;TZID=Europe/Copenhagen:20260314T193000
DTSTAMP:20260421T133807
CREATED:20260129T151448Z
LAST-MODIFIED:20260416T130445Z
UID:10001688-1773507600-1773516600@restaurant-fjorden.dk
SUMMARY:Fjordens Plankesteak
DESCRIPTION:Vi kører med 2 nye retter Fredag til Søndag fra 17:00-19:30 \nFjordens Plankesteak – Kr. 289\,00 \nDet er Pasta vendt i mornaysauce med kylling og grøntsager – Kr. 155\,00 \n  \nHusk at bestille bord\, hvis du vil sikre dig en plads.
URL:https://restaurant-fjorden.dk/event/fjordens-plankesteak/2026-03-14/
LOCATION:Restaurant Fjorden\, Hestehovedet 5\, Nakskov\, 4900
ATTACH;FMTTYPE=image/jpeg:https://restaurant-fjorden.dk/wp-content/uploads/20260128_131429-scaled.jpg
END:VEVENT
BEGIN:VEVENT
DTSTART;TZID=Europe/Copenhagen:20260313T170000
DTEND;TZID=Europe/Copenhagen:20260313T193000
DTSTAMP:20260421T133807
CREATED:20260129T151448Z
LAST-MODIFIED:20260416T130445Z
UID:10001687-1773421200-1773430200@restaurant-fjorden.dk
SUMMARY:Fjordens Plankesteak
DESCRIPTION:Vi kører med 2 nye retter Fredag til Søndag fra 17:00-19:30 \nFjordens Plankesteak – Kr. 289\,00 \nDet er Pasta vendt i mornaysauce med kylling og grøntsager – Kr. 155\,00 \n  \nHusk at bestille bord\, hvis du vil sikre dig en plads.
URL:https://restaurant-fjorden.dk/event/fjordens-plankesteak/2026-03-13/
LOCATION:Restaurant Fjorden\, Hestehovedet 5\, Nakskov\, 4900
ATTACH;FMTTYPE=image/jpeg:https://restaurant-fjorden.dk/wp-content/uploads/20260128_131429-scaled.jpg
END:VEVENT
BEGIN:VEVENT
DTSTART;TZID=Europe/Copenhagen:20260312T170000
DTEND;TZID=Europe/Copenhagen:20260312T193000
DTSTAMP:20260421T133807
CREATED:20251229T095001Z
LAST-MODIFIED:20260127T091317Z
UID:10001629-1773334800-1773343800@restaurant-fjorden.dk
SUMMARY:Stegt flæsk ad libitum
DESCRIPTION:AD LIBITUM\nTORSDAGE KL. 17:00\n\n\nSTEGT FLÆSK MED HVIDE KARTOFLER PERSILLESOVS\nOG HJEMMESYLTEDE RØDBEDER. \nDerudover tilbyder vi et mini A La Carte kort\nFRA KL. 17:00.\nKR. 179\,-
URL:https://restaurant-fjorden.dk/event/stegt-flaesk-ad-libitum-2/2026-03-12/
LOCATION:Restaurant Fjorden\, Hestehovedet 5\, Nakskov\, 4900
ATTACH;FMTTYPE=image/jpeg:https://restaurant-fjorden.dk/wp-content/uploads/IMG_20161013_182621-scaled.jpg
END:VEVENT
BEGIN:VEVENT
DTSTART;TZID=Europe/Copenhagen:20260308T170000
DTEND;TZID=Europe/Copenhagen:20260308T193000
DTSTAMP:20260421T133807
CREATED:20260129T151448Z
LAST-MODIFIED:20260416T130445Z
UID:10001686-1772989200-1772998200@restaurant-fjorden.dk
SUMMARY:Fjordens Plankesteak
DESCRIPTION:Vi kører med 2 nye retter Fredag til Søndag fra 17:00-19:30 \nFjordens Plankesteak – Kr. 289\,00 \nDet er Pasta vendt i mornaysauce med kylling og grøntsager – Kr. 155\,00 \n  \nHusk at bestille bord\, hvis du vil sikre dig en plads.
URL:https://restaurant-fjorden.dk/event/fjordens-plankesteak/2026-03-08/
LOCATION:Restaurant Fjorden\, Hestehovedet 5\, Nakskov\, 4900
ATTACH;FMTTYPE=image/jpeg:https://restaurant-fjorden.dk/wp-content/uploads/20260128_131429-scaled.jpg
END:VEVENT
BEGIN:VEVENT
DTSTART;TZID=Europe/Copenhagen:20260307T170000
DTEND;TZID=Europe/Copenhagen:20260307T193000
DTSTAMP:20260421T133807
CREATED:20260129T151448Z
LAST-MODIFIED:20260416T130445Z
UID:10001685-1772902800-1772911800@restaurant-fjorden.dk
SUMMARY:Fjordens Plankesteak
DESCRIPTION:Vi kører med 2 nye retter Fredag til Søndag fra 17:00-19:30 \nFjordens Plankesteak – Kr. 289\,00 \nDet er Pasta vendt i mornaysauce med kylling og grøntsager – Kr. 155\,00 \n  \nHusk at bestille bord\, hvis du vil sikre dig en plads.
URL:https://restaurant-fjorden.dk/event/fjordens-plankesteak/2026-03-07/
LOCATION:Restaurant Fjorden\, Hestehovedet 5\, Nakskov\, 4900
ATTACH;FMTTYPE=image/jpeg:https://restaurant-fjorden.dk/wp-content/uploads/20260128_131429-scaled.jpg
END:VEVENT
END:VCALENDAR